BEGIN:VCALENDAR
VERSION:2.0
CALSCALE:GREGORIAN
PRODID:adamgibbons/ics
METHOD:PUBLISH
X-PUBLISHED-TTL:PT1H
BEGIN:VEVENT
UID:116@dubagenda.top
SUMMARY:Ruffline // Au Bon Coin
DTSTAMP:20260421T151353Z
DTSTART:20260306T180000Z
DTEND:20260306T220000Z
DESCRIPTION:RUFF LINE c'est un collectif composé de 4 collectionneurs (Oliv
	a / Lena / Markos\n/ Raf) fondus de reggae sous toutes ses formes créé en 
	2003.\nPour cette soirée Au Bon Coin\, nous vous proposons une avalanche d
	e pépites\nmusicales sous forme de 45t et de dubplates.\nSi la spécialité 
	du crew est le Rub A Dub\, les 4 selectas ont aussi prévu de\nvous embarqu
	er dans plein d'autres styles dérivés du reggae.\n4h de voyage musical ent
	re 19h et 23h - venez tôt!
URL:https://dubagenda.top/event/ruffline-au-bon-coin
GEO:47.2218334;-1.5593342
LOCATION:44000 Nantes // Au Bon Coin - Rue Yves Bodiguel\, Talensac\, Talen
	sac - Pont Morand\, Hauts-Pavés - Saint-Félix\, Nantes\, Loire-Atlantique\
	, Pays de la Loire\, France métropolitaine\, 44000\, France
STATUS:CONFIRMED
CATEGORIES:Nantes,2026,Sound System
X-ALT-DESC;FMTTYPE=text/html:<p>RUFF LINE c'est un collectif composé de 4 c
	ollectionneurs (Oliva / Lena / Markos / Raf) fondus de reggae sous toutes 
	ses formes créé en 2003.<br>Pour cette soirée Au Bon Coin, nous vous propo
	sons une avalanche de pépites musicales sous forme de 45t et de dubplates.
	<br>Si la spécialité du crew est le Rub A Dub, les 4 selectas ont aussi pr
	évu de vous embarquer dans plein d'autres styles dérivés du reggae.<br>4h 
	de voyage musical entre 19h et 23h - venez tôt!</p>
BEGIN:VALARM
ACTION:DISPLAY
DESCRIPTION:Ruffline // Au Bon Coin
TRIGGER:-PT1H
END:VALARM
END:VEVENT
END:VCALENDAR
