BEGIN:VCALENDAR
VERSION:2.0
CALSCALE:GREGORIAN
PRODID:adamgibbons/ics
METHOD:PUBLISH
X-PUBLISHED-TTL:PT1H
BEGIN:VEVENT
UID:57@dubagenda.top
SUMMARY:Ruff Rakam with Djack Crew & Chicken Inna Box
DTSTAMP:20260421T151852Z
DTSTART:20251004T143000Z
DTEND:20251004T233000Z
DESCRIPTION:La famille ! 💥\nOn se retrouve le samedi 4 octobre à la @taproo
	maerofab à Nantes pour une\nsession full sound ☄️\nOn sera en compagnie du 
	@djackcrewsoundsystem (@brownpaper.selecta) et de\n@chicken_inna_box pour 
	une sélection à partir de 16h30 jusqu’à 1h30 🌝\nFamily vibes\, roots & dub
	\nBe there ! 🌻\nBig up @atelier.inna.box [http://atelier.inna.box] pour l’
	affiche 🎨
URL:https://dubagenda.top/event/ruff-rakam-with-djack-crew-and-chicken-ina-
	box
GEO:47.2022774;-1.5726563
LOCATION:44200 Nantes // Taproom Aerofab - Quai des Antilles\, Sainte-Anne 
	- Zone portuaire\, Île de Nantes\, Nantes\, Loire-Atlantique\, Pays de la 
	Loire\, France métropolitaine\, 44276\, France
STATUS:CONFIRMED
CATEGORIES:2025,Nantes,Sound System
X-ALT-DESC;FMTTYPE=text/html:<p>La famille ! 💥<br>On se retrouve le samedi 
	4 octobre à la @taproomaerofab à Nantes pour une session full sound ☄️<br>O
	n sera en compagnie du @djackcrewsoundsystem (@brownpaper.selecta) et de @
	chicken_inna_box pour une sélection à partir de 16h30 jusqu’à 1h30 🌝<br>Fa
	mily vibes, roots &amp; dub<br>Be there ! 🌻<br>Big up @<a target="_blank" 
	href="http://atelier.inna.box">atelier.inna.box</a> pour l’affiche 🎨</p>
BEGIN:VALARM
ACTION:DISPLAY
DESCRIPTION:Ruff Rakam with Djack Crew & Chicken Inna Box
TRIGGER:-PT1H
END:VALARM
END:VEVENT
END:VCALENDAR
