BEGIN:VCALENDAR
VERSION:2.0
CALSCALE:GREGORIAN
PRODID:adamgibbons/ics
METHOD:PUBLISH
X-PUBLISHED-TTL:PT1H
BEGIN:VEVENT
UID:153@dubagenda.top
SUMMARY:Ruff Rakam meets Sub Ground Connexion
DTSTAMP:20260421T134956Z
DTSTART:20260411T150000Z
DTEND:20260411T230000Z
DESCRIPTION:🔊 𝘀𝗮𝗺𝗲𝗱𝗶 𝟭𝟭 𝗮𝘃𝗿𝗶𝗹 : @ruff_rakam_soundsystem in meeting with\n@s
	ubgroundconnexion !!!\nWE COME BACK AGAIN! 𝗥𝘂𝗳𝗳 𝗥𝗮𝗸𝗮𝗺 revient à la taproom
	 accompagné de\n𝗦𝘂𝗯 𝗚𝗿𝗼𝘂𝗻𝗱 𝗖𝗼𝗻𝗻𝗲𝘅𝗶𝗼𝗻. Deux sounds dans la dance pour une\n
	session roots et militante.\n💥 Ruff Rakam- un sound dont les racines s'éti
	rent entre Nantes et Rennes et qui\naffûte une sélection roots et des prod
	uctions maisons depuis 2020. Avec une sono\nfaite à la main\, des dubplate
	s maisons et une control tower artisanale\, Ruff\nRakam cultive l'esprit d
	u DIY pour proposer une sonorité exclusive.\n💥 SubGround connexion- figure
	 inévitable de la scène rennaise où ils n'ont de\ncesse d'organiser des se
	ssions d'anthologie avec une recette simple mais\nefficace: des dubplates 
	originales\, une sono artisanale et un discours militant.\nSubground c'est
	 une sélection pointue et un son inimitable.\n🔊_sound system_roots music\n
	🕣_samedi 11 avril_17h\n💰_entrée gratuite\n📍_Taproom_Aerofab\n21 quai des A
	ntilles\, Nantes
URL:https://dubagenda.top/event/ruff-rakam-meets-sub-ground-connexion
GEO:47.2022774;-1.5726563
LOCATION:44200 Nantes // Taproom Aerofab - Quai des Antilles\, Sainte-Anne 
	- Zone portuaire\, Île de Nantes\, Nantes\, Loire-Atlantique\, Pays de la 
	Loire\, France métropolitaine\, 44276\, France
STATUS:CONFIRMED
CATEGORIES:Nantes,2026,Sound System
X-ALT-DESC;FMTTYPE=text/html:<p>🔊 𝘀𝗮𝗺𝗲𝗱𝗶 𝟭𝟭 𝗮𝘃𝗿𝗶𝗹 : @ruff_rakam_soundsystem
	 in meeting with @subgroundconnexion !!!<br>WE COME BACK AGAIN! 𝗥𝘂𝗳𝗳 𝗥𝗮𝗸𝗮𝗺
	 revient à la taproom accompagné de 𝗦𝘂𝗯 𝗚𝗿𝗼𝘂𝗻𝗱 𝗖𝗼𝗻𝗻𝗲𝘅𝗶𝗼𝗻. Deux sounds dans
	 la dance pour une session roots et militante.<br>💥 Ruff Rakam- un sound d
	ont les racines s'étirent entre Nantes et Rennes et qui affûte une sélecti
	on roots et des productions maisons depuis 2020. Avec une sono faite à la 
	main, des dubplates maisons et une control tower artisanale, Ruff Rakam cu
	ltive l'esprit du DIY pour proposer une sonorité exclusive.<br>💥 SubGround
	 connexion- figure inévitable de la scène rennaise où ils n'ont de cesse d
	'organiser des sessions d'anthologie avec une recette simple mais efficace
	: des dubplates originales, une sono artisanale et un discours militant. S
	ubground c'est une sélection pointue et un son inimitable.<br>🔊_sound syst
	em_roots music<br>🕣_samedi 11 avril_17h<br>💰_entrée gratuite<br>📍_Taproom_
	Aerofab<br>21 quai des Antilles, Nantes</p>
BEGIN:VALARM
ACTION:DISPLAY
DESCRIPTION:Ruff Rakam meets Sub Ground Connexion
TRIGGER:-PT1H
END:VALARM
END:VEVENT
END:VCALENDAR
