BEGIN:VCALENDAR
VERSION:2.0
CALSCALE:GREGORIAN
PRODID:adamgibbons/ics
METHOD:PUBLISH
X-PUBLISHED-TTL:PT1H
BEGIN:VEVENT
UID:76@dubagenda.top
SUMMARY:Rootystep Dj Set
DTSTAMP:20260421T145910Z
DTSTART:20251031T183000Z
DTEND:20251031T230000Z
URL:https://dubagenda.top/event/rootystep-dj-set
GEO:47.2218334;-1.5593342
LOCATION:44000 Nantes // Au Bon Coin - Rue Yves Bodiguel\, Talensac\, Talen
	sac - Pont Morand\, Hauts-Pavés - Saint-Félix\, Nantes\, Loire-Atlantique\
	, Pays de la Loire\, France métropolitaine\, 44000\, France
STATUS:CONFIRMED
CATEGORIES:2025,Nantes,Sound System
BEGIN:VALARM
ACTION:DISPLAY
DESCRIPTION:Rootystep Dj Set
TRIGGER:-PT1H
END:VALARM
END:VEVENT
END:VCALENDAR
