BEGIN:VCALENDAR
VERSION:2.0
CALSCALE:GREGORIAN
PRODID:adamgibbons/ics
METHOD:PUBLISH
X-PUBLISHED-TTL:PT1H
BEGIN:VEVENT
UID:36@dubagenda.top
SUMMARY:Rocksteady Party
DTSTAMP:20260421T153124Z
DTSTART:20250830T170000Z
DTEND:20250830T233000Z
DESCRIPTION:C’est le retour de la Rocksteady Party!!\nLe Freddie Boom Boom 
	et son acolyte Foey Man ainsi qu’une brochette d’invités\naux platines rem
	ettent ça avec un mix très vintage de Soul\, de Ska et de Reggae\npiochant
	 dans leurs caisses de vinyles des Fifties\, Sixties\, Seventies!\nAu bar 
	Feu https://www.instagram.com/feu.bar/\n[https://www.instagram.com/feu.bar
	/] (anciennement Duchesse\, nouveau management)\ndès 19h puis à l’arrière-
	salle dès 21h (prix libre) pour profiter du dancefloor.\nCool vibes de gar
	anties si vous connaissez le lieu\, ou nos sessions hot hot hot.\nPull up\
	, selectah!!\nQui en guest aux platines?\nMusical Sniper (Quiberon)\, Dav 
	Le Pirate (Brest)\, El Tang-Tang (Nantes)\, King\nGreg (Paname)\, Lorenzo 
	Ace (Paname)\, Lionel 500 (Paname)\, Kris Van Beethoven\n(Anvers).
URL:https://dubagenda.top/event/rocksteady-party
GEO:47.2201959;-1.5489743
LOCATION:44000 Nantes // Feu bar - 87\, Rue Maréchal Joffre\, Richebourg\, 
	Richebourg - Saint-Clément\, Malakoff - Saint-Donatien\, Nantes\, Loire-At
	lantique\, Pays de la Loire\, France métropolitaine\, 44000\, France
STATUS:CONFIRMED
CATEGORIES:2025,Nantes,Rocksteady
X-ALT-DESC;FMTTYPE=text/html:<p>C’est le retour de la Rocksteady Party!!<br
	>Le Freddie Boom Boom et son acolyte Foey Man ainsi qu’une brochette d’inv
	ités aux platines remettent ça avec un mix très vintage de Soul, de Ska et
	 de Reggae piochant dans leurs caisses de vinyles des Fifties, Sixties, Se
	venties!<br>Au bar Feu <a target="_blank" href="https://www.instagram.com/
	feu.bar/">https://www.instagram.com/feu.bar/</a> (anciennement Duchesse, n
	ouveau management) dès 19h puis à l’arrière-salle dès 21h (prix libre) pou
	r profiter du dancefloor.<br>Cool vibes de garanties si vous connaissez le
	 lieu, ou nos sessions hot hot hot.<br>Pull up, selectah!!<br>Qui en guest
	 aux platines?<br>Musical Sniper (Quiberon), Dav Le Pirate (Brest), El Tan
	g-Tang (Nantes), King Greg (Paname), Lorenzo Ace (Paname), Lionel 500 (Pan
	ame), Kris Van Beethoven (Anvers).</p>
BEGIN:VALARM
ACTION:DISPLAY
DESCRIPTION:Rocksteady Party
TRIGGER:-PT1H
END:VALARM
END:VEVENT
END:VCALENDAR
