BEGIN:VCALENDAR
VERSION:2.0
CALSCALE:GREGORIAN
PRODID:adamgibbons/ics
METHOD:PUBLISH
X-PUBLISHED-TTL:PT1H
BEGIN:VEVENT
UID:115@dubagenda.top
SUMMARY:Rise and Shine #1 // Siren Dub Sound System
DTSTAMP:20260421T135320Z
DTSTART:20260130T190000Z
DTEND:20260131T010000Z
DESCRIPTION:🌫️RISE AND SHINE #1\nNouveau format et nouveau lieu pour commenc
	er l’année en beauté !!\nPour cette première édition\, nous avons la chanc
	e d’accueillir les big man\n@legacy_foundation_sound (Belle-île) !! Hard s
	élection et énergie assurée !\n⚡️Espace bar et restauration (cool price)\, 
	coin chill et un big espace à l’abri\ndu froid et des intempéries !\n☑️ Pri
	x libre\, conscient (espèces et CB)\n🗓️ Vendredi 30 Janvier 2026\n🕦 20h - 2
	h\n📍 FUNSHINE\, 9 bis La Morinière\, 85280 La Ferrière\nSAFE PLACE pour to
	ut le monde ! On n’acceptera aucuns comportements\ndéplacés/discriminatoir
	es ni haine à l’égard des autres. On se réserve le droit\nd’exclure défini
	tivement de nos soirées quiconque ne respecte pas ces valeurs.\nMerci de r
	especter le lieu\, on compte sur votre bienveillance et on espère vous\nvo
	ir nombreuses et nombreux !!\nOne love🫶🏼\n@fun.shine85\n@legacy_foundation_
	sound\n@siren.dub.soundsystem
URL:https://dubagenda.top/event/rise-and-shine-1-siren-dub-sound-system
GEO:46.6993956;-1.345792
LOCATION:85280 La Ferrière // Funshine - La Ferrière\, La Roche-sur-Yon\, V
	endée\, Pays de la Loire\, France métropolitaine\, 85280\, France
STATUS:CONFIRMED
CATEGORIES:2026,85,Sound System
X-ALT-DESC;FMTTYPE=text/html:<p>🌫️RISE AND SHINE #1<br>Nouveau format et nou
	veau lieu pour commencer l’année en beauté !!<br>Pour cette première éditi
	on, nous avons la chance d’accueillir les big man @legacy_foundation_sound
	 (Belle-île) !! Hard sélection et énergie assurée !<br>⚡️Espace bar et rest
	auration (cool price), coin chill et un big espace à l’abri du froid et de
	s intempéries !<br>☑️ Prix libre, conscient (espèces et CB)<br>🗓️ Vendredi 3
	0 Janvier 2026<br>🕦 20h - 2h<br>📍 FUNSHINE, 9 bis La Morinière, 85280 La F
	errière <br>SAFE PLACE pour tout le monde ! On n’acceptera aucuns comporte
	ments déplacés/discriminatoires ni haine à l’égard des autres. On se réser
	ve le droit d’exclure définitivement de nos soirées quiconque ne respecte 
	pas ces valeurs.<br>Merci de respecter le lieu, on compte sur votre bienve
	illance et on espère vous voir nombreuses et nombreux !!<br>One love🫶🏼<br>@
	fun.shine85 <br>@legacy_foundation_sound <br>@siren.dub.soundsystem</p>
BEGIN:VALARM
ACTION:DISPLAY
DESCRIPTION:Rise and Shine #1 // Siren Dub Sound System
TRIGGER:-PT1H
END:VALARM
END:VEVENT
END:VCALENDAR
