BEGIN:VCALENDAR
VERSION:2.0
CALSCALE:GREGORIAN
PRODID:adamgibbons/ics
METHOD:PUBLISH
X-PUBLISHED-TTL:PT1H
BEGIN:VEVENT
UID:2@dubagenda.top
SUMMARY:Riddim Runners Festival #3 (Spécial 10ANS!!)
DTSTAMP:20260421T153859Z
DTSTART:20250906T140000Z
DTEND:20250907T020000Z
DESCRIPTION:Riddim Runners Festival #3 (Spécial 10ANS!!)\n\nEn 2025 l’assoc
	iation YOUTH COLLECTIVE souffle sa 10ème bougie.\nPour fêter ça la Youth C
	o Family a l'honneur de vous présenter la troisième\nédition du RIDDIM RUN
	NERS FESTIVAL !\n⚡️SESSION SPECIALE 10 ANS !! 12H SOUND SYSTEM MEETING !⚡️\n
	\n🚨Power Dread Sound System X Musically Mad Sound System X Youth Collectiv
	e Sound\nSystem !! 🚨\n\nC'est pour nous l'occasion de partager un meeting 
	avec nos teachers et nos\ngrands frères qui nous accompagnés depuis nos pr
	emiers pas dans cette aventure\ndu Sound system : Musically Mad ! Family t
	hings !Merci à eux !! 🧡\nMais nous aurons aussi l'honneur d'accueillir (po
	ur la première fois dans le\ncoin) un sound system qui a été et est toujou
	rs une source d'inspiration pour\nnotre identité musicale: le big Bad Powe
	r Dread !! 💥\n\n\nOn vous prépare ça comme il se doit alors soyez prêt-es 
	et réservez votre\nweekend.\nToutes les infos et le lien de la billetterie
	 sont sur l’événement.\n\nEn attendant\, prenez soin de vous et des person
	nes qui vous entourent ! C’est\ngrâce à votre bon sens et votre bienveilla
	nce qu’on peut continuer à proposer\ndes jolies danses ! On compte sur vou
	s ! 🫶
URL:https://dubagenda.top/event/riddim-runners-festival-3-special-10ans
GEO:47.392789;-1.957053
LOCATION:44260 La Chapelle-Launay - La Chapelle-Launay\, Saint-Nazaire\, Lo
	ire-Atlantique\, Pays de la Loire\, France métropolitaine\, 44260\, France
STATUS:CONFIRMED
CATEGORIES:Festival,2025,Nantes,Sound System
X-ALT-DESC;FMTTYPE=text/html:<p><strong>Riddim Runners Festival #3 (Spécial
	 10ANS!!)</strong></p><p>En 2025 l’association YOUTH COLLECTIVE souffle sa
	 10ème bougie.<br>Pour fêter ça la Youth Co Family a l'honneur de vous pré
	senter la troisième édition du RIDDIM RUNNERS FESTIVAL !<br>⚡️SESSION SPECI
	ALE 10 ANS !! 12H SOUND SYSTEM MEETING !⚡️<br><br>🚨Power Dread Sound System
	 X Musically Mad Sound System X Youth Collective Sound System !! 🚨<br><br>
	C'est pour nous l'occasion de partager un meeting avec nos teachers et nos
	 grands frères qui nous accompagnés depuis nos premiers pas dans cette ave
	nture du Sound system : Musically Mad ! Family things !Merci à eux !! 🧡<br
	>Mais nous aurons aussi l'honneur d'accueillir (pour la première fois dans
	 le coin) un sound system qui a été et est toujours une source d'inspirati
	on pour notre identité musicale: le big Bad Power Dread !! 💥<br><br><br>On
	 vous prépare ça comme il se doit alors soyez prêt-es et réservez votre we
	ekend.<br>Toutes les infos et le lien de la billetterie sont sur l’événeme
	nt.<br><br>En attendant, prenez soin de vous et des personnes qui vous ent
	ourent ! C’est grâce à votre bon sens et votre bienveillance qu’on peut co
	ntinuer à proposer des jolies danses ! On compte sur vous ! 🫶</p>
BEGIN:VALARM
ACTION:DISPLAY
DESCRIPTION:Riddim Runners Festival #3 (Spécial 10ANS!!)
TRIGGER:-PT1H
END:VALARM
END:VEVENT
END:VCALENDAR
