BEGIN:VCALENDAR
VERSION:2.0
CALSCALE:GREGORIAN
PRODID:adamgibbons/ics
METHOD:PUBLISH
X-PUBLISHED-TTL:PT1H
BEGIN:VEVENT
UID:59@dubagenda.top
SUMMARY:Reggae Dub Vibe'ration meets Anthony John
DTSTAMP:20260421T151353Z
DTSTART:20251108T180000Z
DTEND:20251109T010000Z
DESCRIPTION:Pour fêter son premier anniversaire\, le crew Reggae Dub Vibe’r
	ation organise une\nsession sound system à la Muloche à Chateaubriant\, le
	 samedi 8 novembre 2025 à\npartir de 20h.\nEt pour cette occasion\, nous a
	vons l’honneur d’accueillir :\n>>>Anthony John<<<\nChanteur\, auteur\, int
	erprète et producteur autodidacte venant de Jamaique et\naussi connu sous 
	le nom de Mr Muzik. Autour des années 2000\, Il enchaîne les\nenregistreme
	nts avec certains des plus gros labels en Jamaïque comme :\nPenthouse\, - 
	Diamond Ruch\, - Xterminator\, - Gargamel\, - VP...\nDans les années qui s
	uivent\, Il sort 4 albums et participe à un grand nombre de\ncollaboration
	s musicales avec labels et artistes internationaux. Ne manquez pas\nsa pre
	station qui va nous régaler de sa voix mélodieuse et de ses paroles\nconsc
	ientes. Il nous présentera aussi quelques chansons de son dernier projet e
	n\ndate « IrieChords meets Anthony John ».\n>>>Reggae Dub Vibe’ration crew
	 <<\nNatty Dread - MC officiel pour mettre l’ambiance et transmettre le me
	ssage au\npublic.\nVLion - compositeur\, musicien\, chanteur et producteur
	 au IrieChords Studio\n(Derval)\nSelecta Naimor - DJ influencé par le dub 
	UK style & steppa\, organisateur des\nsoirées Atypik.\nBoussou – selecta\n
	La mission du crew est d’organiser des sessions reggae/dub locales en diff
	usant\nun message à la fois positif et conscient et de faire danser le cor
	ps pour\nlibérer l’esprit.\n>>>Infos pratiques<<<\nAdresse > Lieu dit La M
	uloche \, Chateaubriant\nHeure > de 19h à 2h\nTarif > prix libre\nInfos> R
	estauration & bar à venir
URL:https://dubagenda.top/event/reggae-dub-viberation-meets-anthony-john
GEO:47.731381;-1.3616903
LOCATION:44110 Châteaubriant // La Muloche - Châteaubriant\, Châteaubriant-
	Ancenis\, Loire-Atlantique\, Pays de la Loire\, France métropolitaine\, 44
	110\, France
STATUS:CONFIRMED
CATEGORIES:2025,Nantes,Sound System
X-ALT-DESC;FMTTYPE=text/html:<p>Pour fêter son premier anniversaire, le cre
	w Reggae Dub Vibe’ration organise une session sound system à la Muloche à 
	Chateaubriant, le samedi 8 novembre 2025 à partir de 20h.<br>Et pour cette
	 occasion, nous avons l’honneur d’accueillir :<br>&gt;&gt;&gt;Anthony John
	&lt;&lt;&lt;<br>Chanteur, auteur, interprète et producteur autodidacte ven
	ant de Jamaique et aussi connu sous le nom de Mr Muzik. Autour des années 
	2000, Il enchaîne les enregistrements avec certains des plus gros labels e
	n Jamaïque comme : Penthouse, - Diamond Ruch, - Xterminator, - Gargamel, -
	 VP...<br>Dans les années qui suivent, Il sort 4 albums et participe à un 
	grand nombre de collaborations musicales avec labels et artistes internati
	onaux. Ne manquez pas sa prestation qui va nous régaler de sa voix mélodie
	use et de ses paroles conscientes. Il nous présentera aussi quelques chans
	ons de son dernier projet en date « IrieChords meets Anthony John ».<br>&g
	t;&gt;&gt;Reggae Dub Vibe’ration crew &lt;&lt;<br>Natty Dread - MC officie
	l pour mettre l’ambiance et transmettre le message au public.<br>VLion - c
	ompositeur, musicien, chanteur et producteur au IrieChords Studio (Derval)
	<br>Selecta Naimor - DJ influencé par le dub UK style &amp; steppa, organi
	sateur des soirées Atypik.<br>Boussou – selecta<br>La mission du crew est 
	d’organiser des sessions reggae/dub locales en diffusant un message à la f
	ois positif et conscient et de faire danser le corps pour libérer l’esprit
	.<br>&gt;&gt;&gt;Infos pratiques&lt;&lt;&lt;<br>Adresse &gt; Lieu dit La M
	uloche , Chateaubriant<br>Heure &gt; de 19h à 2h<br>Tarif &gt; prix libre<
	br>Infos&gt; Restauration &amp; bar à venir</p>
BEGIN:VALARM
ACTION:DISPLAY
DESCRIPTION:Reggae Dub Vibe'ration meets Anthony John
TRIGGER:-PT1H
END:VALARM
END:VEVENT
END:VCALENDAR
