BEGIN:VCALENDAR
VERSION:2.0
CALSCALE:GREGORIAN
PRODID:adamgibbons/ics
METHOD:PUBLISH
X-PUBLISHED-TTL:PT1H
BEGIN:VEVENT
UID:167@dubagenda.top
SUMMARY:Red Series #5 // Propaganda invite Atlas Dub & Elohize
DTSTAMP:20260421T153951Z
DTSTART:20260410T180000Z
DTEND:20260410T223000Z
DESCRIPTION:—- RED SERIES #5 —- Pour cette 5e édition\, on reçoit le dubmak
	er @atlasdub_ tout\ndroit venu de Rennes ainsi qu’ @elohize pour un set qu
	i tendra vers le dubstep\n⚡️ Toujours en compagnie de @propaganda.sound.sys
	tem 🌋 Si la météo nous le\npermet on sort la sono sur la terrasse ☀️ Rdv le
	 10 avril à @lamaisonrouge44\n🏠🍻 Prix libre Accessible en transport en com
	mun Restauration sur place Parking\ndisponible à l’arrière du bar Red Seri
	es : tous les deuxième vendredi du mois\n🗓️ 4LAFÊTE & PROPAGANDA 🫡
URL:https://dubagenda.top/event/red-series-5-propaganda-invite-atlas-dub-an
	d-elohize
GEO:47.1876738;-1.4885291
LOCATION:44120 Vertou // Bar La Maison Rouge - 406\, Route de Clisson\, Les
	 Gripots\, La Jaunaie\, Vertou\, Nantes\, Loire-Atlantique\, Pays de la Lo
	ire\, France métropolitaine\, 44120\, France
STATUS:CONFIRMED
CATEGORIES:Nantes,2026,Sound System
X-ALT-DESC;FMTTYPE=text/html:<p>—- RED SERIES #5 —- Pour cette 5e édition, 
	on reçoit le dubmaker @atlasdub_ tout droit venu de Rennes ainsi qu’ @eloh
	ize pour un set qui tendra vers le dubstep ⚡️ Toujours en compagnie de @pro
	paganda.sound.system 🌋 Si la météo nous le permet on sort la sono sur la t
	errasse ☀️ Rdv le 10 avril à @lamaisonrouge44 🏠🍻 Prix libre Accessible en t
	ransport en commun Restauration sur place Parking disponible à l’arrière d
	u bar Red Series : tous les deuxième vendredi du mois 🗓️ 4LAFÊTE &amp; PROP
	AGANDA 🫡</p>
BEGIN:VALARM
ACTION:DISPLAY
DESCRIPTION:Red Series #5 // Propaganda invite Atlas Dub & Elohize
TRIGGER:-PT1H
END:VALARM
END:VEVENT
END:VCALENDAR
