BEGIN:VCALENDAR
VERSION:2.0
CALSCALE:GREGORIAN
PRODID:adamgibbons/ics
METHOD:PUBLISH
X-PUBLISHED-TTL:PT1H
BEGIN:VEVENT
UID:146@dubagenda.top
SUMMARY:Red Series #4 // Collectif Soma
DTSTAMP:20260421T151651Z
DTSTART:20260313T190000Z
DTEND:20260313T233000Z
URL:https://dubagenda.top/event/red-series-4-collectif-soma
GEO:47.1876738;-1.4885291
LOCATION:44120 Vertou // Bar La Maison Rouge - 406\, Route de Clisson\, Les
	 Gripots\, La Jaunaie\, Vertou\, Nantes\, Loire-Atlantique\, Pays de la Lo
	ire\, France métropolitaine\, 44120\, France
STATUS:CONFIRMED
CATEGORIES:Nantes,2026,Sound System
BEGIN:VALARM
ACTION:DISPLAY
DESCRIPTION:Red Series #4 // Collectif Soma
TRIGGER:-PT1H
END:VALARM
END:VEVENT
END:VCALENDAR
