BEGIN:VCALENDAR
VERSION:2.0
CALSCALE:GREGORIAN
PRODID:adamgibbons/ics
METHOD:PUBLISH
X-PUBLISHED-TTL:PT1H
BEGIN:VEVENT
UID:121@dubagenda.top
SUMMARY:Red Series #3 // Azef & Propaganda
DTSTAMP:20260421T151538Z
DTSTART:20260213T190000Z
DTEND:20260213T233000Z
DESCRIPTION:—- RED SERIES #3 —- De retour à @lamaisonrouge44 [https://sssin
	stagram.com/en1#]\nle vendredi 13/02 pour une session où l’on reçoit @azef
	_selector\n[https://sssinstagram.com/en1#]\, accompagné de @propaganda.sou
	nd.system\n[https://sssinstagram.com/en1#] 🔥 Reggae\, Roots & Dub session 
	🎶 Toujours à\nprix libre !! Accessible en transport en commun depuis Nante
	s Parking disponible\nà l’arrière du bar Red Series c’est tous les deuxièm
	e vendredi de chaque mois\n🗓️ 4LAFETE & PROPAGANDA
URL:https://dubagenda.top/event/red-series-3-azef-and-propaganda
GEO:47.1876738;-1.4885291
LOCATION:44120 Vertou // Bar La Maison Rouge - 406\, Route de Clisson\, Les
	 Gripots\, La Jaunaie\, Vertou\, Nantes\, Loire-Atlantique\, Pays de la Lo
	ire\, France métropolitaine\, 44120\, France
STATUS:CONFIRMED
CATEGORIES:Nantes,2026,Sound System
X-ALT-DESC;FMTTYPE=text/html:<p>—- RED SERIES #3 —- De retour à <a target="
	_blank" href="https://sssinstagram.com/en1#">@lamaisonrouge44</a> le vendr
	edi 13/02 pour une session où l’on reçoit <a target="_blank" href="https:/
	/sssinstagram.com/en1#">@azef_selector</a>, accompagné de <a target="_blan
	k" href="https://sssinstagram.com/en1#">@propaganda.sound.system</a> 🔥 Reg
	gae, Roots &amp; Dub session 🎶 Toujours à prix libre !! Accessible en tran
	sport en commun depuis Nantes Parking disponible à l’arrière du bar Red Se
	ries c’est tous les deuxième vendredi de chaque mois 🗓️ 4LAFETE &amp; PROPA
	GANDA</p>
BEGIN:VALARM
ACTION:DISPLAY
DESCRIPTION:Red Series #3 // Azef & Propaganda
TRIGGER:-PT1H
END:VALARM
END:VEVENT
END:VCALENDAR
