BEGIN:VCALENDAR
VERSION:2.0
CALSCALE:GREGORIAN
PRODID:adamgibbons/ics
METHOD:PUBLISH
X-PUBLISHED-TTL:PT1H
BEGIN:VEVENT
UID:107@dubagenda.top
SUMMARY:Red Series #2 // SOMA
DTSTAMP:20260421T153205Z
DTSTART:20260109T190000Z
DTEND:20260109T233000Z
DESCRIPTION:--- RED SERIES #2 --- On revient en force dès le début d'année 
	pour cette\nrésidence à @lamaisonrouge44 le 9.01 prochain 🎶\n\n●● On laiss
	e les platines all night long au tout nouveau collectif SOMA ●●\n\nOn vous
	 en dit pas plus et on vous laisse venir découvrir les univers de chacune\
	nde ses membres. Même principe que la dernière fois\, prix libre à l'entré
	e! Vous\nl'aurez remarqué\, la collaboration se fait désormais avec 4lafêt
	e\, mais pareil\,\non vous en dit pas plus pour l'instant 🤭\n\nON COMPTE S
	UR VOUS POUR SOUTENIR CE TOUT NOUVEAU COLLECTIF QUI NOUS PROMET DE\nBELLES
	 DANSES 😇
URL:https://dubagenda.top/event/red-series-2-soma
GEO:47.1876738;-1.4885291
LOCATION:44120 Vertou // Bar La Maison Rouge - 406\, Route de Clisson\, Les
	 Gripots\, La Jaunaie\, Vertou\, Nantes\, Loire-Atlantique\, Pays de la Lo
	ire\, France métropolitaine\, 44120\, France
STATUS:CONFIRMED
CATEGORIES:Nantes,2026,Sound System
X-ALT-DESC;FMTTYPE=text/html:<p>--- RED SERIES #2 --- On revient en force d
	ès le début d'année pour cette résidence à @lamaisonrouge44 le 9.01 procha
	in 🎶 </p><p>●● On laisse les platines all night long au tout nouveau colle
	ctif SOMA ●● </p><p>On vous en dit pas plus et on vous laisse venir découv
	rir les univers de chacune de ses membres. Même principe que la dernière f
	ois, prix libre à l'entrée! Vous l'aurez remarqué, la collaboration se fai
	t désormais avec 4lafête, mais pareil, on vous en dit pas plus pour l'inst
	ant 🤭 </p><p>ON COMPTE SUR VOUS POUR SOUTENIR CE TOUT NOUVEAU COLLECTIF QU
	I NOUS PROMET DE BELLES DANSES 😇</p>
BEGIN:VALARM
ACTION:DISPLAY
DESCRIPTION:Red Series #2 // SOMA
TRIGGER:-PT1H
END:VALARM
END:VEVENT
END:VCALENDAR
