BEGIN:VCALENDAR
VERSION:2.0
CALSCALE:GREGORIAN
PRODID:adamgibbons/ics
METHOD:PUBLISH
X-PUBLISHED-TTL:PT1H
BEGIN:VEVENT
UID:87@dubagenda.top
SUMMARY:Red Series #1 // Propaganda Sound System
DTSTAMP:20260421T151538Z
DTSTART:20251205T170000Z
DTEND:20251205T233000Z
DESCRIPTION:----- PROPAGANDA & ANIMA'SOUND ASSO -----\nOn arrive en force a
	ux portes de Nantes pour vous proposer un format que\nchacun.e affectionne
	 :\nune RÉSIDENCE 🌟\n----- LE CONCEPT -----\nOn vous propose une session p
	ar mois afin de continuer à faire vivre la culture\nsound system au plus d
	e près de chez vous! Pour la saison hivernale\, config\nsound system adapt
	ée à la salle arrière du bar Maison Rouge. Pour les beaux\njours\, 2 basse
	s sur la terrasse 😊\nPour la première édition et pour fixer les bases de c
	e futur rendez-vous\nmensuel\, on se retrouve le vendredi 5 décembre proch
	ain avec en line up PERRIN\nAnima'Sound Asso & PROPAGANDA FULL CREW 👾\nPou
	r les prochaines à venir\, on invitera des artistes reggae/dub de toutes\n
	régions et tous horizons\, le but étant toujours de vous faire découvrir d
	es\nunivers que nous aimons ❤️\n----- INFOS PRATIQUES -----\nÇa nous tient 
	également à cœur de proposer des événements accessibles\, c'est\npour cela
	 que les RED SERIES seront à chaque fois à prix libre! À vous de jouer\nle
	 jeu 😇\nAccessible en transports en commun depuis le centre ville de Nante
	s 👌\nRespect and unity\nAnti raciste\nAnti sexiste\nAnti homophobe\nL’asso
	ciation pourra exclure toute personne ayant un comportement non-approprié
URL:https://dubagenda.top/event/red-series-1-propaganda-sound-system
GEO:47.1876738;-1.4885291
LOCATION:44120 Vertou // Bar La Maison Rouge - 406\, Route de Clisson\, Les
	 Gripots\, La Jaunaie\, Vertou\, Nantes\, Loire-Atlantique\, Pays de la Lo
	ire\, France métropolitaine\, 44120\, France
STATUS:CONFIRMED
CATEGORIES:2025,Nantes,Sound System
X-ALT-DESC;FMTTYPE=text/html:<p>----- PROPAGANDA &amp; ANIMA'SOUND ASSO ---
	--<br>On arrive en force aux portes de Nantes pour vous proposer un format
	 que chacun.e affectionne :<br>une RÉSIDENCE 🌟<br>----- LE CONCEPT -----<b
	r>On vous propose une session par mois afin de continuer à faire vivre la 
	culture sound system au plus de près de chez vous! Pour la saison hivernal
	e, config sound system adaptée à la salle arrière du bar Maison Rouge. Pou
	r les beaux jours, 2 basses sur la terrasse 😊<br>Pour la première édition 
	et pour fixer les bases de ce futur rendez-vous mensuel, on se retrouve le
	 vendredi 5 décembre prochain avec en line up PERRIN Anima'Sound Asso &amp
	; PROPAGANDA FULL CREW 👾<br>Pour les prochaines à venir, on invitera des a
	rtistes reggae/dub de toutes régions et tous horizons, le but étant toujou
	rs de vous faire découvrir des univers que nous aimons ❤️<br>----- INFOS PR
	ATIQUES -----<br>Ça nous tient également à cœur de proposer des événements
	 accessibles, c'est pour cela que les RED SERIES seront à chaque fois à pr
	ix libre! À vous de jouer le jeu 😇<br>Accessible en transports en commun d
	epuis le centre ville de Nantes 👌<br>Respect and unity<br>Anti raciste<br>
	Anti sexiste<br>Anti homophobe<br>L’association pourra exclure toute perso
	nne ayant un comportement non-approprié</p>
BEGIN:VALARM
ACTION:DISPLAY
DESCRIPTION:Red Series #1 // Propaganda Sound System
TRIGGER:-PT1H
END:VALARM
END:VEVENT
END:VCALENDAR
