BEGIN:VCALENDAR
VERSION:2.0
CALSCALE:GREGORIAN
PRODID:adamgibbons/ics
METHOD:PUBLISH
X-PUBLISHED-TTL:PT1H
BEGIN:VEVENT
UID:45@dubagenda.top
SUMMARY:Raw [nrs] 4 ans Au Bon Coin
DTSTAMP:20260421T151651Z
DTSTART:20250912T170000Z
DTEND:20250912T220000Z
URL:https://dubagenda.top/event/raw-nrs-4-ans-au-bon-coin
GEO:47.2218334;-1.5593342
LOCATION:44000 Nantes // Au Bon Coin - Rue Yves Bodiguel\, Talensac\, Talen
	sac - Pont Morand\, Hauts-Pavés - Saint-Félix\, Nantes\, Loire-Atlantique\
	, Pays de la Loire\, France métropolitaine\, 44000\, France
STATUS:CONFIRMED
CATEGORIES:2025,Nantes
BEGIN:VALARM
ACTION:DISPLAY
DESCRIPTION:Raw [nrs] 4 ans Au Bon Coin
TRIGGER:-PT1H
END:VALARM
END:VEVENT
END:VCALENDAR
