BEGIN:VCALENDAR
VERSION:2.0
CALSCALE:GREGORIAN
PRODID:adamgibbons/ics
METHOD:PUBLISH
X-PUBLISHED-TTL:PT1H
BEGIN:VEVENT
UID:93@dubagenda.top
SUMMARY:Rababoom
DTSTAMP:20260421T145839Z
DTSTART:20251129T200000Z
DTEND:20251130T003000Z
DESCRIPTION:Yo les massives !! Pour la dernière de l’année on se retrouve s
	amedi 29 novembre\npour une session à l’anglaise au Pub Le Mac\n\n🙌 Au pro
	gramme selection et dj set Reggae\, dub\, jungle\, dnb par le rabacrew\n@f
	abio6tm @antolepango @legalpaul 💚💛🧡\n\n📆Samedi 29 Novembre\n\n📍Irish Pub L
	e Mac\, 1 Rue Rameau\, 44000 Nantes\n\n🕚21h-1h30\n\n🎶Reggae\, Dub\, Jungle
	\, Drum & Bass\n\n💚Entrée gratuite\n\n‼️No relou.es [http://relou.es]‼️ AUCU
	N COMPORTEMENT DÉPLACÉ NE SERA TOLÉRÉ On\nhâte de voir vos jolies têtes\n\
	n🫶 Biiiiig up @strange_angry_child pour l’affiche ☝️👑
URL:https://dubagenda.top/event/rababoom
GEO:47.2131586;-1.560562
LOCATION:44000 Nantes // Le Mac Irish Pub - Rue Rameau\, Graslin\, Graslin 
	- Commerce\, Centre Ville\, Nantes\, Loire-Atlantique\, Pays de la Loire\,
	 France métropolitaine\, 44003\, France
STATUS:CONFIRMED
CATEGORIES:2025,Nantes,DnB,Sound System
X-ALT-DESC;FMTTYPE=text/html:<p>Yo les massives !! Pour la dernière de l’an
	née on se retrouve samedi 29 novembre pour une session à l’anglaise au Pub
	 Le Mac </p><p>🙌 Au programme selection et dj set Reggae, dub, jungle, dnb
	 par le rabacrew @fabio6tm @antolepango @legalpaul 💚💛🧡</p><p> 📆Samedi 29 N
	ovembre </p><p>📍Irish Pub Le Mac, 1 Rue Rameau, 44000 Nantes </p><p>🕚21h-1
	h30 </p><p>🎶Reggae, Dub, Jungle, Drum &amp; Bass </p><p>💚Entrée gratuite <
	/p><p>‼️No <a target="_blank" href="http://relou.es">relou.es</a>‼️ AUCUN CO
	MPORTEMENT DÉPLACÉ NE SERA TOLÉRÉ On hâte de voir vos jolies têtes </p><p>
	🫶 Biiiiig up @strange_angry_child pour l’affiche ☝️👑</p>
BEGIN:VALARM
ACTION:DISPLAY
DESCRIPTION:Rababoom
TRIGGER:-PT1H
END:VALARM
END:VEVENT
END:VCALENDAR
