BEGIN:VCALENDAR
VERSION:2.0
CALSCALE:GREGORIAN
PRODID:adamgibbons/ics
METHOD:PUBLISH
X-PUBLISHED-TTL:PT1H
BEGIN:VEVENT
UID:137@dubagenda.top
SUMMARY:Play It Loud #17 // Freedom Masses
DTSTAMP:20260421T133001Z
DTSTART:20260411T180000Z
DTEND:20260412T020000Z
DESCRIPTION:::::::::::::::🚨🚨🚨300 PLACES MAXIMUM🚨🚨🚨:::::::::::::::::\n::::::
	:::::::::: Tarif : 12€ en prévente / 15€ sur place ::::::::::::::::::\nLie
	n Préventes :\nhttps://my.weezevent.com/play-it-loud-17-freedom-masses-mee
	ts-melodub\n[https://my.weezevent.com/play-it-loud-17-freedom-masses-meets
	-melodub]\n:::::::::::::::::::::::::::::::::::::: LINE UP (21h/4h)\n::::::
	::::::::::::::::::::::::::::::::\n\n\n......... FREEDOM MASSES..........\n
	Freedom Masses est actif depuis plus de 40 ans dans le domaine des sound s
	ystems\nroots\, steppers et dub. Le groupe apporte sa touche unique en mat
	ière de son\,\nd'ambiance\, de style et de dub\, qui fait vibrer les dance
	floors du Royaume-Uni\net d'Europe depuis le début des années 80.\nFreedom
	 Masses a été fondé au début des années 80 par Jahmi X et Professor P.\nIl
	s ont conçu et construit leurs propres sound systems\, qui fonctionnent\nt
	oujours aussi bien ! Brother Yasin a rejoint l'équipe au début des années 
	90.\nProfessor P et Jahmi X ont fait leurs armes au milieu et à la fin des
	 années 70\,\npendant leurs années d'école. Tous deux ont travaillé avec d
	ifférents systèmes\naudio avant de se réunir pour former Freedom Masses.\n
	En plus de jouer avec d'autres systèmes audio à travers le Royaume-Uni\, F
	reedom\nMasses a été DJ résident pendant de nombreuses années au Band On T
	he Wall\, à\nManchester.\nFreedom Masses a joué de nombreuses nuits à l'Ha
	cienda Club de Manchester\, où il\na également soutenu le groupe Soul Synd
	icate.\nFreedom Masses a joué lors de nombreuses sessions avec Jah Shaka\,
	 Jah Baron\,\nFatman Sound\, Jungleman\, Jah Tubby's\, Earth Rocker\, Irat
	ion Steppas\, Entebbe\nSound\, King Earthquake\, Jah Yabby's\, Jah Warrior
	\, Channel 1\, Manaseh\, Aba\nShanti\, Jah Youth\, Kingstep Sound\, UBIK S
	ound\, Blackboard Jungle\, OBF Sound\, et\nbien d'autres encore.\nFreedom 
	Masses s'est produit dans des festivals tels que Dub Academy\, Rototom\nSu
	nsplash\, Dub Camp\, Beat Herder\, Reggae Geel (Belgique)\, Alp'in dub (Fr
	ance) et\nbien d'autres.\nJungle Studio All Stars (Freedom Masses Dub Stud
	io)\nIl y a eu de nombreuses sorties\, dont 3 albums\, Free Dominion\, Ver
	sion Of Peace\,\nLife a Ruff (CD) et le single 7 pouces I Am Who I am\, qu
	i est aujourd'hui une\npièce de collection !\nIl y a également le single L
	ife a Ruff\, sur le label Jah Fingers\, et sur\nWoodlands Records\, le tub
	e de Bobylon\, Reason\, avec Sub Dub\, Truth and Rights.\nTous ces titres 
	ont été enregistrés\, mixés et produits par Professor P (Clive\nWilks) au 
	Jungle Studio All Stars.\nVéritable force de la scène dub\, Freedom Masses
	 est connu pour ses basses\nprofondes\, ses paroles engagées et son son pu
	issant prônant l'unité et\nl'épanouissement.\n\n...........MELODUB SOUND S
	YSTEM...........\nRésident et organisateur des soirées Play It Loud\, Melo
	dub Sound System est un\nprojet créé par KLM (opérateur) et JAHRAW (séléct
	a) et accompagner de high_t au\nmic!!!\nPassionnés de Reggae et de sound s
	ystem sous ses différentes formes\, ils prônent\naussi la culture du D.I.Y
	.\nC’est au cours de l’année 2012 que les premières boxs ont été construit
	es de\nmanière artisanale. Très rapidement le sound est passé de 2 à 6 bas
	s. C’est\nfinalement à l’été 2018 que le sound system est passé à 9 bass e
	t inauguré la\nmême année à l’occasion du Dub Camp Festival.\nLes sessions
	 et les sound meeting se sont enchainés au fur et à mesure des\nannées en 
	France et en Europe (Dub Club\, Seasplash\, Outerdub\, Bordeaux Dub\nSchoo
	l\, Dubwise United\, Protect the Dub\, Alp’in Dub Festival\, ) et ont perm
	is au\ncrew de partager des dances avec des artistes tels que Dubateers\, 
	Dawa Hifi\, Dub\nAddict\, Conscious sound\, Digitron\, Moa Ambessa\, Dub K
	azman\, Lion’s Denou encore\nHaspar.\nInspirés par des crew tels que Lion 
	Roots\, King Earthquake et Blackboard Jungle\npour ne citer qu’eux\, mais 
	aussi par des groupes ou artistes tels que Twinkles\nBrothers\, Dub Judah\
	, Gregory Isaac\, Midnight\, Brain Damage et High Tone\, les\nsélections d
	e crew traversent plusieurs styles du Roots au Dub stepper.\nAujourd’hui b
	asé à Nantes\, Melodub est en constante évolution\, avec pour but\nd’obten
	ir un son puissant et qualitatif et permettre au public d’apprécier et de\
	ns’évader.\n:::::::::::: SUR PLACE::::::::::::::::\nOUVERTURE DES ESPACES 
	EXTERIEURS DU SITE A PARTIR DE 15H\n> Parking / Camping ( voiture\, Camion
	\, tente)\nPossibilité (et vivement conseillé) de dormir sur place\n> Buve
	tte 🍺🍺🍺\n> Restauration\n\n:::::::::::::::::::::::::::::::::::::::\nLOCALI
	SATION:::::::::::::::::::::::::::::::::::::::\nLieu Dit Sainte Clotilde\, 
	44680 Sainte Pazanne\n\n::::::::::::::::::🚨🚨IMPORTANT\, A LIRE ABSOLUMENT🚨
	🚨 ::::::::::::::::::\n> Feux de camp INTERDITS sur le site\n> Les personne
	s MINEURES ne sont pas acceptées (une carte ID vous sera demandée\nà l'ent
	rée du site)\n> CB non acceptée à la buvette et aux points de restauration
	\n> AUCUNE AFTER PARTY sur le camping\n> Site Privé. Respect du site\, des
	 orgas et des bénévoles sous peine d'exclusion\n> VENEZ AVEC VOS GOOD VIBE
	S ET VOS PLUS BEAUX SOURIRES !!
URL:https://dubagenda.top/event/play-it-loud-17-freedom-masses
GEO:47.0565962;-1.8161827
LOCATION:44680 Sainte Pazanne // Sainte Clotilde - Sainte-Pazanne\, Nantes\
	, Loire-Atlantique\, Pays de la Loire\, France métropolitaine\, 44680\, Fr
	ance
STATUS:CONFIRMED
CATEGORIES:Nantes,2026,Sound System
X-ALT-DESC;FMTTYPE=text/html:<p>::::::::::::::🚨🚨🚨300 PLACES MAXIMUM🚨🚨🚨:::::
	::::::::::::<br>:::::::::::::::: Tarif : 12€ en prévente / 15€ sur place :
	:::::::::::::::::<br>Lien Préventes : <br><a target="_blank" href="https:/
	/my.weezevent.com/play-it-loud-17-freedom-masses-meets-melodub">https://my
	.weezevent.com/play-it-loud-17-freedom-masses-meets-melodub</a><br>:::::::
	::::::::::::::::::::::::::::::: LINE UP (21h/4h) :::::::::::::::::::::::::
	:::::::::::::<br><br><br>......... FREEDOM MASSES..........<br>Freedom Mas
	ses est actif depuis plus de 40 ans dans le domaine des sound systems root
	s, steppers et dub. Le groupe apporte sa touche unique en matière de son, 
	d'ambiance, de style et de dub, qui fait vibrer les dancefloors du Royaume
	-Uni et d'Europe depuis le début des années 80.<br>Freedom Masses a été fo
	ndé au début des années 80 par Jahmi X et Professor P. Ils ont conçu et co
	nstruit leurs propres sound systems, qui fonctionnent toujours aussi bien 
	! Brother Yasin a rejoint l'équipe au début des années 90.<br>Professor P 
	et Jahmi X ont fait leurs armes au milieu et à la fin des années 70, penda
	nt leurs années d'école. Tous deux ont travaillé avec différents systèmes 
	audio avant de se réunir pour former Freedom Masses.<br>En plus de jouer a
	vec d'autres systèmes audio à travers le Royaume-Uni, Freedom Masses a été
	 DJ résident pendant de nombreuses années au Band On The Wall, à Mancheste
	r.<br>Freedom Masses a joué de nombreuses nuits à l'Hacienda Club de Manch
	ester, où il a également soutenu le groupe Soul Syndicate.<br>Freedom Mass
	es a joué lors de nombreuses sessions avec Jah Shaka, Jah Baron, Fatman So
	und, Jungleman, Jah Tubby's, Earth Rocker, Iration Steppas, Entebbe Sound,
	 King Earthquake, Jah Yabby's, Jah Warrior, Channel 1, Manaseh, Aba Shanti
	, Jah Youth, Kingstep Sound, UBIK Sound, Blackboard Jungle, OBF Sound, et 
	bien d'autres encore.<br>Freedom Masses s'est produit dans des festivals t
	els que Dub Academy, Rototom Sunsplash, Dub Camp, Beat Herder, Reggae Geel
	 (Belgique), Alp'in dub (France) et bien d'autres.<br>Jungle Studio All St
	ars (Freedom Masses Dub Studio)<br>Il y a eu de nombreuses sorties, dont 3
	 albums, Free Dominion, Version Of Peace, Life a Ruff (CD) et le single 7 
	pouces I Am Who I am, qui est aujourd'hui une pièce de collection !<br>Il 
	y a également le single Life a Ruff, sur le label Jah Fingers, et sur Wood
	lands Records, le tube de Bobylon, Reason, avec Sub Dub, Truth and Rights.
	 Tous ces titres ont été enregistrés, mixés et produits par Professor P (C
	live Wilks) au Jungle Studio All Stars.<br>Véritable force de la scène dub
	, Freedom Masses est connu pour ses basses profondes, ses paroles engagées
	 et son son puissant prônant l'unité et l'épanouissement.<br><br>.........
	..MELODUB SOUND SYSTEM...........<br>Résident et organisateur des soirées 
	Play It Loud, Melodub Sound System est un projet créé par KLM (opérateur) 
	et JAHRAW (sélécta) et accompagner de high_t au mic!!!<br>Passionnés de Re
	ggae et de sound system sous ses différentes formes, ils prônent aussi la 
	culture du D.I.Y.<br>C’est au cours de l’année 2012 que les premières boxs
	 ont été construites de manière artisanale. Très rapidement le sound est p
	assé de 2 à 6 bass. C’est finalement à l’été 2018 que le sound system est 
	passé à 9 bass et inauguré la même année à l’occasion du Dub Camp Festival
	.<br>Les sessions et les sound meeting se sont enchainés au fur et à mesur
	e des années en France et en Europe (Dub Club, Seasplash, Outerdub, Bordea
	ux Dub School, Dubwise United, Protect the Dub, Alp’in Dub Festival, ) et 
	ont permis au crew de partager des dances avec des artistes tels que Dubat
	eers, Dawa Hifi, Dub Addict, Conscious sound, Digitron, Moa Ambessa, Dub K
	azman, Lion’s Denou encore Haspar.<br>Inspirés par des crew tels que Lion 
	Roots, King Earthquake et Blackboard Jungle pour ne citer qu’eux, mais aus
	si par des groupes ou artistes tels que Twinkles Brothers, Dub Judah, Greg
	ory Isaac, Midnight, Brain Damage et High Tone, les sélections de crew tra
	versent plusieurs styles du Roots au Dub stepper.<br>Aujourd’hui basé à Na
	ntes, Melodub est en constante évolution, avec pour but d’obtenir un son p
	uissant et qualitatif et permettre au public d’apprécier et de s’évader.<b
	r>:::::::::::: SUR PLACE::::::::::::::::<br>OUVERTURE DES ESPACES EXTERIEU
	RS DU SITE A PARTIR DE 15H<br>&gt; Parking / Camping ( voiture, Camion, te
	nte)<br>Possibilité (et vivement conseillé) de dormir sur place<br>&gt; Bu
	vette 🍺🍺🍺<br>&gt; Restauration<br><br>::::::::::::::::::::::::::::::::::::
	::: LOCALISATION:::::::::::::::::::::::::::::::::::::::<br>Lieu Dit Sainte
	 Clotilde, 44680 Sainte Pazanne<br><br>::::::::::::::::::🚨🚨IMPORTANT, A LI
	RE ABSOLUMENT🚨🚨 ::::::::::::::::::<br>&gt; Feux de camp INTERDITS sur le s
	ite<br>&gt; Les personnes MINEURES ne sont pas acceptées (une carte ID vou
	s sera demandée à l'entrée du site)<br>&gt; CB non acceptée à la buvette e
	t aux points de restauration<br>&gt; AUCUNE AFTER PARTY sur le camping<br>
	&gt; Site Privé. Respect du site, des orgas et des bénévoles sous peine d'
	exclusion<br>&gt; VENEZ AVEC VOS GOOD VIBES ET VOS PLUS BEAUX SOURIRES !!<
	/p>
BEGIN:VALARM
ACTION:DISPLAY
DESCRIPTION:Play It Loud #17 // Freedom Masses
TRIGGER:-PT1H
END:VALARM
END:VEVENT
END:VCALENDAR
