BEGIN:VCALENDAR
VERSION:2.0
CALSCALE:GREGORIAN
PRODID:adamgibbons/ics
METHOD:PUBLISH
X-PUBLISHED-TTL:PT1H
BEGIN:VEVENT
UID:47@dubagenda.top
SUMMARY:Pierpoljak // Roots Tonality Sound System
DTSTAMP:20260421T153227Z
DTSTART:20250926T160000Z
DTEND:20250927T000000Z
DESCRIPTION:PIERPOLJAK • ROOTS TONALITY SOUND SYSTEM • NEAL L’APACHE\nVendr
	edi 26 septembre 2025\n18h–02h\nAWL After Beach Bar – Les Minimes\n52 Av. 
	du Lazaret\, 17000 La Rochelle\nENTRÉE GRATUITE !\nPlage\, sunset et bonne
	s vibrations: on se retrouve aux Minimes pour une soirée\nreggae 100% good
	 vibes\, sonorisée par Roots Tonality Sound System en\nconfiguration 4 sco
	ops.\nPremière partie assurée par Neal L’Apache\, avant un showcase exclus
	if de\nPierpoljak\, suivi d'une sélection affûtée par Roots Tonality.\nC’e
	st gratuit\, venez tôt\, on démarre dès 18h !\nPIERPOLJAK\nFigure majeure 
	du reggae en France\, auteur de hits comme Je sais pas jouer et\nd’albums 
	enregistrés aux studios Tuff Gong en Jamaïque\; Kingston Karma a été\ncert
	ifié platine en France. Un mélange reggae/roots efficace\, taillé pour la\
	nscène.\nRoots Tonality Sound System\nCollectif rochelais (MC Colgado\, Se
	lecta Got\, Ras Belix) et sono artisanale\ndédiée au roots\, rocksteady\, 
	dub stepper\, c'est les ambassadeurs de la culture\nsound system locale.\n
	Infos pratiques\nLieu: AWL After Beach Bar – Les Minimes\, face à la plage
	 et au poste de secours\n(terrasse rooftop\, vue mer).
URL:https://dubagenda.top/event/pierpoljak-roots-tonality-sound-system
GEO:46.1514473;-1.1603942
LOCATION:17000 La Rochelle // AWL After Beach Bar - Passerelle Nelson Mande
	la\, La Ville en Bois\, La Rochelle\, Charente-Maritime\, Nouvelle-Aquitai
	ne\, France métropolitaine\, 17000\, France
STATUS:CONFIRMED
CATEGORIES:2025,17,Sound System
X-ALT-DESC;FMTTYPE=text/html:<p>PIERPOLJAK • ROOTS TONALITY SOUND SYSTEM • 
	NEAL L’APACHE<br>Vendredi 26 septembre 2025<br>18h–02h<br>AWL After Beach 
	Bar – Les Minimes<br>52 Av. du Lazaret, 17000 La Rochelle<br>ENTRÉE GRATUI
	TE !<br>Plage, sunset et bonnes vibrations: on se retrouve aux Minimes pou
	r une soirée reggae 100% good vibes, sonorisée par Roots Tonality Sound Sy
	stem en configuration 4 scoops.<br>Première partie assurée par Neal L’Apac
	he, avant un showcase exclusif de Pierpoljak, suivi d'une sélection affûté
	e par Roots Tonality.<br>C’est gratuit, venez tôt, on démarre dès 18h !<br
	>PIERPOLJAK<br>Figure majeure du reggae en France, auteur de hits comme Je
	 sais pas jouer et d’albums enregistrés aux studios Tuff Gong en Jamaïque;
	 Kingston Karma a été certifié platine en France. Un mélange reggae/roots 
	efficace, taillé pour la scène.<br>Roots Tonality Sound System<br>Collecti
	f rochelais (MC Colgado, Selecta Got, Ras Belix) et sono artisanale dédiée
	 au roots, rocksteady, dub stepper, c'est les ambassadeurs de la culture s
	ound system locale.<br>Infos pratiques<br>Lieu: AWL After Beach Bar – Les 
	Minimes, face à la plage et au poste de secours (terrasse rooftop, vue mer
	).</p>
BEGIN:VALARM
ACTION:DISPLAY
DESCRIPTION:Pierpoljak // Roots Tonality Sound System
TRIGGER:-PT1H
END:VALARM
END:VEVENT
END:VCALENDAR
