BEGIN:VCALENDAR
VERSION:2.0
CALSCALE:GREGORIAN
PRODID:adamgibbons/ics
METHOD:PUBLISH
X-PUBLISHED-TTL:PT1H
BEGIN:VEVENT
UID:173@dubagenda.top
SUMMARY:PermaDub #1
DTSTAMP:20260421T151306Z
DTSTART:20260530T160000Z
DTEND:20260531T010000Z
DESCRIPTION:Enfin un événement Reggae/Dub chez nous !!\nRamener votre plus 
	belle Vibes pour danser ensemble sur du bon son ❤️💛💚\n150 privilégier seule
	ment pourront assister à cette soirée concert.\nConcerts et Dj Set de prév
	u !!\nAtili - Cozik & Faya Pyd - Raavni - Bredda's Vibration . SOUND SYSTE
	M du Manège\nen chantier !!\nBar et Restauration sur place By Permasound.\
	nCarte bancaire et Cash accepté.\n25€ l'entrée à l'événement uniquement su
	r Pré-ventes. (Pas de place / pas\npossible de rentrer sur le site). Pas d
	e remboursement de place.\nAnimaux non autorisés sur le lieu.\nService de 
	sécurité présent pour une gestion plus Safe.\nOuverture des portes 18h00 -
	 fermeture aux alentours de 03h00.\n\n22€ en prévente
URL:https://dubagenda.top/event/permadub-1
GEO:46.9879692;-1.571051
LOCATION:44310 St Colomban // Permasound - Saint-Colomban\, Nantes\, Loire-
	Atlantique\, Pays de la Loire\, France métropolitaine\, 44310\, France
STATUS:CONFIRMED
CATEGORIES:Nantes,2026,Sound System
X-ALT-DESC;FMTTYPE=text/html:<p>Enfin un événement Reggae/Dub chez nous !!<
	br>Ramener votre plus belle Vibes pour danser ensemble sur du bon son ❤️💛💚<
	br>150 privilégier seulement pourront assister à cette soirée concert.<br>
	Concerts et Dj Set de prévu !!<br>Atili - Cozik &amp; Faya Pyd - Raavni - 
	Bredda's Vibration . SOUND SYSTEM du Manège en chantier !!<br>Bar et Resta
	uration sur place By Permasound.<br>Carte bancaire et Cash accepté.<br>25€
	 l'entrée à l'événement uniquement sur Pré-ventes. (Pas de place / pas pos
	sible de rentrer sur le site). Pas de remboursement de place.<br>Animaux n
	on autorisés sur le lieu.<br>Service de sécurité présent pour une gestion 
	plus Safe.<br>Ouverture des portes 18h00 - fermeture aux alentours de 03h0
	0. </p><p>22€ en prévente</p>
BEGIN:VALARM
ACTION:DISPLAY
DESCRIPTION:PermaDub #1
TRIGGER:-PT1H
END:VALARM
END:VEVENT
END:VCALENDAR
