BEGIN:VCALENDAR
VERSION:2.0
CALSCALE:GREGORIAN
PRODID:adamgibbons/ics
METHOD:PUBLISH
X-PUBLISHED-TTL:PT1H
BEGIN:VEVENT
UID:117@dubagenda.top
SUMMARY:NRS feat Guru Pope
DTSTAMP:20260421T153205Z
DTSTART:20260221T203000Z
DTEND:20260222T003000Z
DESCRIPTION:Pour cette première session au CAFK\, NRS\, accompagné du saxop
	honiste Guru Pope\,\ndéroule une session en deux temps\, entre sélection v
	inyles et live.\n\n\n21h30 → 00h00 | Session 100 % vinyles\nOuverture de l
	a soirée avec une sélection exclusivement vinyles\, orientée roots\nreggae
	 et standards dub.\n\n\n00h00 → 01h30 | NRS feat Guru Pope\nLa soirée se p
	rolonge avec une session mêlant dubplates\, remix\, productions et\nénergi
	e live\, porté par le sax de Guru Pope.\n\n\nNRS\nLe crew revendique une s
	élection libre\, guidée par le groove plutôt que par les\nétiquettes. Regg
	ae\, dub\, bass music: chaque set est taillé pour le système son\net le da
	ncefloor. Co-organisateur des soirées Home Sweet Dub et aux commandes de\n
	la série Midnight Skankers avec Les Nuits Blanches du Ferrailleur\, NRS af
	firme\nchaque année un peu plus sa place sur la scène dub nantaise et au-d
	elà.\n\n\nGURU POPE\nDepuis 2015\, Guru Pope promène son sax sur les sound
	 systems du monde entier\,\naux côtés de crews et producteurs comme Blackb
	oard Jungle\, Zulu Vibes ou Wicked\n& Bonny. Improvisations inspirées\, na
	ppes cuivrées sous delay et énergie live\nintense: il fait voyager le publ
	ic du stepper aux instrumentaux hip hop\,\ntoujours guidé par le groove.\n
	\n\nNRS feat Guru Pope\nLe CAFK - Nantes\nSamedi 21 février 2026\n21h30 → 
	01h30\nPrix libre
URL:https://dubagenda.top/event/nrs-feat-guru-pope
GEO:47.2169178;-1.5550248
LOCATION:44000 Nantes // CafK - 2\, Rue Bossuet\, Bouffay\, Decré - Cathédr
	ale\, Centre Ville\, Nantes\, Loire-Atlantique\, Pays de la Loire\, France
	 métropolitaine\, 44000\, France
STATUS:CONFIRMED
CATEGORIES:Nantes,2026,Sound System
X-ALT-DESC;FMTTYPE=text/html:<p>Pour cette première session au CAFK, NRS, a
	ccompagné du saxophoniste Guru Pope, déroule une session en deux temps, en
	tre sélection vinyles et live.</p><p><br>21h30 → 00h00 | Session 100 % vin
	yles<br>Ouverture de la soirée avec une sélection exclusivement vinyles, o
	rientée roots reggae et standards dub.</p><p><br>00h00 → 01h30 | NRS feat 
	Guru Pope<br>La soirée se prolonge avec une session mêlant dubplates, remi
	x, productions et énergie live, porté par le sax de Guru Pope.</p><p><br>N
	RS<br>Le crew revendique une sélection libre, guidée par le groove plutôt 
	que par les étiquettes. Reggae, dub, bass music: chaque set est taillé pou
	r le système son et le dancefloor. Co-organisateur des soirées Home Sweet 
	Dub et aux commandes de la série Midnight Skankers avec Les Nuits Blanches
	 du Ferrailleur, NRS affirme chaque année un peu plus sa place sur la scèn
	e dub nantaise et au-delà.</p><p><br>GURU POPE<br>Depuis 2015, Guru Pope p
	romène son sax sur les sound systems du monde entier, aux côtés de crews e
	t producteurs comme Blackboard Jungle, Zulu Vibes ou Wicked &amp; Bonny. I
	mprovisations inspirées, nappes cuivrées sous delay et énergie live intens
	e: il fait voyager le public du stepper aux instrumentaux hip hop, toujour
	s guidé par le groove.</p><p><br>NRS feat Guru Pope<br>Le CAFK - Nantes<br
	>Samedi 21 février 2026<br>21h30 → 01h30<br>Prix libre </p>
BEGIN:VALARM
ACTION:DISPLAY
DESCRIPTION:NRS feat Guru Pope
TRIGGER:-PT1H
END:VALARM
END:VEVENT
END:VCALENDAR
