BEGIN:VCALENDAR
VERSION:2.0
CALSCALE:GREGORIAN
PRODID:adamgibbons/ics
METHOD:PUBLISH
X-PUBLISHED-TTL:PT1H
BEGIN:VEVENT
UID:147@dubagenda.top
SUMMARY:NRS - Carte blanche Trempo - NRS feat Guru Pope / Steph OBF & Vespe
	r T
DTSTAMP:20260421T152729Z
DTSTART:20260418T190000Z
DTEND:20260418T233000Z
DESCRIPTION:Bio Steph O.B.F \n\nMembre du collectif O.B.F sound system\, St
	eph en est la Production Manager\ndepuis les tous débuts. Véritable pilier
	 de l’ombre\, elle orchestre depuis plus\nde 20 ans les tournées internati
	onales du O.B.F Sound System ainsi que les\ncélèbres soirées Dubquake\, de
	venues des rendez-vous incontournables pour les\namateurs de reggae et de 
	dub en Europe.\nConnue comme la face cachée de la lune O.B.F\, Steph incar
	ne cette énergie\ndiscrète mais essentielle qui fait tourner la machine. V
	ision\, rigueur\, passion\n: elle façonne les coulisses de chaque événemen
	t avec une exigence à la hauteur\ndu son massif du crew.\nDepuis quelque t
	emps\, Steph développe ses propres sélections musicales\, centrées\nsur le
	s artistes féminines de la scène reggae dub. Une démarche à la fois\nartis
	tique et engagée\, qui souligne son envie de valoriser les voix et les\npr
	oductrices trop souvent invisibilisées dans un univers encore largement\nm
	asculin.\n\nInstagram :https://www.instagram.com/stephobf/?hl=fr\n[https:/
	/www.instagram.com/stephobf/?hl=fr]\n\n \n\nBIO VESPER T \n\nChanteuse aux
	 influences soul folk et trip-hop\, Vesper T emprunte d’abord un\nparcours
	 classique avant de se tourner vers les musiques actuelles. Multi-\ninstru
	mentiste\, la voix reste l’élément central de son expression artistique.\n
	Elle plonge avec délices dans le Dub et ses multiples facettes au sein du 
	Red\nRockers Sound System.\n\nDe nombreuses collaborations live en découle
	nt (Dub echo\, Nomade Reggae\nfestival\, Bass culture...)\, ainsi qu’un 1e
	r EP\, « Dusty roads ». Vesper T y\npartage généreusement le foisonnement 
	de ses univers - images\, émotions\,\ninfluences- d’une voix à la fois dou
	ce et puissante.\n\ninstagram https://www.instagram.com/mairavesperti.vt/\
	n[https://www.instagram.com/mairavesperti.vt/]\n\nNRS\nLe crew revendique 
	une sélection libre\, guidée par le groove plutôt que par les\nétiquettes.
	 Reggae\, dub\, bass music : chaque set est taillé pour le système son\net
	 le dancefloor. Co-organisateur des soirées Home Sweet Dub et aux commande
	s de\nla série Midnight Skankers avec Les Nuits Blanches du Ferrailleur\, 
	NRS affirme\nchaque année un peu plus sa place sur la scène dub nantaise e
	t au-delà.\n\nInstagram : https://www.instagram.com/ninasrockingsound/\n[h
	ttps://www.instagram.com/ninasrockingsound/]\n\nGURU POPE\nDepuis 2015\, G
	uru Pope promène son sax sur les sound systems du monde entier\,\naux côté
	s de crews et producteurs comme Blackboard Jungle\, Zulu Vibes ou Wicked\n
	& Bonny. Improvisations inspirées\, nappes cuivrées sous delay et énergie 
	live\nintense : il fait voyager le public du stepper aux instrumentaux hip
	 hop\,\ntoujours guidé par le groove.\n\nInstagram : https://www.instagram
	.com/guru_pope_/\n[https://www.instagram.com/guru_pope_/]
URL:https://dubagenda.top/event/nrs-carte-blanche-trempo-nrs-feat-guru-pope
	-steph-obf-and-vesper-t
GEO:47.2046344;-1.5629527
LOCATION:44200 Nantes // Trempo - Boulevard de la Prairie au Duc\, Sainte-A
	nne - Zone portuaire\, Île de Nantes\, Nantes\, Loire-Atlantique\, Pays de
	 la Loire\, France métropolitaine\, 44276\, France
STATUS:CONFIRMED
CATEGORIES:
X-ALT-DESC;FMTTYPE=text/html:<p>Bio Steph O.B.F&nbsp;</p><p>Membre du colle
	ctif O.B.F sound system, Steph en est la Production Manager depuis les tou
	s débuts. Véritable pilier de l’ombre, elle orchestre depuis plus de 20 an
	s les tournées internationales du O.B.F Sound System ainsi que les célèbre
	s soirées Dubquake, devenues des rendez-vous incontournables pour les amat
	eurs de reggae et de dub en Europe.<br>Connue comme la face cachée de la l
	une O.B.F, Steph incarne cette énergie discrète mais essentielle qui fait 
	tourner la machine. Vision, rigueur, passion : elle façonne les coulisses 
	de chaque événement avec une exigence à la hauteur du son massif du crew.<
	br>Depuis quelque temps, Steph développe ses propres sélections musicales,
	 centrées sur les artistes féminines de la scène reggae dub. Une démarche 
	à la fois artistique et engagée, qui souligne son envie de valoriser les v
	oix et les productrices trop souvent invisibilisées dans un univers encore
	 largement masculin.</p><p>Instagram :<a target="_blank" href="https://www
	.instagram.com/stephobf/?hl=fr"><u>https://www.instagram.com/stephobf/?hl=
	fr</u></a></p><p>&nbsp;</p><p>BIO VESPER T&nbsp;</p><p>Chanteuse aux influ
	ences soul folk et trip-hop, Vesper T emprunte d’abord un parcours classiq
	ue avant de se tourner vers les musiques actuelles. Multi- instrumentiste,
	 la voix reste l’élément central de son expression artistique. Elle plonge
	 avec délices dans le Dub et ses multiples facettes au sein du Red Rockers
	 Sound System.</p><p>De nombreuses collaborations live en découlent (Dub e
	cho, Nomade Reggae festival, Bass culture...), ainsi qu’un 1er EP, « Dusty
	 roads ». Vesper T y partage généreusement le foisonnement de ses univers 
	- images, émotions, influences- d’une voix à la fois douce et puissante.</
	p><p>instagram <a target="_blank" href="https://www.instagram.com/mairaves
	perti.vt/"><u>https://www.instagram.com/mairavesperti.vt/</u></a></p><p>NR
	S<br>Le crew revendique une sélection libre, guidée par le groove plutôt q
	ue par les étiquettes. Reggae, dub, bass music : chaque set est taillé pou
	r le système son et le dancefloor. Co-organisateur des soirées Home Sweet 
	Dub et aux commandes de la série Midnight Skankers avec Les Nuits Blanches
	 du Ferrailleur, NRS affirme chaque année un peu plus sa place sur la scèn
	e dub nantaise et au-delà.</p><p>Instagram : <a target="_blank" href="http
	s://www.instagram.com/ninasrockingsound/">https://www.instagram.com/ninasr
	ockingsound/</a></p><p>GURU POPE<br>Depuis 2015, Guru Pope promène son sax
	 sur les sound systems du monde entier, aux côtés de crews et producteurs 
	comme Blackboard Jungle, Zulu Vibes ou Wicked &amp; Bonny. Improvisations 
	inspirées, nappes cuivrées sous delay et énergie live intense : il fait vo
	yager le public du stepper aux instrumentaux hip hop, toujours guidé par l
	e groove.</p><p>Instagram : <a target="_blank" href="https://www.instagram
	.com/guru_pope_/">https://www.instagram.com/guru_pope_/</a></p>
BEGIN:VALARM
ACTION:DISPLAY
DESCRIPTION:NRS - Carte blanche Trempo - NRS feat Guru Pope / Steph OBF & V
	esper T
TRIGGER:-PT1H
END:VALARM
END:VEVENT
END:VCALENDAR
