BEGIN:VCALENDAR
VERSION:2.0
CALSCALE:GREGORIAN
PRODID:adamgibbons/ics
METHOD:PUBLISH
X-PUBLISHED-TTL:PT1H
BEGIN:VEVENT
UID:1@dubagenda.top
SUMMARY:No Logo BZH // 2025
DTSTAMP:20260421T153124Z
DTSTART:20250808T134500Z
DTEND:20250810T013000Z
DESCRIPTION:Horaires\n\nFestival : Vendredi - Samedi - Dimanche 10h - 02h30
	\n\nConcerts :\n\nVendredi 8 août 17h30 - 03h30\n\nSamedi 9 août 18h00 - 0
	3h30\n\nDimanche 10 août 16h30 - 03h30
URL:https://dubagenda.top/event/no-logo-bzh-2025
GEO:48.5686309;-1.9258082
LOCATION:35400 St Malo // Fort de Saint-Père - La Saline\, Saint-Georges\, 
	Saint-Père-Marc-en-Poulet\, Saint-Malo\, Ille-et-Vilaine\, Bretagne\, Fran
	ce métropolitaine\, 35430\, France
STATUS:CONFIRMED
CATEGORIES:Festival,NoLogoBZH,2025,Bretagne,Ouest
X-ALT-DESC;FMTTYPE=text/html:<p>Horaires</p><p>Festival : Vendredi - Samedi
	 - Dimanche     10h - 02h30</p><p>Concerts :</p><p>Vendredi 8 août   17h30
	 - 03h30</p><p>Samedi 9 août    18h00 - 03h30</p><p>Dimanche 10 août    16
	h30 - 03h30</p>
BEGIN:VALARM
ACTION:DISPLAY
DESCRIPTION:No Logo BZH // 2025
TRIGGER:-PT1H
END:VALARM
END:VEVENT
END:VCALENDAR
