BEGIN:VCALENDAR
VERSION:2.0
CALSCALE:GREGORIAN
PRODID:adamgibbons/ics
METHOD:PUBLISH
X-PUBLISHED-TTL:PT1H
BEGIN:VEVENT
UID:165@dubagenda.top
SUMMARY:Nazca Dub Session // Siren Dub Sound System
DTSTAMP:20260421T151507Z
DTSTART:20260523T180000Z
DTEND:20260524T000000Z
DESCRIPTION:NAZCA DUB SESSION 🐒 On vous embarque au @dockside.food\n[http:/
	/dockside.food].hall le 23 mai pour une session dub bien épicée\, en\ncoll
	ab avec les copains @siren.dub.soundsystem Programme 100 % dub avec un\nfi
	nishing dub fi dub à la Nazca ! Guests : @qwentiiine_ et @selecta_bym 📆\nR
	endez-vous le 23 mai au Dock Side 📍 150 rue du Moulin de la Rousselière\, 
	44800\nSaint-Herblain 🔊 Sonorisation by Siren Dub Sound System 🕐 20h - 02h
	 🎟️ Prix\nlibre
URL:https://dubagenda.top/event/nazca-dub-session-siren-dub-sound-system
GEO:47.2302055;-1.6396509
LOCATION:44800 Saint Herblain // Dock Side - 150\, Rue du Moulin de la Rous
	selière\, C.H.U.\, La Rousselière\, Saint-Herblain\, Nantes\, Loire-Atlant
	ique\, Pays de la Loire\, France métropolitaine\, 44800\, France
STATUS:CONFIRMED
CATEGORIES:Nantes,2026,Sound System
X-ALT-DESC;FMTTYPE=text/html:<p>NAZCA DUB SESSION 🐒 On vous embarque au @<a
	 target="_blank" href="http://dockside.food">dockside.food</a>.hall le 23 
	mai pour une session dub bien épicée, en collab avec les copains @siren.du
	b.soundsystem Programme 100 % dub avec un finishing dub fi dub à la Nazca 
	! Guests : @qwentiiine_ et @selecta_bym 📆 Rendez-vous le 23 mai au Dock Si
	de 📍 150 rue du Moulin de la Rousselière, 44800 Saint-Herblain 🔊 Sonorisat
	ion by Siren Dub Sound System 🕐 20h - 02h 🎟️ Prix libre</p>
BEGIN:VALARM
ACTION:DISPLAY
DESCRIPTION:Nazca Dub Session // Siren Dub Sound System
TRIGGER:-PT1H
END:VALARM
END:VEVENT
END:VCALENDAR
