BEGIN:VCALENDAR
VERSION:2.0
CALSCALE:GREGORIAN
PRODID:adamgibbons/ics
METHOD:PUBLISH
X-PUBLISHED-TTL:PT1H
BEGIN:VEVENT
UID:61@dubagenda.top
SUMMARY:Miniman Dub Live feat Little R
DTSTAMP:20260421T151651Z
DTSTART:20251025T170000Z
DTEND:20251025T210000Z
DESCRIPTION:P.A.F 5€
URL:https://dubagenda.top/event/miniman-dub-live-feat-little-r
GEO:47.2106138;-1.5491828
LOCATION:44000 Nantes // Zigobar - 35\, Rue des Olivettes\, Madeleine\, Mad
	eleine - Champ de Mars\, Centre Ville\, Nantes\, Loire-Atlantique\, Pays d
	e la Loire\, France métropolitaine\, 44000\, France
STATUS:CONFIRMED
CATEGORIES:2025,Nantes,Sound System
X-ALT-DESC;FMTTYPE=text/html:<p>P.A.F 5€</p>
BEGIN:VALARM
ACTION:DISPLAY
DESCRIPTION:Miniman Dub Live feat Little R
TRIGGER:-PT1H
END:VALARM
END:VEVENT
END:VCALENDAR
