BEGIN:VCALENDAR
VERSION:2.0
CALSCALE:GREGORIAN
PRODID:adamgibbons/ics
METHOD:PUBLISH
X-PUBLISHED-TTL:PT1H
BEGIN:VEVENT
UID:31@dubagenda.top
SUMMARY:Mini Steppa HiFi
DTSTAMP:20260421T150637Z
DTSTART:20250919T183000Z
DTEND:20250919T230000Z
DESCRIPTION:Première session pour le Mini Steppa Hifi !\n\nL'occasion pour 
	moi de vous sortir le petit sound 12" Likkle but Tallawah 🔊 🔆\n\nPositive 
	Dubwise Inna Meditate Style 🔆\n\nPour cette première soirée\, j'invite mes
	 bredrens Erev Hifi\, qui ramèneront\nleurs powerful sélection and origina
	l good vibes ! Inna family Style ❤️💛💚\nRoots & Dubwise Music.\n\nÇa se pass
	era le vendredi 19 septembre à partir de 20h30 à 1h au @BB'O café\nculture
	l sur l'île de Nantes city.\n\nPrix libre et conscient. Good vibes et resp
	ect exigé\, envers les autres\nskankers\, le matériel\, le bar qui nous ac
	cueille et toi même.\n\nSee you there 🫶 Love to each and everyone Glory to
	 the King\n\ndesign @spyra_aa
URL:https://dubagenda.top/event/mini-steppa-hifi
GEO:47.2043926;-1.5481584
LOCATION:44200 Nantes // BBO café - Rue Petite Biesse\, Les Ponts\, Républi
	que - Les Ponts\, Île de Nantes\, Nantes\, Loire-Atlantique\, Pays de la L
	oire\, France métropolitaine\, 44007\, France
STATUS:CONFIRMED
CATEGORIES:2025,Nantes,Sound System
X-ALT-DESC;FMTTYPE=text/html:<p>Première session pour le Mini Steppa Hifi !
	 </p><p>L'occasion pour moi de vous sortir le petit sound 12" Likkle but T
	allawah 🔊 🔆 </p><p>Positive Dubwise Inna Meditate Style 🔆 </p><p>Pour cett
	e première soirée, j'invite mes bredrens Erev Hifi, qui ramèneront leurs p
	owerful sélection and original good vibes !  Inna family Style ❤️💛💚 Roots &
	amp; Dubwise Music.</p><p>Ça se passera le vendredi 19 septembre à partir 
	de 20h30 à 1h au @BB'O café culturel sur l'île de  Nantes city. </p><p>Pri
	x libre et conscient. Good vibes et respect exigé, envers les autres skank
	ers, le matériel, le bar qui nous accueille et toi même.  </p><p>See you t
	here 🫶 Love to each and everyone Glory to the King </p><p>design @spyra_aa
	</p>
BEGIN:VALARM
ACTION:DISPLAY
DESCRIPTION:Mini Steppa HiFi
TRIGGER:-PT1H
END:VALARM
END:VEVENT
END:VCALENDAR
