BEGIN:VCALENDAR
VERSION:2.0
CALSCALE:GREGORIAN
PRODID:adamgibbons/ics
METHOD:PUBLISH
X-PUBLISHED-TTL:PT1H
BEGIN:VEVENT
UID:92@dubagenda.top
SUMMARY:Midnight Skankers #10 // NRS invite Rooty-Step-Art
DTSTAMP:20260421T140811Z
DTSTART:20251220T223000Z
DTEND:20251221T023000Z
DESCRIPTION:𝘀𝗮𝗺𝗲𝗱𝗶 𝟮𝟬 𝗱é𝗰𝗲𝗺𝗯𝗿𝗲 NRS et Les nuits blanches du Ferrailleur\ns'
	associent de nouveau pour la Midnight Skankers #10.\nPour cette occasion\,
	 NRS invite Rooty-Step-Art (B2B explosif) 🧨\nROOTY-STEP-ART\nRootystep (St
	and High Records) et Stepart (Hologram Records) fusionnent en\nROOTYSTEPAR
	T pour un back to back explosif.\nAssociation d’un sélecteur de renom et d
	’un producteur prolifique. Deux artisans\ndu dub moderne\, deux univers co
	mplémentaires : sélection pointue\, mix affûté et\nproductions exclusives.
	\nPréparez-vous à un voyage entre reggae et bass music futuriste. Une sess
	ion qui\ns’avère immanquable pour tout amateur de dub music.\nROOTYSTEP (s
	tand high records)\nFigure clé de la scène dub française\, Rootystep est l
	e sélecteur et co-fondateur\ndu mythique sound system et label Stand High 
	Patrol. Véritable architecte de la\nsélection\, Rooty construit des sets o
	u les ponts entre style musicaux et bpm\nvariant sont ajusté à l’équerre.\
	nReconnu pour ses sélections fines\, ses dubplates exclusives et son sens 
	du\ngroove\, il fusionne reggae\, dub digital\, hip-hop\, bass music et in
	fluences\nélectroniques pour créer un univers sonore unique. Actif depuis 
	plus de 20 ans\nau sein de la culture sound system il n’en est pas à sa pr
	emière collaboration\navec Stepart derrière les platines.\nSTEPART (hologr
	am records\, stand high records\, A89 records)\nStepart est l’un de ceux q
	ui construisent des ponts entre reggae et musique\nélectronique.\nDub buil
	der consciencieux et perfectionniste\, Stepart nous entraine dans un\nuniv
	ers ou les mélodies se heurtent à la puissance des basses entre Reggae\, D
	ub\,\nDubstep\, et Bass Music.\nIngénieur du son de formation\, il travail
	le ses prod jusqu’à la perfection et\nmultiplie les collaborations.\nVérit
	able amoureux du studio et de l’expérimentation musicale\, Stepart n’en es
	t\npas moins à l’aise sur scène ou en soundsystem.\nEn 2016\, après plusie
	urs sorties en single et maxi\, il présentait son premier\nalbum : “Playgr
	ound” sorti sur Stand High records. Depuis il s’active à\ndévelopper Holog
	ram Records\, son propre label\, avec des sorties régulières.\n“Timeless”\
	, son tout dernier projet en date avec le chanteur Malawite Dumis9ne\nmêle
	 Reggae roots\, Dub Stepper\, influences musique urbaine et Hip-Hop
URL:https://dubagenda.top/event/midnight-skankers-10-nrs-invite-rooty-step-
	art
GEO:47.2007699;-1.5732795
LOCATION:44200 Nantes // Le Ferailleur - 21\, Quai des Antilles\, Sainte-An
	ne - Zone portuaire\, Île de Nantes\, Nantes\, Loire-Atlantique\, Pays de 
	la Loire\, France métropolitaine\, 44200\, France
STATUS:CONFIRMED
CATEGORIES:2025,Nantes,Sound System
X-ALT-DESC;FMTTYPE=text/html:<p>𝘀𝗮𝗺𝗲𝗱𝗶 𝟮𝟬 𝗱é𝗰𝗲𝗺𝗯𝗿𝗲 NRS et Les nuits blanche
	s du Ferrailleur s'associent de nouveau pour la Midnight Skankers #10.<br>
	Pour cette occasion, NRS invite Rooty-Step-Art (B2B explosif) 🧨<br>ROOTY-S
	TEP-ART<br>Rootystep (Stand High Records) et Stepart (Hologram Records) fu
	sionnent en ROOTYSTEPART pour un back to back explosif.<br>Association d’u
	n sélecteur de renom et d’un producteur prolifique. Deux artisans du dub m
	oderne, deux univers complémentaires : sélection pointue, mix affûté et pr
	oductions exclusives.<br>Préparez-vous à un voyage entre reggae et bass mu
	sic futuriste. Une session qui s’avère immanquable pour tout amateur de du
	b music.<br>ROOTYSTEP (stand high records)<br>Figure clé de la scène dub f
	rançaise, Rootystep est le sélecteur et co-fondateur du mythique sound sys
	tem et label Stand High Patrol. Véritable architecte de la sélection, Root
	y construit des sets ou les ponts entre style musicaux et bpm variant sont
	 ajusté à l’équerre.<br>Reconnu pour ses sélections fines, ses dubplates e
	xclusives et son sens du groove, il fusionne reggae, dub digital, hip-hop,
	 bass music et influences électroniques pour créer un univers sonore uniqu
	e. Actif depuis plus de 20 ans au sein de la culture sound system il n’en 
	est pas à sa première collaboration avec Stepart derrière les platines.<br
	>STEPART (hologram records, stand high records, A89 records)<br>Stepart es
	t l’un de ceux qui construisent des ponts entre reggae et musique électron
	ique.<br>Dub builder consciencieux et perfectionniste, Stepart nous entrai
	ne dans un univers ou les mélodies se heurtent à la puissance des basses e
	ntre Reggae, Dub, Dubstep, et Bass Music.<br>Ingénieur du son de formation
	, il travaille ses prod jusqu’à la perfection et multiplie les collaborati
	ons.<br>Véritable amoureux du studio et de l’expérimentation musicale, Ste
	part n’en est pas moins à l’aise sur scène ou en soundsystem.<br>En 2016, 
	après plusieurs sorties en single et maxi, il présentait son premier album
	 : “Playground” sorti sur Stand High records. Depuis il s’active à dévelop
	per Hologram Records, son propre label, avec des sorties régulières. “Time
	less”, son tout dernier projet en date avec le chanteur Malawite Dumis9ne 
	mêle Reggae roots, Dub Stepper, influences musique urbaine et Hip-Hop</p>
BEGIN:VALARM
ACTION:DISPLAY
DESCRIPTION:Midnight Skankers #10 // NRS invite Rooty-Step-Art
TRIGGER:-PT1H
END:VALARM
END:VEVENT
END:VCALENDAR
