BEGIN:VCALENDAR
VERSION:2.0
CALSCALE:GREGORIAN
PRODID:adamgibbons/ics
METHOD:PUBLISH
X-PUBLISHED-TTL:PT1H
BEGIN:VEVENT
UID:6@dubagenda.top
SUMMARY:⭐️ PLAY IT LOUD ⭐️ Organisé par Melodub !!  Special Édition JAH MILIT
	ANT SOUND SYSTEM (Weeda Militant) 🔥 11 OCTOBRE / Sainte Pazanne (44)
DTSTAMP:20260421T152127Z
DTSTART:20251011T190000Z
DTEND:20251012T020000Z
DESCRIPTION:::::::::::::::🚨🚨🚨300 PLACES MAXIMUM🚨🚨🚨:::::::::::::::::\n::::::
	:::::::::: Tarif : 12€ en prévente / 15€ sur place ::::::::::::::::::\nLie
	n Préventes : https://my.weezevent.com/play-it-loud-16-jah-militant\n[http
	s://my.weezevent.com/play-it-loud-16-jah-militant]...\n:::::::::::::::::::
	::::::::::::::::::: LINE UP (21h/4h)\n::::::::::::::::::::::::::::::::::::
	::\nCette Play It Loud sera un peu spéciale car cette fois MELODUB laisse 
	son\nsystème au chaud et laisse WEEDA MILITANT prendre le contrôle de la s
	alle et de\nla dance avec son propre sound système -> JAH MILITANT SOUND S
	YSTEM FULL NIGHT\nEXPERIENCE\n......... JAH MILITANT SOUND SYSTEM.........
	.\n\n:::::::::::: SUR PLACE::::::::::::::::\nOUVERTURE DES ESPACES EXTERIE
	URS DU SITE A PARTIR DE 15H\n> Parking / Camping ( voiture\, Camion\, tent
	e)\nPossibilité (et vivement conseillé) de dormir sur place\n> Buvette 🍺🍺🍺
	\n> Restauration\n> Terrain de pétanque\n:::::::::::::::::::::::::::::::::
	::::::\nLOCALISATION:::::::::::::::::::::::::::::::::::::::\nLieu Dit Sain
	te Clotilde\, 44680 Sainte Pazanne\n::::::::::::::::::🚨🚨IMPORTANT\, A LIRE
	 ABSOLUMENT🚨🚨 ::::::::::::::::::\n> Feux de camp INTERDITS sur le site\n> 
	Les personnes MINEURES ne sont pas acceptées (une carte ID vous sera deman
	dée\nà l'entrée du site)\n> CB non acceptée à la buvette et aux points de 
	restauration\n> AUCUNE AFTER PARTY sur le camping\n> Site Privé. Respect d
	u site\, des orgas et des bénévoles sous peine d'exclusion\n> VENEZ AVEC V
	OS GOOD VIBES ET VOS PLUS BEAUX SOURIRES !!
URL:https://dubagenda.top/event/medium-star-play-it-loud-medium-star-organi
	se-par-melodub-special-edition-jah-militant-sound-system-weeda-militant-11
	-octobre-sainte-pazanne-44
GEO:47.0565962;-1.8161827
LOCATION:44680 Sainte Pazanne // Sainte Clotilde - Sainte-Pazanne\, Nantes\
	, Loire-Atlantique\, Pays de la Loire\, France métropolitaine\, 44680\, Fr
	ance
STATUS:CONFIRMED
CATEGORIES:2025,Nantes,Sound System
X-ALT-DESC;FMTTYPE=text/html:<p>::::::::::::::🚨🚨🚨300 PLACES MAXIMUM🚨🚨🚨:::::
	::::::::::::<br>:::::::::::::::: Tarif : 12€ en prévente / 15€ sur place :
	:::::::::::::::::<br>Lien Préventes : <a target="_blank" href="https://my.
	weezevent.com/play-it-loud-16-jah-militant">https://my.weezevent.com/play-
	it-loud-16-jah-militant</a>...<br>:::::::::::::::::::::::::::::::::::::: L
	INE UP (21h/4h) ::::::::::::::::::::::::::::::::::::::<br>Cette Play It Lo
	ud sera un peu spéciale car cette fois MELODUB laisse son système au chaud
	 et laisse WEEDA MILITANT prendre le contrôle de la salle et de la dance a
	vec son propre sound système -&gt; JAH MILITANT SOUND SYSTEM FULL NIGHT EX
	PERIENCE<br>......... JAH MILITANT SOUND SYSTEM..........<br><br>:::::::::
	::: SUR PLACE::::::::::::::::<br>OUVERTURE DES ESPACES EXTERIEURS DU SITE 
	A PARTIR DE 15H<br>&gt; Parking / Camping ( voiture, Camion, tente)<br>Pos
	sibilité (et vivement conseillé) de dormir sur place<br>&gt; Buvette 🍺🍺🍺<b
	r>&gt; Restauration<br>&gt; Terrain de pétanque<br>:::::::::::::::::::::::
	:::::::::::::::: LOCALISATION:::::::::::::::::::::::::::::::::::::::<br>Li
	eu Dit Sainte Clotilde, 44680 Sainte Pazanne<br>::::::::::::::::::🚨🚨IMPORT
	ANT, A LIRE ABSOLUMENT🚨🚨 ::::::::::::::::::<br>&gt; Feux de camp INTERDITS
	 sur le site<br>&gt; Les personnes MINEURES ne sont pas acceptées (une car
	te ID vous sera demandée à l'entrée du site)<br>&gt; CB non acceptée à la 
	buvette et aux points de restauration<br>&gt; AUCUNE AFTER PARTY sur le ca
	mping<br>&gt; Site Privé. Respect du site, des orgas et des bénévoles sous
	 peine d'exclusion<br>&gt; VENEZ AVEC VOS GOOD VIBES ET VOS PLUS BEAUX SOU
	RIRES !!</p>
BEGIN:VALARM
ACTION:DISPLAY
DESCRIPTION:⭐️ PLAY IT LOUD ⭐️ Organisé par Melodub !!  Special Édition JAH M
	ILITANT SOUND SYSTEM (Weeda Militant) 🔥 11 OCTOBRE / Sainte Pazanne (44)
TRIGGER:-PT1H
END:VALARM
END:VEVENT
END:VCALENDAR
