BEGIN:VCALENDAR
VERSION:2.0
CALSCALE:GREGORIAN
PRODID:adamgibbons/ics
METHOD:PUBLISH
X-PUBLISHED-TTL:PT1H
BEGIN:VEVENT
UID:192@dubagenda.top
SUMMARY:Magic Garden Party // 5ans du Potageant
DTSTAMP:20260421T151550Z
DTSTART:20260515T160000Z
DTEND:20260516T010000Z
DESCRIPTION:🔎 Vendredi 15 Mai 2026\n\n🔥 Aux machines :\n\n🚀 @mango_loco_sou
	nd_system\n\n🎺 @le_faune_stepper\n\n🔥 @krakindub\n\nStands :\n\n🍷@brumecbd
	 > Maxime vous fait découvrir ses assemblages de vins et de chanvres\nde 1
	8 à 20h (Vins disponibles au bar)\n\n👕 @atelier_de_travers > Découvrez l'u
	nivers de la sérigraphie par nos copains\nde la Rochelle\, collaboration p
	our une petite série de Tee shirt pour la soirée\n\n💚 🥦 @le_potageant_cbd 
	Les produits de notre ferme à prix réduit\n\n👌 🎟 PLACES SUR SHOTGUN\n\n\n\
	n\n\n\n\n🎉 MAGIC GARDEN PARTY 2026 🔥\n\n" Les 5 ans du PotaGéant " Dans 10
	0 jours le PotaGéant remet le couvert avec la\nMagic Garden Party sur deux
	 soirées\, toujours dub et techno\, toujours à la ferme\net toujours avec 
	la volonté de valoriser les produits et les artistes locaux !\n\n🚀 🥦Le Ven
	dredi 15 Mai : @mango_loco_sound_system @le_faune_stepper @krakindub\nVous
	 feront voyager de la planète Dub jusqu'à la planète Jungle.\n\n🍄Le Samedi
	 16 Mai @ilntorn @le_pasquerodon @k.d.s_music @psiko.official Le\nvoyage r
	epartira du Dub en passant par la Trance\, la Techno\, l'Acid et jusqu'au\
	nHardcore/Frenchcore pour achever ce gros week end de fête.\n\n😏 Bière et 
	Rhum chanvre @le_potageant_cbd et @namnet_beer\n\n🍷Dégustation de vin au c
	hanvre avec les pépites de Maxime de @brumecbd\n\n🤌 Restauration Locale et
	 copieuse par le camarade @chezdodo_\n\n🎟 PLACE DISPONIBLE SUR SHOTGUN :\n
	https://shotgun.live/fr/events/magic-garden-party-les-5-ans-du-pota-geant\
	n[https://shotgun.live/fr/events/magic-garden-party-les-5-ans-du-pota-gean
	t]\n\nà bientôt\n\n🔥 Baptiste & Michael 🫡
URL:https://dubagenda.top/event/magic-garden-party-5ans-du-potageant
GEO:47.4914335;-1.0198272
LOCATION:44370 Loireauxence // Potageant - Route de la Charmeraie\, La Four
	rerie\, La Cornuaille\, Val-d'Erdre-Auxence\, Segré\, Maine-et-Loire\, Pay
	s de la Loire\, France métropolitaine\, 49440\, France
STATUS:CONFIRMED
CATEGORIES:Nantes,2026,Sound System
X-ALT-DESC;FMTTYPE=text/html:<p>🔎 Vendredi 15 Mai 2026 </p><p>🔥 Aux machine
	s : </p><p>🚀 @mango_loco_sound_system </p><p>🎺 @le_faune_stepper </p><p>🔥 
	@krakindub </p><p>Stands : </p><p>🍷@brumecbd &gt; Maxime vous fait découvr
	ir ses assemblages de vins et de chanvres de 18 à 20h (Vins disponibles au
	 bar) </p><p>👕 @atelier_de_travers &gt; Découvrez l'univers de la sérigrap
	hie par nos copains de la Rochelle, collaboration pour une petite série de
	 Tee shirt pour la soirée </p><p>💚 🥦 @le_potageant_cbd Les produits de not
	re ferme à prix réduit </p><p>👌 🎟 PLACES SUR SHOTGUN</p><p></p><p></p><p><
	/p><p>🎉 MAGIC GARDEN PARTY 2026 🔥 </p><p>" Les 5 ans du PotaGéant " Dans 1
	00 jours le PotaGéant remet le couvert avec la Magic Garden Party sur deux
	 soirées, toujours dub et techno, toujours à la ferme et toujours avec la 
	volonté de valoriser les produits et les artistes locaux ! </p><p>🚀 🥦Le Ve
	ndredi 15 Mai : @mango_loco_sound_system @le_faune_stepper @krakindub Vous
	 feront voyager de la planète Dub jusqu'à la planète Jungle. </p><p>🍄Le Sa
	medi 16 Mai @ilntorn @le_pasquerodon @k.d.s_music @psiko.official Le voyag
	e repartira du Dub en passant par la Trance, la Techno, l'Acid et jusqu'au
	 Hardcore/Frenchcore pour achever ce gros week end de fête. </p><p>😏 Bière
	 et Rhum chanvre @le_potageant_cbd et @namnet_beer </p><p>🍷Dégustation de 
	vin au chanvre avec les pépites de Maxime de @brumecbd</p><p> 🤌 Restaurati
	on Locale et copieuse par le camarade @chezdodo_ </p><p>🎟 PLACE DISPONIBLE
	 SUR SHOTGUN : <a href="https://shotgun.live/fr/events/magic-garden-party-
	les-5-ans-du-pota-geant" target="_blank">https://shotgun.live/fr/events/ma
	gic-garden-party-les-5-ans-du-pota-geant</a> </p><p>à bientôt </p><p>🔥 Bap
	tiste &amp; Michael 🫡</p>
BEGIN:VALARM
ACTION:DISPLAY
DESCRIPTION:Magic Garden Party // 5ans du Potageant
TRIGGER:-PT1H
END:VALARM
END:VEVENT
END:VCALENDAR
