BEGIN:VCALENDAR
VERSION:2.0
CALSCALE:GREGORIAN
PRODID:adamgibbons/ics
METHOD:PUBLISH
X-PUBLISHED-TTL:PT1H
BEGIN:VEVENT
UID:142@dubagenda.top
SUMMARY:L'Instant Dub Reggae // Erev-Hifi & Rising Dub
DTSTAMP:20260421T133954Z
DTSTART:20260307T190000Z
DTEND:20260308T000000Z
DESCRIPTION:The last !! ⚠️ Ça sera notre dernière session dans ce bar où tou
	t a commencé.\nPour se faire\, nous serons en compagnie des @risingdub_sou
	ndsystem ! 🧑‍🎨\n@ewenergik
URL:https://dubagenda.top/event/linstant-dub-reggae-erev-hifi-and-rising-du
	b
GEO:47.5540889;-2.4814802
LOCATION:56190 Muzillac // L'instant - 1\, Rue Richemond\, Muzillac\, Vanne
	s\, Morbihan\, Bretagne\, France métropolitaine\, 56190\, France
STATUS:CONFIRMED
CATEGORIES:56,2026,Sound System
X-ALT-DESC;FMTTYPE=text/html:<p>The last !! ⚠️ Ça sera notre dernière sessio
	n dans ce bar où tout a commencé. Pour se faire, nous serons en compagnie 
	des @risingdub_soundsystem ! 🧑‍🎨 @ewenergik</p>
BEGIN:VALARM
ACTION:DISPLAY
DESCRIPTION:L'Instant Dub Reggae // Erev-Hifi & Rising Dub
TRIGGER:-PT1H
END:VALARM
END:VEVENT
END:VCALENDAR
