BEGIN:VCALENDAR
VERSION:2.0
CALSCALE:GREGORIAN
PRODID:adamgibbons/ics
METHOD:PUBLISH
X-PUBLISHED-TTL:PT1H
BEGIN:VEVENT
UID:119@dubagenda.top
SUMMARY:⚠️Reporté !!! Lift Your Knees // Evi-Wub
DTSTAMP:20260421T151507Z
DTSTART:20260213T190000Z
DTEND:20260214T030000Z
DESCRIPTION:Hey ! L'équipe d'EVI-WUB est heureuse de te présenter son nouve
	l évènement !\nLIFT YOUR KNEES ! Full Dub de tous styles de 20H à 4H !\nPo
	ur cette première édition\, on a le plaisir d'inviter les boss d'ANIMA SOU
	ND\npour te faire skanker un max avec leur sélection affutée !\nÉchauffe t
	oi les gambettes\, les knees vont lifter !
URL:https://dubagenda.top/event/lift-your-knees
GEO:47.1474304;-1.3658611
LOCATION:44330 Le Pallet // Domaine Josselin Bouet - Le Pé de Sèvre\, Le Pa
	llet\, Nantes\, Loire-Atlantique\, Pays de la Loire\, France métropolitain
	e\, 44330\, France
STATUS:CONFIRMED
CATEGORIES:Nantes,2026,Sound System
X-ALT-DESC;FMTTYPE=text/html:<p>Hey ! L'équipe d'EVI-WUB est heureuse de te
	 présenter son nouvel évènement ! LIFT YOUR KNEES ! Full Dub de tous style
	s de 20H à 4H !<br>Pour cette première édition, on a le plaisir d'inviter 
	les boss d'ANIMA SOUND pour te faire skanker un max avec leur sélection af
	futée !<br>Échauffe toi les gambettes, les knees vont lifter !</p>
BEGIN:VALARM
ACTION:DISPLAY
DESCRIPTION:⚠️Reporté !!! Lift Your Knees // Evi-Wub
TRIGGER:-PT1H
END:VALARM
END:VEVENT
END:VCALENDAR
