BEGIN:VCALENDAR
VERSION:2.0
CALSCALE:GREGORIAN
PRODID:adamgibbons/ics
METHOD:PUBLISH
X-PUBLISHED-TTL:PT1H
BEGIN:VEVENT
UID:19@dubagenda.top
SUMMARY:Legal Shot Sound System meets Ting A Ling
DTSTAMP:20260421T152036Z
DTSTART:20250906T120000Z
DTEND:20250906T180000Z
URL:https://dubagenda.top/event/legal-shot-sound-system-meets-ting-a-ling
GEO:48.1156602;-1.6838758
LOCATION:35000 Rennes // Théatre Vieux St Étienne - 14\, Rue d'Échange\, Di
	nan - Saint-Malo\, Centre\, Quartiers Centre\, Rennes\, Ille-et-Vilaine\, 
	Bretagne\, France métropolitaine\, 35000\, France
STATUS:CONFIRMED
CATEGORIES:2025,Bretagne,35,Sound System
BEGIN:VALARM
ACTION:DISPLAY
DESCRIPTION:Legal Shot Sound System meets Ting A Ling
TRIGGER:-PT1H
END:VALARM
END:VEVENT
END:VCALENDAR
