BEGIN:VCALENDAR
VERSION:2.0
CALSCALE:GREGORIAN
PRODID:adamgibbons/ics
METHOD:PUBLISH
X-PUBLISHED-TTL:PT1H
BEGIN:VEVENT
UID:35@dubagenda.top
SUMMARY:Le Bal Tropical de la Butte Sainte Anne
DTSTAMP:20260421T152020Z
DTSTART:20250914T130000Z
DTEND:20250914T200000Z
DESCRIPTION:Le Bal Tropical de la butte Sainte Anne est organisé par l'asso
	ciation Move On\nUp et sonorisé par La Sono Mondiale avec Ras Abubakar et 
	Mat Tematik à la\nsélection.\nIl s'agit d'un voyage musical qui passe par 
	Cotonou\, Fort de France\, Kingston\,\nPort au Prince\, Lagos\, Addis Abeb
	a\, Kinshasa\, Barranquilla\, Cape Town et bien\nd'autres destinations mus
	icales ...\nsur place uniquement (pas de TPE) : 7€\ngratuit pour les moins
	 de 18 ans
URL:https://dubagenda.top/event/le-bal-tropical-de-la-butte-sainte-anne
GEO:47.2022473;-1.578156
LOCATION:44100 Nantes // MdQ le Dix - 10\, Place des Garennes\, Sainte-Anne
	\, Salorges - Sainte-Anne\, Bellevue - Chantenay - Sainte-Anne\, Nantes\, 
	Loire-Atlantique\, Pays de la Loire\, France métropolitaine\, 44100\, Fran
	ce
STATUS:CONFIRMED
CATEGORIES:2025,Nantes,Sound System
X-ALT-DESC;FMTTYPE=text/html:<p>Le Bal Tropical de la butte Sainte Anne est
	 organisé par l'association Move On Up et sonorisé par La Sono Mondiale av
	ec Ras Abubakar et Mat Tematik à la sélection.<br>Il s'agit d'un voyage mu
	sical qui passe par Cotonou, Fort de France, Kingston, Port au Prince, Lag
	os, Addis Abeba, Kinshasa, Barranquilla, Cape Town et bien d'autres destin
	ations musicales ...<br>sur place uniquement (pas de TPE) : 7€<br>gratuit 
	pour les moins de 18 ans</p>
BEGIN:VALARM
ACTION:DISPLAY
DESCRIPTION:Le Bal Tropical de la Butte Sainte Anne
TRIGGER:-PT1H
END:VALARM
END:VEVENT
END:VCALENDAR
