BEGIN:VCALENDAR
VERSION:2.0
CALSCALE:GREGORIAN
PRODID:adamgibbons/ics
METHOD:PUBLISH
X-PUBLISHED-TTL:PT1H
BEGIN:VEVENT
UID:96@dubagenda.top
SUMMARY:La Rochelle Sounds United // Téléthon
DTSTAMP:20260421T151748Z
DTSTART:20251206T190000Z
DTEND:20251207T000000Z
DESCRIPTION:Organisée par Casa 17 & 1000 Noëls\nCette année\, Casa 17 et 10
	00 Noëls s’associent pour proposer une soirée spéciale\nen soutien au Télé
	thon\, avec une volonté claire : rassembler les énergies\, unir\nla scène 
	locale et créer un moment fort\, solidaire\, ouvert à tous.\nÀ leurs côtés
	\, trois crews qui font vivre la culture sound system à La Rochelle\nappor
	tent leur soutien :\nRoots Tonality\, Lion’s Crown et Eskifaia.\nTous troi
	s viennent renforcer l’événement avec leurs sélections\, leur expérience\n
	et leur engagement\, dans un esprit de collaboration simple\, fluide et na
	turel.\nL’objectif est commun : mettre nos compétences\, notre matériel et
	 notre passion\nau service d’une cause essentielle.\nLa soirée devient alo
	rs un espace de partage\, de musique et de solidarité\, où\nchacun apporte
	 sa pierre pour faire vibrer le Téléthon au rythme du sound\nsystem.\nCasa
	 17 et 1000 Noëls impulsent le mouvement.\nRoots Tonality\, Lion’s Crown e
	t Eskifaia soutiennent\, amplifient et unissent\nleurs forces pour faire d
	e cet événement un moment chaleureux et positif.\nLa Rochelle Sound United
	 — musique\, unité et solidarité pour le Téléthon.\n🔊 Line-up :\n• Roots T
	onality\n• Lion’s Crown\n• Eskifaia\n• + Live opening : Nicko feat DJ Xam\
	nℹ️ Lieu :\nEspace Bernard Giraudeau\n25 Avenue John Fitzgerald Kennedy\, L
	a Rochelle – Mireuil\n💛 Tarif solidaire : 5€\nIntégralement reversé au Tél
	éthon.\n🎟️ Réservations ici :\nhttps://www.helloasso.com/.../casa-17-et-100
	0-noel-fete\n[https://www.helloasso.com/.../casa-17-et-1000-noel-fete]...\
	n👉 + d'infos : eskifaia.com [http://eskifaia.com]\nVibes positives & solid
	arité : on compte sur chacun pour faire de cette soirée\nun vrai moment d'
	unité et de soutien.\nLa Rochelle en force\, ensemble pour le Téléthon.\n\
	n-----------\nProgramme de la journée :\nAnimations & activités de l’après
	-midi\nDès 14h\, plusieurs associations rochelaises proposent ateliers\, j
	eux\,\ndémonstrations et découvertes accessibles à tous.\nAu programme : d
	ictée ouverte à tous avec Muriel Gilbert\, animations sportives\nhandispor
	t\, massages shiatsu\, créations artisanales\, activités ludiques et\nstan
	ds solidaires.\nUne ambiance chaleureuse\, intergénérationnelle\, pensée p
	our rassembler.\nMoments forts de la journée\n14h – La grande dictée de Mu
	riel Gilbert\nUne dictée pour petits et grands. Inscriptions sur place ou 
	en ligne via\nHelloAsso.\nAprès-midi – Animations associatives\nBoccia et 
	sarbacane avec le Cercle Handi Rochelais\nJeux de société et parcours visu
	els par l’association Clairvoyant\nÉcole vélo Tand’Ami\nMassages shiatsu p
	ar Shiatsu 17\nStands solidaires & ventes au profit du Téléthon\n16h – Goû
	ter & visite du Père Noël\nUn moment convivial pour les enfants et les fam
	illes.\n18h – Batala\nPercussions afro-brésiliennes pour l’ambiance et le 
	rythme.\nEt à partir de 20h : SOUND SYSTEM
URL:https://dubagenda.top/event/la-rochelle-sounds-united-telethon
GEO:46.1685105;-1.1855146
LOCATION:17000 La Rochelle // Espace Bernard Giraudeau - 25\, Avenue du Pré
	sident Kennedy\, La Rossignolette\, La Rochelle\, Charente-Maritime\, Nouv
	elle-Aquitaine\, France métropolitaine\, 17000\, France
STATUS:CONFIRMED
CATEGORIES:2025,17,Sound System
X-ALT-DESC;FMTTYPE=text/html:<p>Organisée par Casa 17 &amp; 1000 Noëls<br>C
	ette année, Casa 17 et 1000 Noëls s’associent pour proposer une soirée spé
	ciale en soutien au Téléthon, avec une volonté claire : rassembler les éne
	rgies, unir la scène locale et créer un moment fort, solidaire, ouvert à t
	ous.<br>À leurs côtés, trois crews qui font vivre la culture sound system 
	à La Rochelle apportent leur soutien :<br>Roots Tonality, Lion’s Crown et 
	Eskifaia.<br>Tous trois viennent renforcer l’événement avec leurs sélectio
	ns, leur expérience et leur engagement, dans un esprit de collaboration si
	mple, fluide et naturel.<br>L’objectif est commun : mettre nos compétences
	, notre matériel et notre passion au service d’une cause essentielle.<br>L
	a soirée devient alors un espace de partage, de musique et de solidarité, 
	où chacun apporte sa pierre pour faire vibrer le Téléthon au rythme du sou
	nd system.<br>Casa 17 et 1000 Noëls impulsent le mouvement.<br>Roots Tonal
	ity, Lion’s Crown et Eskifaia soutiennent, amplifient et unissent leurs fo
	rces pour faire de cet événement un moment chaleureux et positif.<br>La Ro
	chelle Sound United — musique, unité et solidarité pour le Téléthon.<br>🔊 
	Line-up :<br>• Roots Tonality<br>• Lion’s Crown<br>• Eskifaia<br>• + Live 
	opening : Nicko feat DJ Xam<br>ℹ️ Lieu :<br>Espace Bernard Giraudeau<br>25 
	Avenue John Fitzgerald Kennedy, La Rochelle – Mireuil<br>💛 Tarif solidaire
	 : 5€<br>Intégralement reversé au Téléthon.<br>🎟️ Réservations ici :<br><a 
	href="https://www.helloasso.com/.../casa-17-et-1000-noel-fete" target="_bl
	ank">https://www.helloasso.com/.../casa-17-et-1000-noel-fete</a>...<br>👉 +
	 d'infos : <a href="http://eskifaia.com" target="_blank">eskifaia.com</a><
	br>Vibes positives &amp; solidarité : on compte sur chacun pour faire de c
	ette soirée un vrai moment d'unité et de soutien.<br>La Rochelle en force,
	 ensemble pour le Téléthon.<br><br>-----------<br>Programme de la journée 
	:<br>Animations &amp; activités de l’après-midi<br>Dès 14h, plusieurs asso
	ciations rochelaises proposent ateliers, jeux, démonstrations et découvert
	es accessibles à tous.<br>Au programme : dictée ouverte à tous avec Muriel
	 Gilbert, animations sportives handisport, massages shiatsu, créations art
	isanales, activités ludiques et stands solidaires.<br>Une ambiance chaleur
	euse, intergénérationnelle, pensée pour rassembler.<br>Moments forts de la
	 journée<br>14h – La grande dictée de Muriel Gilbert<br>Une dictée pour pe
	tits et grands. Inscriptions sur place ou en ligne via HelloAsso.<br>Après
	-midi – Animations associatives<br>Boccia et sarbacane avec le Cercle Hand
	i Rochelais<br>Jeux de société et parcours visuels par l’association Clair
	voyant<br>École vélo Tand’Ami<br>Massages shiatsu par Shiatsu 17<br>Stands
	 solidaires &amp; ventes au profit du Téléthon<br>16h – Goûter &amp; visit
	e du Père Noël<br>Un moment convivial pour les enfants et les familles.<br
	>18h – Batala<br>Percussions afro-brésiliennes pour l’ambiance et le rythm
	e.<br>Et à partir de 20h : SOUND SYSTEM </p>
BEGIN:VALARM
ACTION:DISPLAY
DESCRIPTION:La Rochelle Sounds United // Téléthon
TRIGGER:-PT1H
END:VALARM
END:VEVENT
END:VCALENDAR
