BEGIN:VCALENDAR
VERSION:2.0
CALSCALE:GREGORIAN
PRODID:adamgibbons/ics
METHOD:PUBLISH
X-PUBLISHED-TTL:PT1H
BEGIN:VEVENT
UID:69@dubagenda.top
SUMMARY:La Rochelle In Dub // Sinaï ⛰️ + Lasai
DTSTAMP:20260421T153951Z
DTSTART:20251115T170000Z
DTEND:20251116T040000Z
DESCRIPTION:Le mythique Sinai Sound System\, originaire de Sheffield\, vien
	t poser son mur de\nson au Philosophy\, accompagné du chanteur Lasai\, pou
	r une session 100% reggae\ndub culture.\nAu programme :\n🔊 Sinai Sound Sys
	tem (UK) ft. Lasai\n🎤 Selecta Bym & Dougy – Eskifaia Sound System\n💥 Roots
	 Tonality Sound System\n🔥 Lion’s Crown Sound\n💬 Invite tes amis et partage
	 l’événement : c’est ensemble qu’on fait vivre la\nculture sound system à 
	La Rochelle.\n🎟️ Billetterie : https://www.helloasso.com/.../sinai-sound-sy
	stem-et-lasai\n[https://www.helloasso.com/.../sinai-sound-system-et-lasai]
	...\nEarly Birds (10 places) → 10€\nPréventes → 12€\nSur place → 15€\n⚡️ Ho
	raires prévisionnels : 18h – 05h (en attente validation mairie)\n🍴 Bar & r
	estauration sur place\nOrganisation : Eskifaia Sound System\nPartenaires :
	 Philosophy – La Rochelle
URL:https://dubagenda.top/event/la-rochelle-in-dub-sinai-mountain-lasai
GEO:46.1747414;-1.2024573
LOCATION:17000 La Rochelle // Philosophy Le Concept - LKB Bâtiment\, 15\, R
	ue Elie Barreau\, Parc d'activités Les Rivauds Nord\, La Rochelle\, Charen
	te-Maritime\, Nouvelle-Aquitaine\, France métropolitaine\, 17000\, France
STATUS:CONFIRMED
CATEGORIES:2025,17,Sound System
X-ALT-DESC;FMTTYPE=text/html:<p>Le mythique Sinai Sound System, originaire 
	de Sheffield, vient poser son mur de son au Philosophy, accompagné du chan
	teur Lasai, pour une session 100% reggae dub culture.<br>Au programme :<br
	>🔊 Sinai Sound System (UK) ft. Lasai<br>🎤 Selecta Bym &amp; Dougy – Eskifa
	ia Sound System<br>💥 Roots Tonality Sound System<br>🔥 Lion’s Crown Sound<b
	r>💬 Invite tes amis et partage l’événement : c’est ensemble qu’on fait viv
	re la culture sound system à La Rochelle.<br>🎟️ Billetterie : <a target="_b
	lank" href="https://www.helloasso.com/.../sinai-sound-system-et-lasai">htt
	ps://www.helloasso.com/.../sinai-sound-system-et-lasai</a>...<br>Early Bir
	ds (10 places) → 10€<br>Préventes → 12€<br>Sur place → 15€<br>⚡️ Horaires p
	révisionnels : 18h – 05h (en attente validation mairie)<br>🍴 Bar &amp; res
	tauration sur place<br>Organisation : Eskifaia Sound System<br>Partenaires
	 : Philosophy – La Rochelle</p>
BEGIN:VALARM
ACTION:DISPLAY
DESCRIPTION:La Rochelle In Dub // Sinaï ⛰️ + Lasai
TRIGGER:-PT1H
END:VALARM
END:VEVENT
END:VCALENDAR
