BEGIN:VCALENDAR
VERSION:2.0
CALSCALE:GREGORIAN
PRODID:adamgibbons/ics
METHOD:PUBLISH
X-PUBLISHED-TTL:PT1H
BEGIN:VEVENT
UID:123@dubagenda.top
SUMMARY:La Rochelle In Dub 2 // Melodub Grateful Vibes Sofar Channel Eskifa
	ia
DTSTAMP:20260421T152851Z
DTSTART:20260307T170000Z
DTEND:20260308T010000Z
DESCRIPTION:La Rochelle in Dub – Part 2\nOn revient frapper à La Rochelle a
	u Philosophy Le Concept\, 15 Rue Élie Barreau.\nSession sound system roots
	\, dub et steppa de 18h à 02h.\nPrévente 12€ – Sur place 15€ (+ deux tarif
	s early )\nL’objectif est simple : faire grandir la scène sound system à L
	a Rochelle et\noffrir une vraie danse dans l’esprit des sessions tradition
	nelles.\n🔥 Melodub Sound System est né en 2012. Construction artisanale du
	 stack\,\névolution constante. Présents sur de nombreuses sessions en Fran
	ce et en Europe\,\nDub Camp\, Seasplash\, Outerdub\, Dub Club\, Bordeaux D
	ub School\, Dubwise United\,\nAlp’in Dub Festival. Ils ont joué avec Chann
	el One\, Dubkasm\, Lion’s Den\, Slimmah\nSound\, Dubateers\, Dawa Hifi\, C
	onscious Sound. Identité roots\, dub et steppa\, son\npuissant\, sélection
	 sérieuse.\n🔥 Grateful Vibes Sound System existe depuis 2018\, porté par L
	oïc. Influences\ndirectes de la culture UK roots : Jah Shaka\, Aba Shanti 
	I\, Channel One\, King\nEarthquake\, The Disciples. Sélection vinyle centr
	ée sur le roots\, le stepper\nroots\, le digi roots\, le UK roots. Sono ar
	tisanale\, message militant\, esprit\nconscient. Actif avec l’association 
	Entre Dub pour des danses caritatives.\nPrésence solide dans la scène dub 
	grenobloise.\n🔥 Sofar Channel Sound System a été fondé en 2022 par Nicolas
	 et Romain. Sound\nsystem construit de leurs mains\, sélection roots et du
	b inspirée de la tradition\nUK. Esprit anglo-jamaïcain\, transmission\, pa
	rtage\, respect de la culture. Un\njeune crew déjà ancré dans la vraie cul
	ture sound system.\n🔥 Eskifaia Sound System est actif à La Rochelle et dan
	s le sud-ouest.\nOrganisation d’événements\, sound system\, web radio\, pr
	oduction\, booking. Pousser\nla culture sound system et développer la scèn
	e locale.\nLa Rochelle in Dub – Part 2 est une soirée dédiée aux passionné
	s de roots\nreggae\, dub UK\, steppa et culture sound system. Une danse qu
	i sera physique et\nqui respecte les fondations de la culture et crée un v
	rai rendez-vous à La\nRochelle.\nLieu : Philosophy Le Concept\, 15 Rue Éli
	e Barreau\, La Rochelle\nDate : Samedi 7 mars 2026\nHoraires : 18h à 02h
URL:https://dubagenda.top/event/la-rochelle-in-dub-2-melodub-grateful-vibes
	-sofar-channel-eskifaya
GEO:46.1747414;-1.2024573
LOCATION:17000 La Rochelle // Philosophy Le Concept - LKB Bâtiment\, 15\, R
	ue Elie Barreau\, Parc d'activités Les Rivauds Nord\, La Rochelle\, Charen
	te-Maritime\, Nouvelle-Aquitaine\, France métropolitaine\, 17000\, France
STATUS:CONFIRMED
CATEGORIES:2026,17,Sound System
X-ALT-DESC;FMTTYPE=text/html:<p>La Rochelle in Dub – Part 2<br>On revient f
	rapper à La Rochelle au Philosophy Le Concept, 15 Rue Élie Barreau.<br>Ses
	sion sound system roots, dub et steppa de 18h à 02h.<br>Prévente 12€ – Sur
	 place 15€ (+ deux tarifs early )<br>L’objectif est simple : faire grandir
	 la scène sound system à La Rochelle et offrir une vraie danse dans l’espr
	it des sessions traditionnelles.<br>🔥 Melodub Sound System est né en 2012.
	 Construction artisanale du stack, évolution constante. Présents sur de no
	mbreuses sessions en France et en Europe, Dub Camp, Seasplash, Outerdub, D
	ub Club, Bordeaux Dub School, Dubwise United, Alp’in Dub Festival. Ils ont
	 joué avec Channel One, Dubkasm, Lion’s Den, Slimmah Sound, Dubateers, Daw
	a Hifi, Conscious Sound. Identité roots, dub et steppa, son puissant, séle
	ction sérieuse.<br>🔥 Grateful Vibes Sound System existe depuis 2018, porté
	 par Loïc. Influences directes de la culture UK roots : Jah Shaka, Aba Sha
	nti I, Channel One, King Earthquake, The Disciples. Sélection vinyle centr
	ée sur le roots, le stepper roots, le digi roots, le UK roots. Sono artisa
	nale, message militant, esprit conscient. Actif avec l’association Entre D
	ub pour des danses caritatives. Présence solide dans la scène dub grenoblo
	ise.<br>🔥 Sofar Channel Sound System a été fondé en 2022 par Nicolas et Ro
	main. Sound system construit de leurs mains, sélection roots et dub inspir
	ée de la tradition UK. Esprit anglo-jamaïcain, transmission, partage, resp
	ect de la culture. Un jeune crew déjà ancré dans la vraie culture sound sy
	stem.<br>🔥 Eskifaia Sound System est actif à La Rochelle et dans le sud-ou
	est. Organisation d’événements, sound system, web radio, production, booki
	ng. Pousser la culture sound system et développer la scène locale.<br>La R
	ochelle in Dub – Part 2 est une soirée dédiée aux passionnés de roots regg
	ae, dub UK, steppa et culture sound system. Une danse qui sera physique et
	 qui respecte les fondations de la culture et crée un vrai rendez-vous à L
	a Rochelle.<br>Lieu : Philosophy Le Concept, 15 Rue Élie Barreau, La Roche
	lle<br>Date : Samedi 7 mars 2026<br>Horaires : 18h à 02h</p>
BEGIN:VALARM
ACTION:DISPLAY
DESCRIPTION:La Rochelle In Dub 2 // Melodub Grateful Vibes Sofar Channel Es
	kifaia
TRIGGER:-PT1H
END:VALARM
END:VEVENT
END:VCALENDAR
