BEGIN:VCALENDAR
VERSION:2.0
CALSCALE:GREGORIAN
PRODID:adamgibbons/ics
METHOD:PUBLISH
X-PUBLISHED-TTL:PT1H
BEGIN:VEVENT
UID:27@dubagenda.top
SUMMARY:La Bamboche #3
DTSTAMP:20260421T152319Z
DTSTART:20250919T180000Z
DTEND:20250920T020000Z
DESCRIPTION:La bamboche est un évènement festif et pluraliste autour de la 
	culture sound\nsystem\, porté par l'assocation " Les Copaines D'abord "\n\
	n\n\n\n\nBAMBOCHE 3\n\nVENDREDI 19 SEPTEMBRE 20H / 04H\n\nSAMEDI 20 SEPTEM
	BRE 13H/ 04H\n\nLIEU : https://maps.app.goo.gl/TPyPnSumPJUqkBhZ8\n[https:/
	/maps.app.goo.gl/TPyPnSumPJUqkBhZ8]\n\nla gare\, Teillay 35620\n\nSound Sy
	stems / Bonne Musique pour Bon Public / Déco Maison Animations / Marché\nc
	réateur.ices / Chill / Food / Bar Stands VSS / prévention RdR Camping / Pa
	rking\n\nPAS DE BILLETTERIE SUR PLACE / PRÉVENTES UNIQUEMENT\n\nPRÉVOYEZ D
	U CASH / no CB\n\nCapacité 500 joyeuses personnes
URL:https://dubagenda.top/event/la-bamboche-3
GEO:47.8171679;-1.5484797
LOCATION:35620 Teillay - Rue de la Compagnie de l'Ouest\, Bellevue\, La Gar
	e\, Teillay\, Redon\, Ille-et-Vilaine\, Bretagne\, France métropolitaine\,
	 35620\, France
STATUS:CONFIRMED
CATEGORIES:2025,35,Sound System
X-ALT-DESC;FMTTYPE=text/html:<p>La bamboche est un évènement festif et plur
	aliste autour de la culture sound system, porté par l'assocation " Les Cop
	aines D'abord "</p><p></p><p></p><p>BAMBOCHE 3</p><p>VENDREDI 19 SEPTEMBRE
	 20H / 04H</p><p>SAMEDI 20 SEPTEMBRE 13H/ 04H</p><p>LIEU : <a target="_bla
	nk" href="https://maps.app.goo.gl/TPyPnSumPJUqkBhZ8">https://maps.app.goo.
	gl/TPyPnSumPJUqkBhZ8</a></p><p>la gare, Teillay 35620</p><p>Sound Systems 
	/ Bonne Musique pour Bon Public / Déco Maison Animations / Marché créateur
	.ices / Chill / Food / Bar Stands VSS / prévention RdR Camping / Parking</
	p><p>PAS DE BILLETTERIE SUR PLACE / PRÉVENTES UNIQUEMENT</p><p>PRÉVOYEZ DU
	 CASH / no CB</p><p>Capacité 500 joyeuses personnes</p>
BEGIN:VALARM
ACTION:DISPLAY
DESCRIPTION:La Bamboche #3
TRIGGER:-PT1H
END:VALARM
END:VEVENT
END:VCALENDAR
