BEGIN:VCALENDAR
VERSION:2.0
CALSCALE:GREGORIAN
PRODID:adamgibbons/ics
METHOD:PUBLISH
X-PUBLISHED-TTL:PT1H
BEGIN:VEVENT
UID:13@dubagenda.top
SUMMARY:Junior Dread 🇧🇷 // Ina Di Sound 🇫🇷
DTSTAMP:20260421T153205Z
DTSTART:20250802T150000Z
DTEND:20250802T220000Z
DESCRIPTION:🎶 Reggae / Dub / Stepper / Sound System\nEntrée libre\nJUNIOR D
	READ (Brasil) Ft INA DI SOUND (Sound System - 2 Scoops)\n\nNé à Sao Paulo\
	, Junior Dread est l'un des grands noms du reggae brésilien et\ngagne de p
	lus en plus de terrain à l'international. En près de 20 ans de\ncarrière\,
	 il compte déjà plusieurs albums à son actif\, notamment avec Junior\nMarv
	in\, le guitariste de Bob Marley\, avec qui il a enregistré son premier al
	bum\n! Il a également collaboré avec le célèbre producteur japonais DUB KA
	ZMAN pour\nl'album Equality et avec divers labels européens\, dont "Eviden
	ce Music" de\nGenève\, avec qui il prépare son prochain album. On ne compt
	e plus les vinyles\nque l'on peut entendre fréquemment lors des soirées So
	und System.\n\nAprès une tournée en Jamaïque\, il est de retour en Europe 
	pour une tournée\naccompagnée du crew Ina Di Sound de Nantes\, pour leur t
	roisième année de\ncollaboration avec des shows à travers toute l'Europe (
	Malte\, Belgique\, Pays\nBas\, Croatie\, Pologne\, République Tchèque...).
	 Avec un set Roots to Stepper\, des\nsélections vinyles et des productions
	 originales du Sound by Petah Higrade\n(Guidance Production)\, et la plupa
	rt des classiques de Junior Dread en live !\nFormule Sound System et Sirèn
	es activée 🚨🚨🚨\n\nBooking Contact : www.guidance-production.com\n[http://w
	ww.guidance-production.com]\n\nhttps://www.instagram.com/juniordreadbr\n[h
	ttps://www.instagram.com/juniordreadbr]\nhttps://www.facebook.com/share/1M
	L62CnF5y/\n[https://www.facebook.com/share/1ML62CnF5y/]\nhttps://youtube.c
	om/@juniordread [https://youtube.com/@juniordread]\n🎵 DJ SET dès 18h\n🎤 LI
	VE ARTIST à 21h30\n🍽 Food Trucks : Tiffin Box & Tonton Pâte\n—\n🕓 Guinguet
	te ouverte de 17h à 00h\n🍺 Happy hour : 17h – 19h\n📍 Divatte sur Loire (44
	)\n📲 Accès & infos pratiques → https://linktr.ee/guinguettedelapierreperce
	e\n[https://linktr.ee/guinguettedelapierrepercee]
URL:https://dubagenda.top/event/junior-dread-ina-di-sound
GEO:47.2864344;-1.3813622
LOCATION:44450 Divatte-Sur-Loire // Guinguette Pierre Percée - Les Levées\,
	 La Chapelle-Basse-Mer\, Divatte-sur-Loire\, Nantes\, Loire-Atlantique\, P
	ays de la Loire\, France métropolitaine\, 44450\, France
STATUS:CONFIRMED
CATEGORIES:2025,Nantes,Sound System
X-ALT-DESC;FMTTYPE=text/html:<p>🎶 Reggae / Dub / Stepper / Sound System<br>
	Entrée libre<br>JUNIOR DREAD (Brasil) Ft INA DI SOUND (Sound System - 2 Sc
	oops)<br><br>Né à Sao Paulo, Junior Dread est l'un des grands noms du regg
	ae brésilien et gagne de plus en plus de terrain à l'international. En prè
	s de 20 ans de carrière, il compte déjà plusieurs albums à son actif, nota
	mment avec Junior Marvin, le guitariste de Bob Marley, avec qui il a enreg
	istré son premier album ! Il a également collaboré avec le célèbre product
	eur japonais DUB KAZMAN pour l'album Equality et avec divers labels europé
	ens, dont "Evidence Music" de Genève, avec qui il prépare son prochain alb
	um. On ne compte plus les vinyles que l'on peut entendre fréquemment lors 
	des soirées Sound System.<br><br>Après une tournée en Jamaïque, il est de 
	retour en Europe pour une tournée accompagnée du crew Ina Di Sound de Nant
	es, pour leur troisième année de collaboration avec des shows à travers to
	ute l'Europe (Malte, Belgique, Pays Bas, Croatie, Pologne, République Tchè
	que...). Avec un set Roots to Stepper, des sélections vinyles et des produ
	ctions originales du Sound by Petah Higrade (Guidance Production), et la p
	lupart des classiques de Junior Dread en live ! Formule Sound System et Si
	rènes activée 🚨🚨🚨<br><br>Booking Contact : <a href="http://www.guidance-pr
	oduction.com" target="_blank">www.guidance-production.com</a><br><br><a hr
	ef="https://www.instagram.com/juniordreadbr" target="_blank">https://www.i
	nstagram.com/juniordreadbr</a><br><a href="https://www.facebook.com/share/
	1ML62CnF5y/" target="_blank">https://www.facebook.com/share/1ML62CnF5y/</a
	><br><a href="https://youtube.com/@juniordread" target="_blank">https://yo
	utube.com/@juniordread</a><br>🎵 DJ SET dès 18h<br>🎤 LIVE ARTIST à 21h30<br
	>🍽 Food Trucks : Tiffin Box &amp; Tonton Pâte<br>—<br>🕓 Guinguette ouverte
	 de 17h à 00h<br>🍺 Happy hour : 17h – 19h<br>📍 Divatte sur Loire (44)<br>📲
	 Accès &amp; infos pratiques → <a href="https://linktr.ee/guinguettedelapi
	errepercee" target="_blank">https://linktr.ee/guinguettedelapierrepercee</
	a> </p>
BEGIN:VALARM
ACTION:DISPLAY
DESCRIPTION:Junior Dread 🇧🇷 // Ina Di Sound 🇫🇷
TRIGGER:-PT1H
END:VALARM
END:VEVENT
END:VCALENDAR
