BEGIN:VCALENDAR
VERSION:2.0
CALSCALE:GREGORIAN
PRODID:adamgibbons/ics
METHOD:PUBLISH
X-PUBLISHED-TTL:PT1H
BEGIN:VEVENT
UID:55@dubagenda.top
SUMMARY:Ital Is Vital meets Zion Gate HiFi
DTSTAMP:20260421T152026Z
DTSTART:20251024T180000Z
DTEND:20251024T220000Z
DESCRIPTION:Zion Gate Hi-Fi est un Sound System nantais et l'un des plus an
	ciens de\nl'hexagone avec une sélection résolument "Roots & Culture" dédié
	 à la culture\nRastafari. Il est composé de Ras Abubakar à la sélection\, 
	de I Youth Tubby à\nl’opération & aux effets spéciaux et de Prince à l’ani
	mation.\nItal Is Vital Hi-Fi est un Sound System dont la vocation est de r
	etrouver\nl'esprit des sonos qui pouvaient jouer à la fin des années 70 / 
	début des années\n80 en Jamaïque et en Angleterre.\nZion Gate jouera sur l
	a sono d'Ital Is Vital : L'original 2 voies composé de 3\ncaissons "Bass-R
	eflex" hérités du mythique "JahLoveMuzik" ainsi que de 2\nenceintes Tannoy
	 couramment utilisées dans les années 80 par de nombreux Sound\nSystems an
	glais et d'un ampli à lampes qui donne aux basses un son riche et\nchaud a
	insi qu'une rondeur incomparable. La "Control Tower" comprend une platine\
	nvinyle Thorens TD-124 & un préampli "Toolbox" construit par Mr. Errol qui
	 a\nnotamment travaillé avec des sounds prestigieux comme Sir Coxsone\, Qu
	aker City\,\nSaxon etc.\nUne soirée dédiée au "Roots Rock Reggae" avec une
	 musique et un message\nconscient : "Roots & Culture".\nSoirée gratuite\nD
	igital Village\, 12 Boulevard Jean Moulin\, 49100 Angers - 20h-00h
URL:https://dubagenda.top/event/ital-is-vital-meets-zion-gate-hifi
GEO:47.4925985;-0.5516827
LOCATION:49100 Angers // Digital Village - Digital Village Angers\, Bouleva
	rd Jean Moulin\, Bocquel\, Hauts de Saint-Aubin\, Angers\, Maine-et-Loire\
	, Pays de la Loire\, France métropolitaine\, 49100\, France
STATUS:CONFIRMED
CATEGORIES:2025,49,Sound System
X-ALT-DESC;FMTTYPE=text/html:<p>Zion Gate Hi-Fi est un Sound System nantais
	 et l'un des plus anciens de l'hexagone avec une sélection résolument "Roo
	ts &amp; Culture" dédié à la culture Rastafari. Il est composé de Ras Abub
	akar à la sélection, de I Youth Tubby à l’opération &amp; aux effets spéci
	aux et de Prince à l’animation.<br>Ital Is Vital Hi-Fi est un Sound System
	 dont la vocation est de retrouver l'esprit des sonos qui pouvaient jouer 
	à la fin des années 70 / début des années 80 en Jamaïque et en Angleterre.
	<br>Zion Gate jouera sur la sono d'Ital Is Vital : L'original 2 voies comp
	osé de 3 caissons "Bass-Reflex" hérités du mythique "JahLoveMuzik" ainsi q
	ue de 2 enceintes Tannoy couramment utilisées dans les années 80 par de no
	mbreux Sound Systems anglais et d'un ampli à lampes qui donne aux basses u
	n son riche et chaud ainsi qu'une rondeur incomparable. La "Control Tower"
	 comprend une platine vinyle Thorens TD-124 &amp; un préampli "Toolbox" co
	nstruit par Mr. Errol qui a notamment travaillé avec des sounds prestigieu
	x comme Sir Coxsone, Quaker City, Saxon etc.<br>Une soirée dédiée au "Root
	s Rock Reggae" avec une musique et un message conscient : "Roots &amp; Cul
	ture".<br>Soirée gratuite<br>Digital Village, 12 Boulevard Jean Moulin, 49
	100 Angers - 20h-00h</p>
BEGIN:VALARM
ACTION:DISPLAY
DESCRIPTION:Ital Is Vital meets Zion Gate HiFi
TRIGGER:-PT1H
END:VALARM
END:VEVENT
END:VCALENDAR
