BEGIN:VCALENDAR
VERSION:2.0
CALSCALE:GREGORIAN
PRODID:adamgibbons/ics
METHOD:PUBLISH
X-PUBLISHED-TTL:PT1H
BEGIN:VEVENT
UID:80@dubagenda.top
SUMMARY:Irie Ites 26th Anniversary ⭐SOLIDARITE JAMAIQUE⭐
DTSTAMP:20260421T152128Z
DTSTART:20251122T190000Z
DTEND:20251123T010000Z
DESCRIPTION:⭐IRIE ITES 26TH ANNIVERSARY⭐\n⭐SOLIDARITE JAMAIQUE⭐\nIrie Ites 
	organise à l’occasion de son 26ème anniversaire une collecte de fonds\npou
	r la Jamaïque 🇯🇲 Avec la participation exceptionnelle de Linval Thompson\,\
	nJah Mason\, Midnight Riders\, Big Red\, Puppa Nadem et les amis de Truth 
	& Right\,\nControl Tower\, le tout sur la big sono de 5 Disciples Sound Sy
	stem🔥🔥\n6h de son à Angers le samedi 22 Novembre dont les fonds seront ent
	ièrement\nreversés à la Jamaïque suite au terrible ouragan qui a dévasté u
	ne partie de\nl’île. Venez nombreux apporter votre soutien 🙏\nLien Pré-Ven
	te -> https://www.helloasso.com/.../evenements/solidarite-jamaique\n[https
	://www.helloasso.com/.../evenements/solidarite-jamaique]\nPré-vente : 15€ 
	I Sur Place : 20€\nPour les personnes qui ne peuvent se déplacer à la soir
	ée et qui souhaitent\nsoutenir la cause\, les dons sont possibles via ce l
	ien :\nhttps://www.helloasso.com/.../asso-karma/formulaires/1\n[https://ww
	w.helloasso.com/.../asso-karma/formulaires/1]\nInfographie par Nina
URL:https://dubagenda.top/event/irie-ites-26th-anniversary-medium-starsolid
	arite-jamaiquemedium-star
GEO:47.4744108;-0.5516046
LOCATION:49100 Angers // Entrepôt Café - Rue Boisnet\, Centre Ville - La Fa
	yette - Eblé\, Angers\, Maine-et-Loire\, Pays de la Loire\, France métropo
	litaine\, 49100\, France
STATUS:CONFIRMED
CATEGORIES:2025,49,Sound System
X-ALT-DESC;FMTTYPE=text/html:<p>⭐IRIE ITES 26TH ANNIVERSARY⭐<br>⭐SOLIDARITE
	 JAMAIQUE⭐<br>Irie Ites organise à l’occasion de son 26ème anniversaire un
	e collecte de fonds pour la Jamaïque 🇯🇲 Avec la participation exceptionnell
	e de Linval Thompson, Jah Mason, Midnight Riders, Big Red, Puppa Nadem et 
	les amis de Truth &amp; Right, Control Tower, le tout sur la big sono de 5
	 Disciples Sound System🔥🔥<br>6h de son à Angers le samedi 22 Novembre dont
	 les fonds seront entièrement reversés à la Jamaïque suite au terrible our
	agan qui a dévasté une partie de l’île. Venez nombreux apporter votre sout
	ien 🙏<br>Lien Pré-Vente -&gt; <a target="_blank" href="https://www.helloas
	so.com/.../evenements/solidarite-jamaique">https://www.helloasso.com/.../e
	venements/solidarite-jamaique</a><br>Pré-vente : 15€ I Sur Place : 20€<br>
	Pour les personnes qui ne peuvent se déplacer à la soirée et qui souhaiten
	t soutenir la cause, les dons sont possibles via ce lien : <a target="_bla
	nk" href="https://www.helloasso.com/.../asso-karma/formulaires/1">https://
	www.helloasso.com/.../asso-karma/formulaires/1</a><br>Infographie par Nina
	</p>
BEGIN:VALARM
ACTION:DISPLAY
DESCRIPTION:Irie Ites 26th Anniversary ⭐SOLIDARITE JAMAIQUE⭐
TRIGGER:-PT1H
END:VALARM
END:VEVENT
END:VCALENDAR
