BEGIN:VCALENDAR
VERSION:2.0
CALSCALE:GREGORIAN
PRODID:adamgibbons/ics
METHOD:PUBLISH
X-PUBLISHED-TTL:PT1H
BEGIN:VEVENT
UID:184@dubagenda.top
SUMMARY:INVALVED SOCIAL CLUB#25 // Sound Meeting Edition
DTSTAMP:20260421T141402Z
DTSTART:20270116T180000Z
DTEND:20270117T004500Z
DESCRIPTION:INVALVED SOCIAL CLUB#25 // Sound Meeting Edition\n\nMore info S
	oon
URL:https://dubagenda.top/event/invalved-social-club25-sound-meeting-editio
	n
GEO:47.1949813;-1.556941
LOCATION:44400 Rezé // Cold Crash - Brasserie Nautile\, 4\, Rue du Seil\, L
	e Port Au Blé\, Haute Île\, Rezé\, Nantes\, Loire-Atlantique\, Pays de la 
	Loire\, France métropolitaine\, 44400\, France
STATUS:CONFIRMED
CATEGORIES:
X-ALT-DESC;FMTTYPE=text/html:<p>INVALVED SOCIAL CLUB#25 // Sound Meeting Ed
	ition</p><p>More info Soon</p>
BEGIN:VALARM
ACTION:DISPLAY
DESCRIPTION:INVALVED SOCIAL CLUB#25 // Sound Meeting Edition
TRIGGER:-PT1H
END:VALARM
END:VEVENT
END:VCALENDAR
