BEGIN:VCALENDAR
VERSION:2.0
CALSCALE:GREGORIAN
PRODID:adamgibbons/ics
METHOD:PUBLISH
X-PUBLISHED-TTL:PT1H
BEGIN:VEVENT
UID:58@dubagenda.top
SUMMARY:Invalved Social Club #16 // Sound Meeting Edition
DTSTAMP:20260421T141256Z
DTSTART:20251115T180000Z
DTEND:20251116T010000Z
DESCRIPTION:SOUND MEETING EDITION // 3 CREW // 3 SONOS\n\nEnvie de revenir 
	aux fondements de la culture sound en profitant de\nl'intégralité de l'ide
	ntité des crews !? Rien de tel qu'une rencontre de sound\nsystem ! Sound m
	eeting rule you know ! Chaque crew ramène sa selection et sa\nsono ! 3X3 b
	asses meeting !\n\n-- YOUTH COLLECTIV SOUND --\n"The Tuff Youths From 44" 
	Organisateurs du RIDDIM RUNNERS FESTIVAL et activistes\nde la scène dub de
	puis 2015\, les youth collectiv transmettent un message d'unité\net de par
	tage dans le respect de la tradition sound system anglaise. Leur\nselectio
	n évolue du roots des années 70 aux dernières dubplates du moment en\npass
	ant par le Rub a Dub et les 90's ! Ruff & Tuff vibes a come !\nhttps://www
	.facebook.com/youthcollectivesound/\n[https://www.facebook.com/youthcollec
	tivesound/]\n\n-- RUFF A DUB --\n"The Massive Challenger From Rennes City"
	 Organisateurs du festival "La\nBAMBOCHE" au Teillay\, les Ruf a Dub ont é
	té bercés par les sessions de Legal\nShot et I Skankers. Au fur et à mesur
	e des session\, ils ont acquis une sérieuse\nréputation en Bretagne.\nsoun
	dcloud.com/ruffadubsoundsystem\n[https://l.facebook.com/l.php?u=https%3A%2
	F%2Fsoundcloud.com%2Fruffadubsoundsystem&h=AT0JgpxnE2Z8cPHaHkS7XXqx-8nunLk
	ik3cJcppI9uhwIYzzJFwdoVu9wOZioPGki2pdkO2PWt4eg193ZyrjtuFXD6W8WfjvAuNw8-apr
	_gFh5MgwucOhLuVDl9LCCT4gsIdeS6LpE4TjAYgr9SrW4q7&__tn__=q&c[0]=AT39Vd2Gvpkx
	mV5BPa_jdIOjAb28T01rOVT7xNyxJE75MSTQO4MfA2wHgxyLADvj-eyph-Q756kBdg1FhzeTmB
	TPrNpjuxj315yzvwLxvrCpwXIFcE3RCn8-rARE-qbPD00tBZvcRIHbbQ5NogAHoBCWcBXf0Etu
	VfY]\nhttps://www.facebook.com/RUFFADUBSOUND [https://www.facebook.com/RUF
	FADUBSOUND]\n\n-- INVALVED SOUND --\n"The Powerfull Vibes Provider"\nDJ ré
	sident de la Social Club\, Invalved joue majoritairement du reggae Jamaïca
	in\nsur sa sono vintage. Entre classiques et raretés dénichées au fil du t
	emps\, on\nreplonge dans l'ambiance des Sounds Systems fondateurs de cette
	 scène.\nhttps://www.facebook.com/InvalvedSoundSystem/\n[https://www.faceb
	ook.com/InvalvedSoundSystem/]\nhttps://www.facebook.com/watch/?v=386039122
	015800\n[https://www.facebook.com/watch/?v=386039122015800]\n\n-- SOCIAL C
	LUB --\nC'est le nom de nos soirées : good vibes\, beautiful smiles\, craz
	y dub\, involved\npeople\, nice food and premium beer ! Merci de nous sout
	enir au fil du temps\,\ntoujours ravis de voir les habitués et de nouvelle
	s têtes se présenter !!\n\n-- COLD CRASH --\nCave à bières mais aussi un v
	éritable lieu événementiel où la culture et le\ndivertissement sont à l’ho
	nneur.\nhttp://coldcrash.fr/ [http://coldcrash.fr/]\n\n-- RESTO --\nTBC\n\
	n-- INVOLVED GUEST --\nTBC\n\n-- ACCES --\n4 Rue du Seil\, 44400 Rezé\n/ (
	tram/+ à pied) - tram 3 arrêt 8 mai\, puis 7mins à pied (dernier tram 2H20
	 le\nweekend)\n/(bus/ + à pied) - bus 36 arrêt Haute Ile (5secs à pied de 
	la salle). Bus jusque\n23h50 avec correspondances\, puis 00h50 en semaine 
	peu importe la période\, et\njusque 2h50 le weekend !\n/ (vélo ou voiture)
	 - places de parking dans le quartier\, vélos : dans\nl'enceinte du lieu.\
	n\n-- BILLETERIE --\nPréventes : 10€/12€ (ça risque de partir vite !)\nSur
	 place : 14€
URL:https://dubagenda.top/event/invalved-social-club-sound-meeting-edition
GEO:47.1949813;-1.556941
LOCATION:44400 Rezé // Cold Crash - Brasserie Nautile\, 4\, Rue du Seil\, L
	e Port Au Blé\, Haute Île\, Rezé\, Nantes\, Loire-Atlantique\, Pays de la 
	Loire\, France métropolitaine\, 44400\, France
STATUS:CONFIRMED
CATEGORIES:2025,Nantes,Sound System
X-ALT-DESC;FMTTYPE=text/html:<p>SOUND MEETING EDITION // 3 CREW // 3 SONOS<
	/p><p>Envie de revenir aux fondements de la culture sound en profitant de 
	l'intégralité de l'identité des crews !? Rien de tel qu'une rencontre de s
	ound system ! Sound meeting rule you know ! Chaque crew ramène sa selectio
	n et sa sono ! 3X3 basses meeting !</p><p>-- YOUTH COLLECTIV SOUND --<br>"
	The Tuff Youths From 44" Organisateurs du RIDDIM RUNNERS FESTIVAL et activ
	istes de la scène dub depuis 2015, les youth collectiv transmettent un mes
	sage d'unité et de partage dans le respect de la tradition sound system an
	glaise. Leur selection évolue du roots des années 70 aux dernières dubplat
	es du moment en passant par le Rub a Dub et les 90's ! Ruff &amp; Tuff vib
	es a come ! <br><a target="_blank" href="https://www.facebook.com/youthcol
	lectivesound/">https://www.facebook.com/youthcollectivesound/</a></p><p>--
	 RUFF A DUB --<br>"The Massive Challenger From Rennes City" Organisateurs 
	du festival "La BAMBOCHE" au Teillay, les Ruf a Dub ont été bercés par les
	 sessions de Legal Shot et I Skankers. Au fur et à mesure des session, ils
	 ont acquis une sérieuse réputation en Bretagne. <br><a target="_blank" hr
	ef="https://l.facebook.com/l.php?u=https%3A%2F%2Fsoundcloud.com%2Fruffadub
	soundsystem&amp;h=AT0JgpxnE2Z8cPHaHkS7XXqx-8nunLkik3cJcppI9uhwIYzzJFwdoVu9
	wOZioPGki2pdkO2PWt4eg193ZyrjtuFXD6W8WfjvAuNw8-apr_gFh5MgwucOhLuVDl9LCCT4gs
	IdeS6LpE4TjAYgr9SrW4q7&amp;__tn__=q&amp;c[0]=AT39Vd2GvpkxmV5BPa_jdIOjAb28T
	01rOVT7xNyxJE75MSTQO4MfA2wHgxyLADvj-eyph-Q756kBdg1FhzeTmBTPrNpjuxj315yzvwL
	xvrCpwXIFcE3RCn8-rARE-qbPD00tBZvcRIHbbQ5NogAHoBCWcBXf0EtuVfY">soundcloud.c
	om/ruffadubsoundsystem</a><br><a target="_blank" href="https://www.faceboo
	k.com/RUFFADUBSOUND">https://www.facebook.com/RUFFADUBSOUND</a></p><p>-- I
	NVALVED SOUND -- <br>"The Powerfull Vibes Provider" <br>DJ résident de la 
	Social Club, Invalved joue majoritairement du reggae Jamaïcain sur sa sono
	 vintage. Entre classiques et raretés dénichées au fil du temps, on replon
	ge dans l'ambiance des Sounds Systems fondateurs de cette scène.<br><a tar
	get="_blank" href="https://www.facebook.com/InvalvedSoundSystem/">https://
	www.facebook.com/InvalvedSoundSystem/</a><br><a target="_blank" href="http
	s://www.facebook.com/watch/?v=386039122015800">https://www.facebook.com/wa
	tch/?v=386039122015800</a></p><p>-- SOCIAL CLUB -- <br>C'est le nom de nos
	 soirées : good vibes, beautiful smiles, crazy dub, involved people, nice 
	food and premium beer ! Merci de nous soutenir au fil du temps, toujours r
	avis de voir les habitués et de nouvelles têtes se présenter !!</p><p>-- C
	OLD CRASH -- <br>Cave à bières mais aussi un véritable lieu événementiel o
	ù la culture et le divertissement sont à l’honneur.<br><a target="_blank" 
	href="http://coldcrash.fr/">http://coldcrash.fr/</a></p><p>-- RESTO -- <br
	>TBC</p><p>-- INVOLVED GUEST -- <br>TBC</p><p>-- ACCES -- <br>4 Rue du Sei
	l, 44400 Rezé<br>/ (tram/+ à pied) - tram 3 arrêt 8 mai, puis 7mins à pied
	 (dernier tram 2H20 le weekend)<br>/(bus/ + à pied) - bus 36 arrêt Haute I
	le (5secs à pied de la salle). Bus jusque 23h50 avec correspondances, puis
	 00h50 en semaine peu importe la période, et jusque 2h50 le weekend !<br>/
	 (vélo ou voiture) - places de parking dans le quartier, vélos : dans l'en
	ceinte du lieu.</p><p>-- BILLETERIE -- <br>Préventes : 10€/12€ (ça risque 
	de partir vite !)<br>Sur place : 14€</p>
BEGIN:VALARM
ACTION:DISPLAY
DESCRIPTION:Invalved Social Club #16 // Sound Meeting Edition
TRIGGER:-PT1H
END:VALARM
END:VEVENT
END:VCALENDAR
