BEGIN:VCALENDAR
VERSION:2.0
CALSCALE:GREGORIAN
PRODID:adamgibbons/ics
METHOD:PUBLISH
X-PUBLISHED-TTL:PT1H
BEGIN:VEVENT
UID:136@dubagenda.top
SUMMARY:Invalved Social Club // I-Skankers Musically Mad
DTSTAMP:20260421T141506Z
DTSTART:20260228T180000Z
DTEND:20260301T010000Z
DESCRIPTION:-- I SKANKERS SOUND SYSTEM --\n"The Rootikal Dubwise Family"\nD
	iffusant une musique positive\, consciente et dansante dans un esprit Root
	s &\nCulture engagé\, le crew jouera ses sélections du Roots 70' au Steppe
	r UK et\nautres dubz exclusifs ! Ce sera l'occasion de faire découvrir aux
	 massives les\nnouvelles productions à venir sur leurs label I-Skankers Re
	cords/Dubplate !\nAdeptes des basses rondes et des sonorités steppa\, COME
	 INNA DI DANCE !!!\nSKANKING TIME !!!\n-- MUSICALY MAD SOUND SYSTEM --\nDe
	puis plus de 15 ans Musically Mad Sound System a pour but de promouvoir la
	\nmusique reggae en ce produisant dans la tradition des sound system UK\, 
	sur une\nsono artisanale inna roots & culture style.\n-- INVALVED SOUND --
	\n"The Powerfull Vibes Provider"\nDJ résident de la Social Club\, Invalved
	 joue majoritairement du reggae Jamaïcain\nsur sa sono vintage. Entre clas
	siques et raretés dénichées au fil du temps\, on\nreplonge dans l'ambiance
	 des Sounds Systems fondateurs de cette scène.\nhttps://www.facebook.com/I
	nvalvedSoundSystem/\n[https://www.facebook.com/InvalvedSoundSystem/]\nhttp
	s://www.facebook.com/watch/?v=386039122015800\n[https://www.facebook.com/w
	atch/?v=386039122015800]\n-- SOCIAL CLUB --\nC'est le nom de nos soirées :
	 good vibes\, beautiful smiles\, crazy dub\, involved\npeople\, nice food 
	and premium beer ! Merci de nous soutenir au fil du temps\,\ntoujours ravi
	s de voir les habitués et de nouvelles têtes se présenter !!\n-- COLD CRAS
	H --\nCave à bières mais aussi un véritable lieu événementiel où la cultur
	e et le\ndivertissement sont à l’honneur.\nhttp://coldcrash.fr/ [http://co
	ldcrash.fr/]\n-- 🌭 RESTO🌭 --\nL'autre cantine !! Cantine Solidaire !! Prix
	 Libre (conseillé 3 à 5€)\n-- INVOLVED GUEST --\nLa Cloche a été fondée su
	r un constat : l’accès aux services de base est aussi\nimportant que le re
	spect de la dignité pour les personnes en situation de grande\nprécarité. 
	Créée en 2015 à Paris\, La Cloche est désormais présente dans 11\ngrandes 
	villes de France.\nMissions : Agir contre l’exclusion des personnes en sit
	uation de grande\nprécarité (personnes sans-domicile\, personnes précaires
	) à travers le lien\nsocial et le bénévolat inclusif avec la conviction qu
	e chacun·e a un rôle à\njouer.\n-- ACCES --\n4 Rue du Seil\, 44400 Rezé\n🚋
	/🚶‍♀️🚶‍♂️ (tram/+ à pied) - tram 3 arrêt 8 mai\, puis 7mins à pied (dernier\ntra
	m 2H20 le weekend)\n🚌/🚶‍♀️🚶‍♂️(bus/ + à pied) - bus 36 arrêt Haute Ile (5secs à 
	pied de la\nsalle). Bus jusque 23h50 avec correspondances\, puis 00h50 en 
	semaine peu importe\nla période\, et jusque 2h50 le weekend !\n🚲/🚗 (vélo o
	u voiture) - places de parking dans le quartier\, vélos : dans\nl'enceinte
	 du lieu.\n-- BILLETTERIE --\nPréventes : 8€/10€\nSur place : 12€
URL:https://dubagenda.top/event/invalved-social-club-i-skankers-musically-m
	ad
GEO:47.1949813;-1.556941
LOCATION:44400 Rezé // Cold Crash - Brasserie Nautile\, 4\, Rue du Seil\, L
	e Port Au Blé\, Haute Île\, Rezé\, Nantes\, Loire-Atlantique\, Pays de la 
	Loire\, France métropolitaine\, 44400\, France
STATUS:CONFIRMED
CATEGORIES:Nantes,2026,Sound System
X-ALT-DESC;FMTTYPE=text/html:<p>-- I SKANKERS SOUND SYSTEM --<br>"The Rooti
	kal Dubwise Family"<br>Diffusant une musique positive, consciente et dansa
	nte dans un esprit Roots &amp; Culture engagé, le crew jouera ses sélectio
	ns du Roots 70' au Stepper UK et autres dubz exclusifs ! Ce sera l'occasio
	n de faire découvrir aux massives les nouvelles productions à venir sur le
	urs label I-Skankers Records/Dubplate ! Adeptes des basses rondes et des s
	onorités steppa, COME INNA DI DANCE !!! SKANKING TIME !!!<br>-- MUSICALY M
	AD SOUND SYSTEM --<br>Depuis plus de 15 ans Musically Mad Sound System a p
	our but de promouvoir la musique reggae en ce produisant dans la tradition
	 des sound system UK, sur une sono artisanale inna roots &amp; culture sty
	le.<br>-- INVALVED SOUND --<br>"The Powerfull Vibes Provider"<br>DJ réside
	nt de la Social Club, Invalved joue majoritairement du reggae Jamaïcain su
	r sa sono vintage. Entre classiques et raretés dénichées au fil du temps, 
	on replonge dans l'ambiance des Sounds Systems fondateurs de cette scène.<
	br><a href="https://www.facebook.com/InvalvedSoundSystem/" target="_blank"
	>https://www.facebook.com/InvalvedSoundSystem/</a><br><a href="https://www
	.facebook.com/watch/?v=386039122015800" target="_blank">https://www.facebo
	ok.com/watch/?v=386039122015800</a><br>-- SOCIAL CLUB --<br>C'est le nom d
	e nos soirées : good vibes, beautiful smiles, crazy dub, involved people, 
	nice food and premium beer ! Merci de nous soutenir au fil du temps, toujo
	urs ravis de voir les habitués et de nouvelles têtes se présenter !!<br>--
	 COLD CRASH --<br>Cave à bières mais aussi un véritable lieu événementiel 
	où la culture et le divertissement sont à l’honneur.<br><a href="http://co
	ldcrash.fr/" target="_blank">http://coldcrash.fr/</a><br>-- 🌭 RESTO🌭 --<br
	>L'autre cantine !! Cantine Solidaire !! Prix Libre (conseillé 3 à 5€)<br>
	-- INVOLVED GUEST --<br>La Cloche a été fondée sur un constat : l’accès au
	x services de base est aussi important que le respect de la dignité pour l
	es personnes en situation de grande précarité. Créée en 2015 à Paris, La C
	loche est désormais présente dans 11 grandes villes de France.<br>Missions
	 : Agir contre l’exclusion des personnes en situation de grande précarité 
	(personnes sans-domicile, personnes précaires) à travers le lien social et
	 le bénévolat inclusif avec la conviction que chacun·e a un rôle à jouer.<
	br>-- ACCES --<br>4 Rue du Seil, 44400 Rezé<br>🚋/🚶‍♀️🚶‍♂️ (tram/+ à pied) - tram
	 3 arrêt 8 mai, puis 7mins à pied (dernier tram 2H20 le weekend)<br>🚌/🚶‍♀️🚶‍♂️(b
	us/ + à pied) - bus 36 arrêt Haute Ile (5secs à pied de la salle). Bus jus
	que 23h50 avec correspondances, puis 00h50 en semaine peu importe la pério
	de, et jusque 2h50 le weekend !<br>🚲/🚗 (vélo ou voiture) - places de parki
	ng dans le quartier, vélos : dans l'enceinte du lieu.<br>-- BILLETTERIE --
	<br>Préventes : 8€/10€<br>Sur place : 12€</p>
BEGIN:VALARM
ACTION:DISPLAY
DESCRIPTION:Invalved Social Club // I-Skankers Musically Mad
TRIGGER:-PT1H
END:VALARM
END:VEVENT
END:VCALENDAR
