BEGIN:VCALENDAR
VERSION:2.0
CALSCALE:GREGORIAN
PRODID:adamgibbons/ics
METHOD:PUBLISH
X-PUBLISHED-TTL:PT1H
BEGIN:VEVENT
UID:176@dubagenda.top
SUMMARY:Invalved Social Club #20 // Rooty
DTSTAMP:20260421T121330Z
DTSTART:20260430T170000Z
DTEND:20260430T234500Z
DESCRIPTION:Un sound system un jeudi soir ?!? Bah oui pardi ! Veille de jou
	r férié !!\n\nPour l'occasion ROOTY\, DJ du fameux crew Stand High Patrol 
	viendra partager\nl'amplitude de sa passion pour la musique jamaïcaine lor
	s d'un set de 4H !!!\nAttention jauge limitée..\n18h 22h --> en extérieur 
	sur la terrasse : Invalved Family\n22h 1h45 --> en intérieur sur le Invalv
	ed Sound : Rooty\n-- ROOTY 4H SET --\nSelecta et membre fondateur du colle
	ctif Stand High Patrol\, Rooty est aussi un\nsérieux collectionneur de wax
	 qui accumule les disques depuis 1999. Toujours à\nla recherche de pépites
	\, il trouve ses galettes lors de voyages consacrés à\ndigger la perle rar
	e. Du fin fond de la Bretagne à New York\, en passant par\nKingston\, Lond
	res\, Paris ou encore Sao Paulo\, ses sélections se sont affinées au\ngré 
	des voyages et des rencontres.\nFort d’une solide expérience scénique et d
	e sound system\, Rooty drivera cette\nsession avec pour seul objectif : vo
	us faire danser !\nFin connaisseur de la musique jamaïcaine\, rooty vous p
	roposera une excursion\nmusicale des fondations Rocksteady aux Dubs les pl
	us avant-gardistes sans\noublier le Roots et le Early digital. Dubplates e
	t exclusif mix clôturerons ce\nvoyage musical de 4h au sein de l'univers\n
	de Rooty.\n-- INVALVED SOUND --\n"The Powerfull Vibes Provider"\nDJ réside
	nt de la Social Club\, Invalved joue majoritairement du reggae Jamaïcain\n
	sur sa sono vintage. Entre classiques et raretés dénichées au fil du temps
	\, on\nreplonge dans l'ambiance des Sounds Systems fondateurs de cette scè
	ne.\nhttps://www.facebook.com/InvalvedSoundSystem/\n[https://www.facebook.
	com/InvalvedSoundSystem/]\nhttps://www.facebook.com/watch/?v=3860391220158
	00\n[https://www.facebook.com/watch/?v=386039122015800]\n-- SOCIAL CLUB --
	\nC'est le nom de nos soirées : good vibes\, beautiful smiles\, crazy dub\
	, involved\npeople\, nice food and premium beer ! Merci de nous soutenir a
	u fil du temps\,\ntoujours ravis de voir les habitués et de nouvelles tête
	s se présenter !!\n-- COLD CRASH --\nCave à bières mais aussi un véritable
	 lieu événementiel où la culture et le\ndivertissement sont à l’honneur.\n
	http://coldcrash.fr/ [http://coldcrash.fr/]\n-- 🌭 RESTO🌭 --\nL'autre canti
	ne !! Cantine Solidaire !! Prix Libre\n-- INVOLVED GUEST -- OXFAM NANTES !
	!\nDepuis 1988\, l’association Oxfam France (anciennement Agir ici) mobili
	se le\npouvoir citoyen pour lutter contre les inégalités et abolir la pauv
	reté. Ils\napportent une aide vitale aux populations les plus vulnérables 
	du monde entier\,\ncar celles et ceux qui subissent la violence de la pauv
	reté n’ont pas le temps\nd’attendre que nos sociétés et nos économies chan
	gent. Sur la période avril 2022\nà avril 2023\, la confédération Oxfam a s
	outenu plus de 15 millions de personnes\nà travers le monde en assurant l’
	accès à l’eau\, à de la nourriture\, à des\nsystèmes et des produits d’hyg
	iène et en distribuant des fonds.\nA discuter avec Oxfam --> Inégalité et 
	justice fiscale / Climat et énergie /\nAgriculture et sécurité alimentaire
	 / inégalités mondiales / migrations /\nHumanitaire et urgneces / inégalit
	és femmes hommes\n-- ACCES --\n4 Rue du Seil\, 44400 Rezé\n🚋/🚶‍♀️🚶‍♂️ (tram/+ à 
	pied) - tram 3 arrêt 8 mai\, puis 7mins à pied (dernier\ntram 2H20 le week
	end)\n🚌/🚶‍♀️🚶‍♂️(bus/ + à pied) - bus 36 arrêt Haute Ile (5secs à pied de la\nsa
	lle). Bus jusque 23h50 avec correspondances\, puis 00h50 en semaine peu im
	porte\nla période\, et jusque 2h50 le weekend !\n🚲/🚗 (vélo ou voiture) - p
	laces de parking dans le quartier\, vélos : dans\nl'enceinte du lieu.\n-- 
	BILLETTERIE --\nPréventes : 8€/10€\nSur place : 12€
URL:https://dubagenda.top/event/invalved-social-club-20-rooty
GEO:47.1949813;-1.556941
LOCATION:44400 Rezé // Cold Crash - Brasserie Nautile\, 4\, Rue du Seil\, L
	e Port Au Blé\, Haute Île\, Rezé\, Nantes\, Loire-Atlantique\, Pays de la 
	Loire\, France métropolitaine\, 44400\, France
STATUS:CONFIRMED
CATEGORIES:Nantes,2026,Sound System
X-ALT-DESC;FMTTYPE=text/html:<p>Un sound system un jeudi soir ?!? Bah oui p
	ardi ! Veille de jour férié !!<br><br>Pour l'occasion ROOTY, DJ du fameux 
	crew Stand High Patrol viendra partager l'amplitude de sa passion pour la 
	musique jamaïcaine lors d'un set de 4H !!! Attention jauge limitée..<br>18
	h 22h --&gt; en extérieur sur la terrasse : Invalved Family<br>22h 1h45 --
	&gt; en intérieur sur le Invalved Sound : Rooty<br>-- ROOTY 4H SET --<br>S
	electa et membre fondateur du collectif Stand High Patrol, Rooty est aussi
	 un sérieux collectionneur de wax qui accumule les disques depuis 1999. To
	ujours à la recherche de pépites, il trouve ses galettes lors de voyages c
	onsacrés à digger la perle rare. Du fin fond de la Bretagne à New York, en
	 passant par Kingston, Londres, Paris ou encore Sao Paulo, ses sélections 
	se sont affinées au gré des voyages et des rencontres.<br>Fort d’une solid
	e expérience scénique et de sound system, Rooty drivera cette session avec
	 pour seul objectif : vous faire danser !<br>Fin connaisseur de la musique
	 jamaïcaine, rooty vous proposera une excursion musicale des fondations Ro
	cksteady aux Dubs les plus avant-gardistes sans oublier le Roots et le Ear
	ly digital. Dubplates et exclusif mix clôturerons ce voyage musical de 4h 
	au sein de l'univers<br>de Rooty.<br>-- INVALVED SOUND --<br>"The Powerful
	l Vibes Provider"<br>DJ résident de la Social Club, Invalved joue majorita
	irement du reggae Jamaïcain sur sa sono vintage. Entre classiques et raret
	és dénichées au fil du temps, on replonge dans l'ambiance des Sounds Syste
	ms fondateurs de cette scène.<br><a target="_blank" href="https://www.face
	book.com/InvalvedSoundSystem/">https://www.facebook.com/InvalvedSoundSyste
	m/</a><br><a target="_blank" href="https://www.facebook.com/watch/?v=38603
	9122015800">https://www.facebook.com/watch/?v=386039122015800</a><br>-- SO
	CIAL CLUB --<br>C'est le nom de nos soirées : good vibes, beautiful smiles
	, crazy dub, involved people, nice food and premium beer ! Merci de nous s
	outenir au fil du temps, toujours ravis de voir les habitués et de nouvell
	es têtes se présenter !!<br>-- COLD CRASH --<br>Cave à bières mais aussi u
	n véritable lieu événementiel où la culture et le divertissement sont à l’
	honneur.<br><a target="_blank" href="http://coldcrash.fr/">http://coldcras
	h.fr/</a><br>-- 🌭 RESTO🌭 --<br>L'autre cantine !! Cantine Solidaire !! Pri
	x Libre<br>-- INVOLVED GUEST -- OXFAM NANTES !!<br>Depuis 1988, l’associat
	ion Oxfam France (anciennement Agir ici) mobilise le pouvoir citoyen pour 
	lutter contre les inégalités et abolir la pauvreté. Ils apportent une aide
	 vitale aux populations les plus vulnérables du monde entier, car celles e
	t ceux qui subissent la violence de la pauvreté n’ont pas le temps d’atten
	dre que nos sociétés et nos économies changent. Sur la période avril 2022 
	à avril 2023, la confédération Oxfam a soutenu plus de 15 millions de pers
	onnes à travers le monde en assurant l’accès à l’eau, à de la nourriture, 
	à des systèmes et des produits d’hygiène et en distribuant des fonds.<br>A
	 discuter avec Oxfam --&gt; Inégalité et justice fiscale / Climat et énerg
	ie / Agriculture et sécurité alimentaire / inégalités mondiales / migratio
	ns / Humanitaire et urgneces / inégalités femmes hommes<br>-- ACCES --<br>
	4 Rue du Seil, 44400 Rezé<br>🚋/🚶‍♀️🚶‍♂️ (tram/+ à pied) - tram 3 arrêt 8 mai, pu
	is 7mins à pied (dernier tram 2H20 le weekend)<br>🚌/🚶‍♀️🚶‍♂️(bus/ + à pied) - bu
	s 36 arrêt Haute Ile (5secs à pied de la salle). Bus jusque 23h50 avec cor
	respondances, puis 00h50 en semaine peu importe la période, et jusque 2h50
	 le weekend !<br>🚲/🚗 (vélo ou voiture) - places de parking dans le quartie
	r, vélos : dans l'enceinte du lieu.<br>-- BILLETTERIE --<br>Préventes : 8€
	/10€<br>Sur place : 12€</p>
BEGIN:VALARM
ACTION:DISPLAY
DESCRIPTION:Invalved Social Club #20 // Rooty
TRIGGER:-PT1H
END:VALARM
END:VEVENT
END:VCALENDAR
