BEGIN:VCALENDAR
VERSION:2.0
CALSCALE:GREGORIAN
PRODID:adamgibbons/ics
METHOD:PUBLISH
X-PUBLISHED-TTL:PT1H
BEGIN:VEVENT
UID:106@dubagenda.top
SUMMARY:Invalved Social Club #18 // Sound Meeting Edition
DTSTAMP:20260421T141649Z
DTSTART:20260131T180000Z
DTEND:20260201T010000Z
DESCRIPTION:-- KREN DOUAR --\n"The Militant Reggae Punk Sound From The West
	ern Town"\nIls sont engagés et le chantent en français\, les Brestois de K
	ren Douard ramène\nleur système et viendront partager avec vous leur énerg
	ie. Entre reggae et\nmilitantisme punk\, get ready for the blast ! "Mais o
	u est ce qu'ils trouvent\ntoute cette énergie ?" ^^\nhttps://www.facebook.
	com/KrenDouarSoundSystem\n[https://www.facebook.com/KrenDouarSoundSystem]\
	nhttps://www.instagram.com/krendouar/ [https://www.instagram.com/krendouar
	/]\n-- ATARAXI --\n"The Free Independant\, Human and Militant Culture Defe
	nder"\nOrganisateur des soirées Syndicate of Dub\, résident des Block Fréq
	uencies avec\nMarée Bass\, les Ataraxis inondent le 44 depuis plus de 10 a
	ns de leurs\nsélections résolument tournée vers la modernité. Leur collabo
	ration avec la\nchanteuse Aniya ajoute une présence live qui fait toute la
	 différence ! "Mais ou\nest ce qu'ils trouvent.." --> bon ok je sors..\nht
	tps://www.facebook.com/ataraxysoundsystem\n[https://www.facebook.com/atara
	xysoundsystem]\nhttps://www.instagram.com/ataraxy.sound.system/\n[https://
	www.instagram.com/ataraxy.sound.system/]\n-- INVALVED SOUND --\n"The Power
	full Vibes Provider"\nDJ résident de la Social Club\, Invalved joue majori
	tairement du reggae Jamaïcain\nsur sa sono vintage. Entre classiques et ra
	retés dénichées au fil du temps\, on\nreplonge dans l'ambiance des Sounds 
	Systems fondateurs de cette scène.\nhttps://www.facebook.com/InvalvedSound
	System/\n[https://www.facebook.com/InvalvedSoundSystem/]\nhttps://www.face
	book.com/watch/?v=386039122015800\n[https://www.facebook.com/watch/?v=3860
	39122015800]\n-- SOCIAL CLUB --\nC'est le nom de nos soirées : good vibes\
	, beautiful smiles\, crazy dub\, involved\npeople\, nice food and premium 
	beer ! Merci de nous soutenir au fil du temps\,\ntoujours ravis de voir le
	s habitués et de nouvelles têtes se présenter !!\n-- COLD CRASH --\nCave à
	 bières mais aussi un véritable lieu événementiel où la culture et le\ndiv
	ertissement sont à l’honneur.\nhttp://coldcrash.fr/ [http://coldcrash.fr/]
	\n-- 🌭 RESTO🌭 --\nL'autre cantine !! Cantine Solidaire !! Prix Libre (cons
	eillé 3 à 5€)\n-- INVOLVED GUEST --\nTBA\n-- ACCES --\n4 Rue du Seil\, 444
	00 Rezé\n🚋/🚶‍♀️🚶‍♂️ (tram/+ à pied) - tram 3 arrêt 8 mai\, puis 7mins à pied (de
	rnier\ntram 2H20 le weekend)\n🚌/🚶‍♀️🚶‍♂️(bus/ + à pied) - bus 36 arrêt Haute Ile
	 (5secs à pied de la\nsalle). Bus jusque 23h50 avec correspondances\, puis
	 00h50 en semaine peu importe\nla période\, et jusque 2h50 le weekend !\n🚲
	/🚗 (vélo ou voiture) - places de parking dans le quartier\, vélos : dans\n
	l'enceinte du lieu.\n-- BILLETTERIE -- (soon come)\nPréventes : 8€/10€\nSu
	r place : 12€
URL:https://dubagenda.top/event/invalved-social-club-18-sound-meeting-editi
	on
GEO:47.1949813;-1.556941
LOCATION:44400 Rezé // Cold Crash - Brasserie Nautile\, 4\, Rue du Seil\, L
	e Port Au Blé\, Haute Île\, Rezé\, Nantes\, Loire-Atlantique\, Pays de la 
	Loire\, France métropolitaine\, 44400\, France
STATUS:CONFIRMED
CATEGORIES:Nantes,2026,Sound System
X-ALT-DESC;FMTTYPE=text/html:<p>-- KREN DOUAR --<br>"The Militant Reggae Pu
	nk Sound From The Western Town"<br>Ils sont engagés et le chantent en fran
	çais, les Brestois de Kren Douard ramène leur système et viendront partage
	r avec vous leur énergie. Entre reggae et militantisme punk, get ready for
	 the blast ! "Mais ou est ce qu'ils trouvent toute cette énergie ?" ^^<br>
	<a href="https://www.facebook.com/KrenDouarSoundSystem" target="_blank">ht
	tps://www.facebook.com/KrenDouarSoundSystem</a><br><a href="https://www.in
	stagram.com/krendouar/" target="_blank">https://www.instagram.com/krendoua
	r/</a><br>-- ATARAXI --<br>"The Free Independant, Human and Militant Cultu
	re Defender"<br>Organisateur des soirées Syndicate of Dub, résident des Bl
	ock Fréquencies avec Marée Bass, les Ataraxis inondent le 44 depuis plus d
	e 10 ans de leurs sélections résolument tournée vers la modernité. Leur co
	llaboration avec la chanteuse Aniya ajoute une présence live qui fait tout
	e la différence ! "Mais ou est ce qu'ils trouvent.." --&gt; bon ok je sors
	..<br><a href="https://www.facebook.com/ataraxysoundsystem" target="_blank
	">https://www.facebook.com/ataraxysoundsystem</a><br><a href="https://www.
	instagram.com/ataraxy.sound.system/" target="_blank">https://www.instagram
	.com/ataraxy.sound.system/</a><br>-- INVALVED SOUND --<br>"The Powerfull V
	ibes Provider"<br>DJ résident de la Social Club, Invalved joue majoritaire
	ment du reggae Jamaïcain sur sa sono vintage. Entre classiques et raretés 
	dénichées au fil du temps, on replonge dans l'ambiance des Sounds Systems 
	fondateurs de cette scène.<br><a href="https://www.facebook.com/InvalvedSo
	undSystem/" target="_blank">https://www.facebook.com/InvalvedSoundSystem/<
	/a><br><a href="https://www.facebook.com/watch/?v=386039122015800" target=
	"_blank">https://www.facebook.com/watch/?v=386039122015800</a><br>-- SOCIA
	L CLUB --<br>C'est le nom de nos soirées : good vibes, beautiful smiles, c
	razy dub, involved people, nice food and premium beer ! Merci de nous sout
	enir au fil du temps, toujours ravis de voir les habitués et de nouvelles 
	têtes se présenter !!<br>-- COLD CRASH --<br>Cave à bières mais aussi un v
	éritable lieu événementiel où la culture et le divertissement sont à l’hon
	neur.<br><a href="http://coldcrash.fr/" target="_blank">http://coldcrash.f
	r/</a><br>-- 🌭 RESTO🌭 --<br>L'autre cantine !! Cantine Solidaire !! Prix L
	ibre (conseillé 3 à 5€)<br>-- INVOLVED GUEST --<br>TBA<br>-- ACCES --<br>4
	 Rue du Seil, 44400 Rezé<br>🚋/🚶‍♀️🚶‍♂️ (tram/+ à pied) - tram 3 arrêt 8 mai, pui
	s 7mins à pied (dernier tram 2H20 le weekend)<br>🚌/🚶‍♀️🚶‍♂️(bus/ + à pied) - bus
	 36 arrêt Haute Ile (5secs à pied de la salle). Bus jusque 23h50 avec corr
	espondances, puis 00h50 en semaine peu importe la période, et jusque 2h50 
	le weekend !<br>🚲/🚗 (vélo ou voiture) - places de parking dans le quartier
	, vélos : dans l'enceinte du lieu.<br>-- BILLETTERIE -- (soon come)<br>Pré
	ventes : 8€/10€<br>Sur place : 12€</p>
BEGIN:VALARM
ACTION:DISPLAY
DESCRIPTION:Invalved Social Club #18 // Sound Meeting Edition
TRIGGER:-PT1H
END:VALARM
END:VEVENT
END:VCALENDAR
