BEGIN:VCALENDAR
VERSION:2.0
CALSCALE:GREGORIAN
PRODID:adamgibbons/ics
METHOD:PUBLISH
X-PUBLISHED-TTL:PT1H
BEGIN:VEVENT
UID:91@dubagenda.top
SUMMARY:Invalved Social Club #17 // Murray Man
DTSTAMP:20260421T135719Z
DTSTART:20251213T180000Z
DTEND:20251214T004500Z
DESCRIPTION:Lord Murray Man\, connu pour ses talents de chanteurs\, de MC e
	t aussi de\nproducteur du label anglais Mellow Vibes situé à Birmingham no
	us fait l'honneur\nde sa présence pour cette dix-septième édition des Soci
	al Club !!\n-- INVALVED SOUND --\n"The Powerfull Vibes Provider"\nDJ résid
	ent de la Social Club\, Invalved joue majoritairement du reggae Jamaïcain\
	nsur sa sono vintage. Entre classiques et raretés dénichées au fil du temp
	s\, on\nreplonge dans l'ambiance des Sounds Systems fondateurs de cette sc
	ène.\nhttps://www.facebook.com/InvalvedSoundSystem/\n[https://www.facebook
	.com/InvalvedSoundSystem/]\nhttps://www.facebook.com/watch/?v=386039122015
	800\n[https://www.facebook.com/watch/?v=386039122015800]\n-- SOCIAL CLUB -
	-\nC'est le nom de nos soirées : good vibes\, beautiful smiles\, crazy dub
	\, involved\npeople\, nice food and premium beer ! Merci de nous soutenir 
	au fil du temps\,\ntoujours ravis de voir les habitués et de nouvelles têt
	es se présenter !!\n-- COLD CRASH --\nCave à bières mais aussi un véritabl
	e lieu événementiel où la culture et le\ndivertissement sont à l’honneur.\
	nhttp://coldcrash.fr/ [http://coldcrash.fr/]\n-- 🌭 RESTO🌭 --\nL'autre cant
	ine !! Cantine Solidaire !! Prix Libre\n-- INVOLVED GUEST --\nTBC\n-- ACCE
	S --\n4 Rue du Seil\, 44400 Rezé\n🚋/🚶‍♀️🚶‍♂️ (tram/+ à pied) - tram 3 arrêt 8 ma
	i\, puis 7mins à pied (dernier\ntram 2H20 le weekend)\n🚌/🚶‍♀️🚶‍♂️(bus/ + à pied)
	 - bus 36 arrêt Haute Ile (5secs à pied de la\nsalle). Bus jusque 23h50 av
	ec correspondances\, puis 00h50 en semaine peu importe\nla période\, et ju
	sque 2h50 le weekend !\n🚲/🚗 (vélo ou voiture) - places de parking dans le 
	quartier\, vélos : dans\nl'enceinte du lieu.\n-- BILLETTERIE --\nPrévente 
	: 8/10€\nSur place : 12€
URL:https://dubagenda.top/event/invalved-social-club-17-murray-man
GEO:47.1949813;-1.556941
LOCATION:44400 Rezé // Cold Crash - Brasserie Nautile\, 4\, Rue du Seil\, L
	e Port Au Blé\, Haute Île\, Rezé\, Nantes\, Loire-Atlantique\, Pays de la 
	Loire\, France métropolitaine\, 44400\, France
STATUS:CONFIRMED
CATEGORIES:2025,Nantes,Sound System
X-ALT-DESC;FMTTYPE=text/html:<p>Lord Murray Man, connu pour ses talents de 
	chanteurs, de MC et aussi de producteur du label anglais Mellow Vibes situ
	é à Birmingham nous fait l'honneur de sa présence pour cette dix-septième 
	édition des Social Club !!<br>-- INVALVED SOUND --<br>"The Powerfull Vibes
	 Provider"<br>DJ résident de la Social Club, Invalved joue majoritairement
	 du reggae Jamaïcain sur sa sono vintage. Entre classiques et raretés déni
	chées au fil du temps, on replonge dans l'ambiance des Sounds Systems fond
	ateurs de cette scène.<br><a target="_blank" href="https://www.facebook.co
	m/InvalvedSoundSystem/">https://www.facebook.com/InvalvedSoundSystem/</a><
	br><a target="_blank" href="https://www.facebook.com/watch/?v=386039122015
	800">https://www.facebook.com/watch/?v=386039122015800</a><br>-- SOCIAL CL
	UB --<br>C'est le nom de nos soirées : good vibes, beautiful smiles, crazy
	 dub, involved people, nice food and premium beer ! Merci de nous soutenir
	 au fil du temps, toujours ravis de voir les habitués et de nouvelles tête
	s se présenter !!<br>-- COLD CRASH --<br>Cave à bières mais aussi un vérit
	able lieu événementiel où la culture et le divertissement sont à l’honneur
	.<br><a target="_blank" href="http://coldcrash.fr/">http://coldcrash.fr/</
	a><br>-- 🌭 RESTO🌭 --<br>L'autre cantine !! Cantine Solidaire !! Prix Libre
	<br>-- INVOLVED GUEST --<br>TBC<br>-- ACCES --<br>4 Rue du Seil, 44400 Rez
	é<br>🚋/🚶‍♀️🚶‍♂️ (tram/+ à pied) - tram 3 arrêt 8 mai, puis 7mins à pied (dernier
	 tram 2H20 le weekend)<br>🚌/🚶‍♀️🚶‍♂️(bus/ + à pied) - bus 36 arrêt Haute Ile (5s
	ecs à pied de la salle). Bus jusque 23h50 avec correspondances, puis 00h50
	 en semaine peu importe la période, et jusque 2h50 le weekend !<br>🚲/🚗 (vé
	lo ou voiture) - places de parking dans le quartier, vélos : dans l'encein
	te du lieu.<br>-- BILLETTERIE --<br>Prévente : 8/10€<br>Sur place : 12€</p
	>
BEGIN:VALARM
ACTION:DISPLAY
DESCRIPTION:Invalved Social Club #17 // Murray Man
TRIGGER:-PT1H
END:VALARM
END:VEVENT
END:VCALENDAR
