BEGIN:VCALENDAR
VERSION:2.0
CALSCALE:GREGORIAN
PRODID:adamgibbons/ics
METHOD:PUBLISH
X-PUBLISHED-TTL:PT1H
BEGIN:VEVENT
UID:24@dubagenda.top
SUMMARY:Invalved Social Club #15
DTSTAMP:20260421T135631Z
DTSTART:20250913T140000Z
DTEND:20250914T000000Z
DESCRIPTION:La 15e édition des Social Club ça se fête !\nOn invite les copa
	ins\, les activistes\, les bénévoles avec qui on partage cette\naventure à
	 venir vous présenter leurs projets et leurs talents ! Get ready !\nLa pre
	mière partie de la journée se déroulera en extérieur pour profiter du beau
	\ntemps.\nGET UP! RADIO SHOW\nLes activistes du GURS : King Ju\, Célia\, T
	hib et Hugo viendront partager avec\nvous leurs sélection en live & direct
	 de 16h à 19h !! (extérieur)\nPURRING SOUND\nAlex et Sylvain viendront pré
	senter pour la première fois à la social club leur\nsélections ! Get ready
	 !\n19h 20h (extérieur)\nFOEYMAN\nFin connaisseur du early reggae\, vous a
	vez sûrement déjà écouté les sweet\nbiscuits 7" Ska\, Rocksteady et Roots 
	de Mr Foeyman à nos soirées ! Come Early if\nyou want to Rocksteady !\n20h
	 22h (extérieur)\nINVALVED X NRS X DUB LIVITY\nNouvelle réunions des trois
	 mousquetaires : on se relaierai toutes les 30\nminutes avec NRS\, Invalve
	d et Dub livity jusqu'au bout de la soirée ! Objectif\nN°1 : vous faire da
	nser !\n22h 2h (intérieur
URL:https://dubagenda.top/event/invalved-social-club-15
GEO:47.1949813;-1.556941
LOCATION:44400 Rezé // Cold Crash - Brasserie Nautile\, 4\, Rue du Seil\, L
	e Port Au Blé\, Haute Île\, Rezé\, Nantes\, Loire-Atlantique\, Pays de la 
	Loire\, France métropolitaine\, 44400\, France
STATUS:CONFIRMED
CATEGORIES:2025,Nantes,Sound System
X-ALT-DESC;FMTTYPE=text/html:<p>La 15e édition des Social Club ça se fête !
	<br>On invite les copains, les activistes, les bénévoles avec qui on parta
	ge cette aventure à venir vous présenter leurs projets et leurs talents ! 
	Get ready !<br>La première partie de la journée se déroulera en extérieur 
	pour profiter du beau temps.<br>GET UP! RADIO SHOW<br>Les activistes du GU
	RS : King Ju, Célia, Thib et Hugo viendront partager avec vous leurs sélec
	tion en live &amp; direct de 16h à 19h !! (extérieur)<br>PURRING SOUND<br>
	Alex et Sylvain viendront présenter pour la première fois à la social club
	 leur sélections ! Get ready !<br>19h 20h (extérieur)<br>FOEYMAN<br>Fin co
	nnaisseur du early reggae, vous avez sûrement déjà écouté les sweet biscui
	ts 7" Ska, Rocksteady et Roots de Mr Foeyman à nos soirées ! Come Early if
	 you want to Rocksteady !<br>20h 22h (extérieur)<br>INVALVED X NRS X DUB L
	IVITY<br>Nouvelle réunions des trois mousquetaires : on se relaierai toute
	s les 30 minutes avec NRS, Invalved et Dub livity jusqu'au bout de la soir
	ée ! Objectif N°1 : vous faire danser !<br>22h 2h (intérieur</p>
BEGIN:VALARM
ACTION:DISPLAY
DESCRIPTION:Invalved Social Club #15
TRIGGER:-PT1H
END:VALARM
END:VEVENT
END:VCALENDAR
