BEGIN:VCALENDAR
VERSION:2.0
CALSCALE:GREGORIAN
PRODID:adamgibbons/ics
METHOD:PUBLISH
X-PUBLISHED-TTL:PT1H
BEGIN:VEVENT
UID:89@dubagenda.top
SUMMARY:Inner Vibration #5
DTSTAMP:20260421T150636Z
DTSTART:20251206T180000Z
DTEND:20251207T010000Z
DESCRIPTION:INNER VIBRATION #5 🎛 Rendez vous le 6 décembre dans le sous sol
	 de la Taverne\npour groover tous ensemble! Première sortie full sono 3bas
	s🔊Et cette fois ci en\ncompagnie des frangins Groundzags qui nous feront r
	ooster💥 Réserves ton samedi!\nInfos pratiques:\nEntrée 4 euros (espèce uni
	quement)\nL'aile ou la cuisse/La taverne ancenis 672 Rue des Maîtres\, 441
	50\nAncenis-Saint-Géréon\n19h-2h\n3bass
URL:https://dubagenda.top/event/inner-vibration-5
GEO:47.3702805;-1.189833
LOCATION:44150 Ancenis // La Taverne - Boulevard Montaigne\, Le Clos Géréon
	\, Le Tertre\, Saint-Géréon\, Ancenis-Saint-Géréon\, Châteaubriant-Ancenis
	\, Loire-Atlantique\, Pays de la Loire\, France métropolitaine\, 44150\, F
	rance
STATUS:CONFIRMED
CATEGORIES:2025,Nantes,Sound System
X-ALT-DESC;FMTTYPE=text/html:<p>INNER VIBRATION #5 🎛 Rendez vous le 6 décem
	bre dans le sous sol de la Taverne pour groover tous ensemble! Première so
	rtie full sono 3bass🔊Et cette fois ci en compagnie des frangins Groundzags
	 qui nous feront rooster💥 Réserves ton samedi!<br>Infos pratiques:<br>Entr
	ée 4 euros (espèce uniquement)<br>L'aile ou la cuisse/La taverne ancenis 6
	72 Rue des Maîtres, 44150 Ancenis-Saint-Géréon<br>19h-2h<br>3bass</p>
BEGIN:VALARM
ACTION:DISPLAY
DESCRIPTION:Inner Vibration #5
TRIGGER:-PT1H
END:VALARM
END:VEVENT
END:VCALENDAR
