BEGIN:VCALENDAR
VERSION:2.0
CALSCALE:GREGORIAN
PRODID:adamgibbons/ics
METHOD:PUBLISH
X-PUBLISHED-TTL:PT1H
BEGIN:VEVENT
UID:30@dubagenda.top
SUMMARY:Ina Yard Style #3
DTSTAMP:20260421T152319Z
DTSTART:20250823T140000Z
DTEND:20250823T213000Z
URL:https://dubagenda.top/event/ina-yard-style-3
GEO:48.0973921;-1.7270484
LOCATION:35000 Rennes // La Basse Cour - Chemin Robert de Boron\, Sainte-Fo
	ix\, La Prévalaye\, Cleunay - Arsenal-Redon\, Quartiers Ouest\, Rennes\, I
	lle-et-Vilaine\, Bretagne\, France métropolitaine\, 35920\, France
STATUS:CONFIRMED
CATEGORIES:2025,35,Sound System
BEGIN:VALARM
ACTION:DISPLAY
DESCRIPTION:Ina Yard Style #3
TRIGGER:-PT1H
END:VALARM
END:VEVENT
END:VCALENDAR
