BEGIN:VCALENDAR
VERSION:2.0
CALSCALE:GREGORIAN
PRODID:adamgibbons/ics
METHOD:PUBLISH
X-PUBLISHED-TTL:PT1H
BEGIN:VEVENT
UID:125@dubagenda.top
SUMMARY:In Local We Dub #3 // Dub Armor & Kren Drouar
DTSTAMP:20260421T135314Z
DTSTART:20260214T180000Z
DTEND:20260215T000000Z
DESCRIPTION:La saison 2026 est lancée ! 💚💛❤️\nOn se retrouve le 14 février p
	our la 3ème In Locoal We Dub ✌️\nPour cette édition\, nouvelle connexion !\
	nNous aurons le plaisir de jouer aux côtés du\nKren Douar Soundsytem ! 🙏\n
	Tu as hâte de participer? 😎\n\nSee you sooon massives\nDes bisous du Woofa
	tKrew 🫶
URL:https://dubagenda.top/event/in-local-we-dub-3-dub-armor-and-kren-drouar
GEO:47.710863;-3.1106616
LOCATION:56550 Locoal Mendon // Salle Emeraude - Rue de Lann Ihuel\, Keroul
	in\, Locoal-Mendon\, Lorient\, Morbihan\, Bretagne\, France métropolitaine
	\, 56550\, France
STATUS:CONFIRMED
CATEGORIES:56,2026,Sound System
X-ALT-DESC;FMTTYPE=text/html:<p>La saison 2026 est lancée ! 💚💛❤️<br>On se re
	trouve le 14 février pour la 3ème In Locoal We Dub ✌️<br>Pour cette édition
	, nouvelle connexion !<br>Nous aurons le plaisir de jouer aux côtés du<br>
	Kren Douar Soundsytem ! 🙏<br>Tu as hâte de participer? 😎<br><br>See you so
	oon massives<br>Des bisous du WoofatKrew 🫶</p>
BEGIN:VALARM
ACTION:DISPLAY
DESCRIPTION:In Local We Dub #3 // Dub Armor & Kren Drouar
TRIGGER:-PT1H
END:VALARM
END:VEVENT
END:VCALENDAR
