BEGIN:VCALENDAR
VERSION:2.0
CALSCALE:GREGORIAN
PRODID:adamgibbons/ics
METHOD:PUBLISH
X-PUBLISHED-TTL:PT1H
BEGIN:VEVENT
UID:177@dubagenda.top
SUMMARY:House Of Vibes #13 // Omega Nebula 🚀 [free]
DTSTAMP:20260421T135559Z
DTSTART:20260418T190000Z
DTEND:20260419T000000Z
DESCRIPTION:🚀 𝗛𝗢𝗨𝗦𝗘 𝗢𝗙 𝗩𝗜𝗕𝗘𝗦 #𝟭𝟯 - 𝗢𝗠𝗘𝗚𝗔 𝗡𝗘𝗕𝗨𝗟𝗔 🚀\n\n✨ 𝗢𝗠𝗘𝗚𝗔 𝗡𝗘𝗕𝗨𝗟𝗔 est un 
	duo live dub qui explore les confins d’un\nunivers sonore profond et hypno
	tique.\nElle : une voix incroyable\, une énergie contagieuse.\nLui: des ba
	sses massives\, des échos infinis et cosmiques.\nOmega Nebula se déguste e
	n live\, en dansant\, armés de vos meilleurs pas.\nInfluencés par le dub r
	oots autant que par les sonorités électroniques modernes\,\nOmega Nebula f
	açonne des paysages sonores où la vibration devient voyage. Chaque\nperfor
	mance est une immersion : un dialogue entre rythmiques lourdes\, nappes\ns
	patiales et manipulations en direct\, dans la pure tradition du Dub live.\
	n\nPour cette édition de 𝗛𝗢𝗨𝗦𝗘 𝗢𝗙 𝗩𝗜𝗕𝗘𝗦\, le duo promet un set intense\net
	 évolutif\, taillé pour le sound system et les esprits ouverts. Une traver
	sée\nmusicale avec aux manettes de sa Rési-Dance Krak in Dub.\n\nOmega Neb
	ula atterri le 18 avril à Little Atlantique Brewery pour la soirée\nHouse 
	of Vibes de Krak in Dub : préparez-vous à décoller. 🚀🔊✨\n\n___________\n🍺 
	𝗕𝗜𝗘̀𝗥𝗘𝗦 𝗕𝗥𝗔𝗦𝗦𝗘́𝗘𝗦 𝗦𝗨𝗥 𝗣𝗟𝗔𝗖𝗘\, 𝗥𝗘𝗦𝗧𝗔𝗨𝗥𝗔𝗧𝗜𝗢𝗡\n𝗧𝗢𝗣\, 𝗠𝗨𝗦𝗜𝗤𝗨𝗘 𝗘𝗧 𝗦𝗨𝗥𝗧𝗢𝗨𝗧... 𝗗𝗔
	𝗡𝗦𝗘 !!!\n📍 Little Atlantique Brewery\, 23 Bd de Chantenay\, Nantes\n🚲 À vé
	lo : stationnements disponibles\n🛥 En bateau : Navibus (depuis le Hangar à
	 Bananes ou Trentmoult)\n🚌 En bus : C1\, C20\, 81 & 10\n🚗 En voiture : Par
	king 220 places au bout de la rue
URL:https://dubagenda.top/event/house-of-vibes-13-omega-nebula-free
GEO:47.1961199;-1.5890314
LOCATION:44100 Nantes // Little Atlantique Brewery - Little Atlantique Brew
	ery\, Boulevard de Chantenay\, Cheviré - Zone portuaire\, Bellevue - Chant
	enay - Sainte-Anne\, Nantes\, Loire-Atlantique\, Pays de la Loire\, France
	 métropolitaine\, 44100\, France
STATUS:CONFIRMED
CATEGORIES:Nantes,2026,Sound System
X-ALT-DESC;FMTTYPE=text/html:<p>🚀 𝗛𝗢𝗨𝗦𝗘 𝗢𝗙 𝗩𝗜𝗕𝗘𝗦 #𝟭𝟯 - 𝗢𝗠𝗘𝗚𝗔 𝗡𝗘𝗕𝗨𝗟𝗔 🚀<br><b
	r>✨ 𝗢𝗠𝗘𝗚𝗔 𝗡𝗘𝗕𝗨𝗟𝗔 est un duo live dub qui explore les confins d’un univers 
	sonore profond et hypnotique.<br>Elle : une voix incroyable, une énergie c
	ontagieuse.<br>Lui: des basses massives, des échos infinis et cosmiques.<b
	r>Omega Nebula se déguste en live, en dansant, armés de vos meilleurs pas.
	 Influencés par le dub roots autant que par les sonorités électroniques mo
	dernes, Omega Nebula façonne des paysages sonores où la vibration devient 
	voyage. Chaque performance est une immersion : un dialogue entre rythmique
	s lourdes, nappes spatiales et manipulations en direct, dans la pure tradi
	tion du Dub live.<br><br>Pour cette édition de 𝗛𝗢𝗨𝗦𝗘 𝗢𝗙 𝗩𝗜𝗕𝗘𝗦, le duo prom
	et un set intense et évolutif, taillé pour le sound system et les esprits 
	ouverts. Une traversée musicale avec aux manettes de sa Rési-Dance Krak in
	 Dub.<br><br>Omega Nebula atterri le 18 avril à Little Atlantique Brewery 
	pour la soirée House of Vibes de Krak in Dub : préparez-vous à décoller. 🚀
	🔊✨<br><br>___________<br>🍺 𝗕𝗜𝗘̀𝗥𝗘𝗦 𝗕𝗥𝗔𝗦𝗦𝗘́𝗘𝗦 𝗦𝗨𝗥 𝗣𝗟𝗔𝗖𝗘, 𝗥𝗘𝗦𝗧𝗔𝗨𝗥𝗔𝗧𝗜𝗢𝗡 𝗧𝗢𝗣, 
	𝗠𝗨𝗦𝗜𝗤𝗨𝗘 𝗘𝗧 𝗦𝗨𝗥𝗧𝗢𝗨𝗧... 𝗗𝗔𝗡𝗦𝗘 !!!<br>📍 Little Atlantique Brewery, 23 Bd de C
	hantenay, Nantes<br>🚲 À vélo : stationnements disponibles<br>🛥 En bateau :
	 Navibus (depuis le Hangar à Bananes ou Trentmoult)<br>🚌 En bus : C1, C20,
	 81 &amp; 10<br>🚗 En voiture : Parking 220 places au bout de la rue</p>
BEGIN:VALARM
ACTION:DISPLAY
DESCRIPTION:House Of Vibes #13 // Omega Nebula 🚀 [free]
TRIGGER:-PT1H
END:VALARM
END:VEVENT
END:VCALENDAR
