BEGIN:VCALENDAR
VERSION:2.0
CALSCALE:GREGORIAN
PRODID:adamgibbons/ics
METHOD:PUBLISH
X-PUBLISHED-TTL:PT1H
BEGIN:VEVENT
UID:132@dubagenda.top
SUMMARY:House Of Vibes #12 // Sr Wilson
DTSTAMP:20260421T152026Z
DTSTART:20260307T200000Z
DTEND:20260308T010000Z
DESCRIPTION:𝐇𝐎𝐔𝐒𝐄 𝐎𝐅 𝐕𝐈𝐁𝐄𝐒 #12\nSR. WILSON (MC / Singer - Barcelona)\nIl a 
	débuté sa carrière dans le reggae il y a 15 ans et s’est imposé comme l’un
	\ndes chanteurs incontournables de la scène internationale\, fusionnant ph
	rasés\nhip-hop et reggae pour créer un son unique et personnel. Ayant nota
	mment\ncollaboré avec Manu Chao\, SR. WILSON sort avec O.B.F les classique
	s "Reggae\nRub-A-Dub"\, "Excursion Dub" et "Rub-A-Dub Mood" sur Dubquake R
	ecords.\nROOTS TABAGA\nUne belle sono\, des sélection musicales pointues\,
	 dansantes et lourdes\, ROOTS\nTABAGA accompagne House of Vibes depuis sa 
	première soirée au LAB. En charge de\nla sono du camping au DUB CAMP\, ils
	 brassent les bonnes vibes avec amour.\n𝐊𝐑𝐀𝐊 𝐈𝐍 𝐃𝐔𝐁\nDe retour de Colombie
	 avec plein de musique fraiche et piquante\, notre Live\nRésident nous pré
	pare un set Dub to Jungle explosif !\n//GRATUIT//\n𝘏𝘖𝘜𝘚𝘌 𝘖𝘍 𝘝𝘐𝘉𝘌𝘚 𝘓𝘢 𝘳𝘦𝘴𝘪-
	𝘥𝘢𝘯𝘤𝘦 𝘥𝘶 𝘒𝘪𝘥 : 30 𝘢𝘯𝘴\n𝘥'𝘶𝘯𝘦 𝘤𝘢𝘳𝘳𝘪𝘦𝘳𝘦 𝘪𝘯𝘵𝘦𝘳𝘯𝘢𝘵𝘪𝘰𝘯𝘢𝘭𝘦\, 𝘒𝘪𝘋 𝘱𝘢𝘶𝘴𝘦\n𝘴𝘦𝘴 𝘷𝘢𝘭𝘪
	𝘴𝘦𝘴 𝘢 𝘕𝘢𝘯𝘵𝘦𝘴 𝘰𝘶 𝘪𝘭 𝘳𝘦𝘫𝘰𝘪𝘯𝘵 𝘭𝘦\n𝘤𝘰𝘭𝘭𝘦𝘤𝘵𝘪𝘧 "𝘚𝘸𝘦𝘢𝘵 𝘓𝘰𝘥𝘨𝘦 𝘦𝘵 𝘪𝘯𝘴𝘵𝘢𝘭𝘭𝘦 𝘴𝘰𝘯\n𝘴𝘵𝘶
	𝘥𝘪𝘰. 𝘊𝘰𝘮𝘮𝘦 𝘵𝘰𝘶𝘫𝘰𝘶𝘳𝘴 𝘪𝘭 𝘮𝘶𝘭𝘵𝘪𝘱𝘭𝘪𝘦 𝘭𝘦𝘴\n𝘪𝘯𝘪𝘵𝘪𝘢𝘵𝘪𝘷𝘦𝘴 𝘦𝘵 𝘤𝘩𝘦𝘳𝘤𝘩𝘦 𝘥𝘦 𝘯𝘰𝘶𝘷𝘦𝘢𝘶𝘹 𝘭
	𝘪𝘦𝘶𝘹\n𝘱𝘰𝘶𝘳 𝘱𝘢𝘳𝘵𝘢𝘨𝘦𝘳 𝘴𝘰𝘯 𝘢𝘮𝘰𝘶𝘳 𝘥𝘦 𝘭𝘢 𝘔𝘶𝘴𝘪𝘲𝘶𝘦\, 𝘪𝘭 𝘴𝘦\n𝘱𝘰𝘴𝘦 𝘢𝘶 𝘓𝘈𝘉 !\n𝑩𝒊𝒆𝒓𝒆𝒔
	 𝒃𝒓𝒂𝒔𝒔𝒆𝒆𝒔 𝒔𝒖𝒓 𝒑𝒍𝒂𝒄𝒆\, 𝒓𝒆𝒔𝒕𝒂𝒖𝒓𝒂𝒕𝒊𝒐𝒏\n𝒕𝒐𝒑\, 𝒎𝒖𝒔𝒊𝒒𝒖𝒆 𝒆𝒕 𝒔𝒖𝒓𝒕𝒐𝒖𝒕 𝑫𝑨𝑵𝑪𝑬 !!!\nEn
	trée gratuite\nSamedi 07 mars 2026\nRestauration sur place\nStart 21 h\n23
	 Bd de Chantenay\, Nantes\nÀ vélo : stationnements disponibles\nEn bateau 
	: Navibus arrêt bas-chantenay (depuis le Hangar à Bananes)\nEn bus : C1\, 
	C20\, 81 & 10
URL:https://dubagenda.top/event/house-of-vibes-12-sr-wilson
GEO:47.1961199;-1.5890314
LOCATION:44100 Nantes // Little Atlantique Brewery - Little Atlantique Brew
	ery\, Boulevard de Chantenay\, Cheviré - Zone portuaire\, Bellevue - Chant
	enay - Sainte-Anne\, Nantes\, Loire-Atlantique\, Pays de la Loire\, France
	 métropolitaine\, 44100\, France
STATUS:CONFIRMED
CATEGORIES:Nantes,2026,Sound System
X-ALT-DESC;FMTTYPE=text/html:<p>𝐇𝐎𝐔𝐒𝐄 𝐎𝐅 𝐕𝐈𝐁𝐄𝐒 #12<br>SR. WILSON (MC / Sing
	er - Barcelona)<br>Il a débuté sa carrière dans le reggae il y a 15 ans et
	 s’est imposé comme l’un des chanteurs incontournables de la scène interna
	tionale, fusionnant phrasés hip-hop et reggae pour créer un son unique et 
	personnel. Ayant notamment collaboré avec Manu Chao, SR. WILSON sort avec 
	O.B.F les classiques "Reggae Rub-A-Dub", "Excursion Dub" et "Rub-A-Dub Moo
	d" sur Dubquake Records.<br>ROOTS TABAGA<br>Une belle sono, des sélection 
	musicales pointues, dansantes et lourdes, ROOTS TABAGA accompagne House of
	 Vibes depuis sa première soirée au LAB. En charge de la sono du camping a
	u DUB CAMP, ils brassent les bonnes vibes avec amour.<br>𝐊𝐑𝐀𝐊 𝐈𝐍 𝐃𝐔𝐁<br>De
	 retour de Colombie avec plein de musique fraiche et piquante, notre Live 
	Résident nous prépare un set Dub to Jungle explosif !<br>//GRATUIT//<br>𝘏𝘖
	𝘜𝘚𝘌 𝘖𝘍 𝘝𝘐𝘉𝘌𝘚 𝘓𝘢 𝘳𝘦𝘴𝘪-𝘥𝘢𝘯𝘤𝘦 𝘥𝘶 𝘒𝘪𝘥 : 30 𝘢𝘯𝘴 𝘥'𝘶𝘯𝘦 𝘤𝘢𝘳𝘳𝘪𝘦𝘳𝘦 𝘪𝘯𝘵𝘦𝘳𝘯𝘢𝘵𝘪𝘰𝘯𝘢𝘭𝘦, 
	𝘒𝘪𝘋 𝘱𝘢𝘶𝘴𝘦 𝘴𝘦𝘴 𝘷𝘢𝘭𝘪𝘴𝘦𝘴 𝘢 𝘕𝘢𝘯𝘵𝘦𝘴 𝘰𝘶 𝘪𝘭 𝘳𝘦𝘫𝘰𝘪𝘯𝘵 𝘭𝘦 𝘤𝘰𝘭𝘭𝘦𝘤𝘵𝘪𝘧 "𝘚𝘸𝘦𝘢𝘵 𝘓𝘰𝘥𝘨𝘦 𝘦𝘵 
	𝘪𝘯𝘴𝘵𝘢𝘭𝘭𝘦 𝘴𝘰𝘯 𝘴𝘵𝘶𝘥𝘪𝘰. 𝘊𝘰𝘮𝘮𝘦 𝘵𝘰𝘶𝘫𝘰𝘶𝘳𝘴 𝘪𝘭 𝘮𝘶𝘭𝘵𝘪𝘱𝘭𝘪𝘦 𝘭𝘦𝘴 𝘪𝘯𝘪𝘵𝘪𝘢𝘵𝘪𝘷𝘦𝘴 𝘦𝘵 𝘤𝘩𝘦𝘳𝘤𝘩
	𝘦 𝘥𝘦 𝘯𝘰𝘶𝘷𝘦𝘢𝘶𝘹 𝘭𝘪𝘦𝘶𝘹 𝘱𝘰𝘶𝘳 𝘱𝘢𝘳𝘵𝘢𝘨𝘦𝘳 𝘴𝘰𝘯 𝘢𝘮𝘰𝘶𝘳 𝘥𝘦 𝘭𝘢 𝘔𝘶𝘴𝘪𝘲𝘶𝘦, 𝘪𝘭 𝘴𝘦 𝘱𝘰𝘴𝘦 𝘢𝘶 𝘓
	𝘈𝘉 !<br>𝑩𝒊𝒆𝒓𝒆𝒔 𝒃𝒓𝒂𝒔𝒔𝒆𝒆𝒔 𝒔𝒖𝒓 𝒑𝒍𝒂𝒄𝒆, 𝒓𝒆𝒔𝒕𝒂𝒖𝒓𝒂𝒕𝒊𝒐𝒏 𝒕𝒐𝒑, 𝒎𝒖𝒔𝒊𝒒𝒖𝒆 𝒆𝒕 𝒔𝒖𝒓𝒕𝒐𝒖𝒕 𝑫𝑨
	𝑵𝑪𝑬 !!!<br>Entrée gratuite<br>Samedi 07 mars 2026<br>Restauration sur plac
	e<br>Start 21 h<br>23 Bd de Chantenay, Nantes<br>À vélo : stationnements d
	isponibles<br>En bateau : Navibus arrêt bas-chantenay (depuis le Hangar à 
	Bananes)<br>En bus : C1, C20, 81 &amp; 10</p>
BEGIN:VALARM
ACTION:DISPLAY
DESCRIPTION:House Of Vibes #12 // Sr Wilson
TRIGGER:-PT1H
END:VALARM
END:VEVENT
END:VCALENDAR
